BEGIN:VCALENDAR
VERSION:2.0
PRODID:-//Exposition Park - ECPv6.15.20//NONSGML v1.0//EN
CALSCALE:GREGORIAN
METHOD:PUBLISH
X-WR-CALNAME:Exposition Park
X-ORIGINAL-URL:https://expositionpark.ca.gov
X-WR-CALDESC:Events for Exposition Park
REFRESH-INTERVAL;VALUE=DURATION:PT1H
X-Robots-Tag:noindex
X-PUBLISHED-TTL:PT1H
BEGIN:VTIMEZONE
TZID:America/Los_Angeles
BEGIN:DAYLIGHT
TZOFFSETFROM:-0800
TZOFFSETTO:-0700
TZNAME:PDT
DTSTART:20150308T100000
END:DAYLIGHT
BEGIN:STANDARD
TZOFFSETFROM:-0700
TZOFFSETTO:-0800
TZNAME:PST
DTSTART:20151101T090000
END:STANDARD
BEGIN:DAYLIGHT
TZOFFSETFROM:-0800
TZOFFSETTO:-0700
TZNAME:PDT
DTSTART:20160313T100000
END:DAYLIGHT
BEGIN:STANDARD
TZOFFSETFROM:-0700
TZOFFSETTO:-0800
TZNAME:PST
DTSTART:20161106T090000
END:STANDARD
BEGIN:DAYLIGHT
TZOFFSETFROM:-0800
TZOFFSETTO:-0700
TZNAME:PDT
DTSTART:20170312T100000
END:DAYLIGHT
BEGIN:STANDARD
TZOFFSETFROM:-0700
TZOFFSETTO:-0800
TZNAME:PST
DTSTART:20171105T090000
END:STANDARD
END:VTIMEZONE
BEGIN:VEVENT
DTSTART;TZID=America/Los_Angeles:20161218T093000
DTEND;TZID=America/Los_Angeles:20161218T170000
DTSTAMP:20260420T201932
CREATED:20161216T223856Z
LAST-MODIFIED:20161216T223856Z
UID:10047655-1482053400-1482080400@expositionpark.ca.gov
SUMMARY:Birthday Parties
DESCRIPTION:Celebrate Your Birthday at the Museum!
URL:https://expositionpark.ca.gov/event/birthday-parties/
LOCATION:Natural History Museum of Los Angeles County\, 900 Exposition Blvd.\, Los Angeles\, CA\, 90007\, United States
GEO:34.0170769;-118.2886818
X-APPLE-STRUCTURED-LOCATION;VALUE=URI;X-ADDRESS=Natural History Museum of Los Angeles County 900 Exposition Blvd. Los Angeles CA 90007 United States;X-APPLE-RADIUS=500;X-TITLE=900 Exposition Blvd.:geo:-118.2886818,34.0170769
END:VEVENT
BEGIN:VEVENT
DTSTART;TZID=America/Los_Angeles:20161218T173000
DTEND;TZID=America/Los_Angeles:20161218T210000
DTSTAMP:20260420T201932
CREATED:20250517T004845Z
LAST-MODIFIED:20250517T004845Z
UID:10044159-1482082200-1482094800@expositionpark.ca.gov
SUMMARY:Kids In Sports
DESCRIPTION:
URL:https://expositionpark.ca.gov/event/kids-in-sports/2016-12-18/
LOCATION:EXPO Center\, 3980 Bill Robertson Lane\, Los Angeles\, CA\, 90037\, United States
GEO:34.0121136;-118.2900829
X-APPLE-STRUCTURED-LOCATION;VALUE=URI;X-ADDRESS=EXPO Center 3980 Bill Robertson Lane Los Angeles CA 90037 United States;X-APPLE-RADIUS=500;X-TITLE=3980 Bill Robertson Lane:geo:-118.2900829,34.0121136
END:VEVENT
BEGIN:VEVENT
DTSTART;TZID=America/Los_Angeles:20161218T173000
DTEND;TZID=America/Los_Angeles:20161218T223000
DTSTAMP:20260420T201933
CREATED:20160822T181547Z
LAST-MODIFIED:20160822T183747Z
UID:10044418-1482082200-1482100200@expositionpark.ca.gov
SUMMARY:San Pedro Soccer League
DESCRIPTION:
URL:https://expositionpark.ca.gov/event/san-pedro-sports-club/2016-12-18/
LOCATION:EXPO Center\, 3980 Bill Robertson Lane\, Los Angeles\, CA\, 90037\, United States
ORGANIZER;CN="Special Events":MAILTO:specialevents@nhm.org
GEO:34.0121136;-118.2900829
X-APPLE-STRUCTURED-LOCATION;VALUE=URI;X-ADDRESS=EXPO Center 3980 Bill Robertson Lane Los Angeles CA 90037 United States;X-APPLE-RADIUS=500;X-TITLE=3980 Bill Robertson Lane:geo:-118.2900829,34.0121136
END:VEVENT
BEGIN:VEVENT
DTSTART;TZID=America/Los_Angeles:20161219T080000
DTEND;TZID=America/Los_Angeles:20161219T170000
DTSTAMP:20260420T201933
CREATED:20161130T231811Z
LAST-MODIFIED:20161130T231811Z
UID:10047636-1482134400-1482166800@expositionpark.ca.gov
SUMMARY:First Shot Productions
DESCRIPTION:
URL:https://expositionpark.ca.gov/event/first-shot-productions/
LOCATION:State Drive & Visitor Parking Structure
END:VEVENT
BEGIN:VEVENT
DTSTART;TZID=America/Los_Angeles:20161220T173000
DTEND;TZID=America/Los_Angeles:20161220T210000
DTSTAMP:20260420T201933
CREATED:20250517T004845Z
LAST-MODIFIED:20250517T004845Z
UID:10044160-1482255000-1482267600@expositionpark.ca.gov
SUMMARY:Kids In Sports
DESCRIPTION:
URL:https://expositionpark.ca.gov/event/kids-in-sports/2016-12-20/
LOCATION:EXPO Center\, 3980 Bill Robertson Lane\, Los Angeles\, CA\, 90037\, United States
GEO:34.0121136;-118.2900829
X-APPLE-STRUCTURED-LOCATION;VALUE=URI;X-ADDRESS=EXPO Center 3980 Bill Robertson Lane Los Angeles CA 90037 United States;X-APPLE-RADIUS=500;X-TITLE=3980 Bill Robertson Lane:geo:-118.2900829,34.0121136
END:VEVENT
BEGIN:VEVENT
DTSTART;TZID=America/Los_Angeles:20161221T050000
DTEND;TZID=America/Los_Angeles:20161221T200000
DTSTAMP:20260420T201933
CREATED:20161118T234548Z
LAST-MODIFIED:20161118T234548Z
UID:10044177-1482296400-1482350400@expositionpark.ca.gov
SUMMARY:YOLA (Youth Orchestra Los Angeles)
DESCRIPTION:
URL:https://expositionpark.ca.gov/event/yola-youth-orchestra-los-angeles-2/2016-12-21/
LOCATION:EXPO Center\, 3980 Bill Robertson Lane\, Los Angeles\, CA\, 90037\, United States
GEO:34.0121136;-118.2900829
X-APPLE-STRUCTURED-LOCATION;VALUE=URI;X-ADDRESS=EXPO Center 3980 Bill Robertson Lane Los Angeles CA 90037 United States;X-APPLE-RADIUS=500;X-TITLE=3980 Bill Robertson Lane:geo:-118.2900829,34.0121136
END:VEVENT
BEGIN:VEVENT
DTSTART;TZID=America/Los_Angeles:20161221T173000
DTEND;TZID=America/Los_Angeles:20161221T210000
DTSTAMP:20260420T201933
CREATED:20161118T234025Z
LAST-MODIFIED:20161118T234025Z
UID:10044139-1482341400-1482354000@expositionpark.ca.gov
SUMMARY:Kids In Sports
DESCRIPTION:
URL:https://expositionpark.ca.gov/event/kids-in-sports/2016-12-21/
LOCATION:EXPO Center\, 3980 Bill Robertson Lane\, Los Angeles\, CA\, 90037\, United States
GEO:34.0121136;-118.2900829
X-APPLE-STRUCTURED-LOCATION;VALUE=URI;X-ADDRESS=EXPO Center 3980 Bill Robertson Lane Los Angeles CA 90037 United States;X-APPLE-RADIUS=500;X-TITLE=3980 Bill Robertson Lane:geo:-118.2900829,34.0121136
END:VEVENT
BEGIN:VEVENT
DTSTART;TZID=America/Los_Angeles:20161222T173000
DTEND;TZID=America/Los_Angeles:20161222T210000
DTSTAMP:20260420T201933
CREATED:20250517T004845Z
LAST-MODIFIED:20250517T004845Z
UID:10044161-1482427800-1482440400@expositionpark.ca.gov
SUMMARY:Kids In Sports
DESCRIPTION:
URL:https://expositionpark.ca.gov/event/kids-in-sports/2016-12-22/
LOCATION:EXPO Center\, 3980 Bill Robertson Lane\, Los Angeles\, CA\, 90037\, United States
GEO:34.0121136;-118.2900829
X-APPLE-STRUCTURED-LOCATION;VALUE=URI;X-ADDRESS=EXPO Center 3980 Bill Robertson Lane Los Angeles CA 90037 United States;X-APPLE-RADIUS=500;X-TITLE=3980 Bill Robertson Lane:geo:-118.2900829,34.0121136
END:VEVENT
BEGIN:VEVENT
DTSTART;TZID=America/Los_Angeles:20161223T210000
DTEND;TZID=America/Los_Angeles:20161223T223000
DTSTAMP:20260420T201933
CREATED:20160822T180507Z
LAST-MODIFIED:20160824T232941Z
UID:10044392-1482526800-1482532200@expositionpark.ca.gov
SUMMARY:San Pedro Soccer League
DESCRIPTION:
URL:https://expositionpark.ca.gov/event/san-pedro-soccer-league/2016-12-23/
LOCATION:EXPO Center\, 3980 Bill Robertson Lane\, Los Angeles\, CA\, 90037\, United States
ORGANIZER;CN="Special Events":MAILTO:specialevents@nhm.org
GEO:34.0121136;-118.2900829
X-APPLE-STRUCTURED-LOCATION;VALUE=URI;X-ADDRESS=EXPO Center 3980 Bill Robertson Lane Los Angeles CA 90037 United States;X-APPLE-RADIUS=500;X-TITLE=3980 Bill Robertson Lane:geo:-118.2900829,34.0121136
END:VEVENT
BEGIN:VEVENT
DTSTART;TZID=America/Los_Angeles:20161224T090000
DTEND;TZID=America/Los_Angeles:20161224T170000
DTSTAMP:20260420T201933
CREATED:20160714T235020Z
LAST-MODIFIED:20161117T040250Z
UID:10044124-1482570000-1482598800@expositionpark.ca.gov
SUMMARY:Birthday
DESCRIPTION:Celebrate Your Birthday at the Museum!\nWhether you or your child dreams of someday becoming a world-renowned paleontologist\, has a love affair with butterflies\, or is intrigued by gems celebrating your birthday at the Museum is an experience of a lifetime! \nParties are at 10 am\, 12:30 pm\, and 3 pm. \nBirthday parties must be booked at least two weeks in advance. Booking two months ahead is highly recommended! \nNHM.org/birthdays
URL:https://expositionpark.ca.gov/event/birthday-29/2016-12-24/
LOCATION:Natural History Museum\, 900 Exposition Blvd\, Los Angeles\, CA\, 90037\, United States
GEO:34.0170769;-118.2886818
X-APPLE-STRUCTURED-LOCATION;VALUE=URI;X-ADDRESS=Natural History Museum 900 Exposition Blvd Los Angeles CA 90037 United States;X-APPLE-RADIUS=500;X-TITLE=900 Exposition Blvd:geo:-118.2886818,34.0170769
END:VEVENT
BEGIN:VEVENT
DTSTART;TZID=America/Los_Angeles:20161224T103000
DTEND;TZID=America/Los_Angeles:20161224T133000
DTSTAMP:20260420T201933
CREATED:20160714T233833Z
LAST-MODIFIED:20160714T233833Z
UID:10044045-1482575400-1482586200@expositionpark.ca.gov
SUMMARY:Social Event
DESCRIPTION:Venue: Wallis Annenberg Building
URL:https://expositionpark.ca.gov/event/social-event-59/
LOCATION:CA\, United States
ORGANIZER;CN="Kari Mendez":MAILTO:kmendez@cscmail.org
END:VEVENT
BEGIN:VEVENT
DTSTART;TZID=America/Los_Angeles:20161224T132500
DTEND;TZID=America/Los_Angeles:20161224T172500
DTSTAMP:20260420T201933
CREATED:20160421T210211Z
LAST-MODIFIED:20160421T210211Z
UID:10043916-1482585900-1482600300@expositionpark.ca.gov
SUMMARY:LA Rams vs San Francisco 49ers
DESCRIPTION:The Rams were L.A.’s first professional sports team and called Los Angeles home from 1946-1994. In 2016\, we are returning home to build on our rich history. Fill out a contact form to receive more information as it becomes available. \nJoin Here
URL:https://expositionpark.ca.gov/event/la-rams-vs-san-francisco-49ers/
LOCATION:Los Angeles Memorial Coliseum\, 3911 S. Figueroa Street\, Los Angeles\, CA\, 90037\, United States
ORGANIZER;CN="Los Angeles Rams":MAILTO:info@therams.com
GEO:34.0128523;-118.2845395
X-APPLE-STRUCTURED-LOCATION;VALUE=URI;X-ADDRESS=Los Angeles Memorial Coliseum 3911 S. Figueroa Street Los Angeles CA 90037 United States;X-APPLE-RADIUS=500;X-TITLE=3911 S. Figueroa Street:geo:-118.2845395,34.0128523
END:VEVENT
BEGIN:VEVENT
DTSTART;TZID=America/Los_Angeles:20161224T173000
DTEND;TZID=America/Los_Angeles:20161224T210000
DTSTAMP:20260420T201933
CREATED:20250517T004845Z
LAST-MODIFIED:20250517T004845Z
UID:10044162-1482600600-1482613200@expositionpark.ca.gov
SUMMARY:Kids In Sports
DESCRIPTION:
URL:https://expositionpark.ca.gov/event/kids-in-sports/2016-12-24/
LOCATION:EXPO Center\, 3980 Bill Robertson Lane\, Los Angeles\, CA\, 90037\, United States
GEO:34.0121136;-118.2900829
X-APPLE-STRUCTURED-LOCATION;VALUE=URI;X-ADDRESS=EXPO Center 3980 Bill Robertson Lane Los Angeles CA 90037 United States;X-APPLE-RADIUS=500;X-TITLE=3980 Bill Robertson Lane:geo:-118.2900829,34.0121136
END:VEVENT
END:VCALENDAR