BEGIN:VCALENDAR
VERSION:2.0
PRODID:-//Exposition Park - ECPv6.15.20//NONSGML v1.0//EN
CALSCALE:GREGORIAN
METHOD:PUBLISH
X-WR-CALNAME:Exposition Park
X-ORIGINAL-URL:https://expositionpark.ca.gov
X-WR-CALDESC:Events for Exposition Park
REFRESH-INTERVAL;VALUE=DURATION:PT1H
X-Robots-Tag:noindex
X-PUBLISHED-TTL:PT1H
BEGIN:VTIMEZONE
TZID:America/Los_Angeles
BEGIN:DAYLIGHT
TZOFFSETFROM:-0800
TZOFFSETTO:-0700
TZNAME:PDT
DTSTART:20170312T100000
END:DAYLIGHT
BEGIN:STANDARD
TZOFFSETFROM:-0700
TZOFFSETTO:-0800
TZNAME:PST
DTSTART:20171105T090000
END:STANDARD
BEGIN:DAYLIGHT
TZOFFSETFROM:-0800
TZOFFSETTO:-0700
TZNAME:PDT
DTSTART:20180311T100000
END:DAYLIGHT
BEGIN:STANDARD
TZOFFSETFROM:-0700
TZOFFSETTO:-0800
TZNAME:PST
DTSTART:20181104T090000
END:STANDARD
BEGIN:DAYLIGHT
TZOFFSETFROM:-0800
TZOFFSETTO:-0700
TZNAME:PDT
DTSTART:20190310T100000
END:DAYLIGHT
BEGIN:STANDARD
TZOFFSETFROM:-0700
TZOFFSETTO:-0800
TZNAME:PST
DTSTART:20191103T090000
END:STANDARD
END:VTIMEZONE
BEGIN:VEVENT
DTSTART;TZID=America/Los_Angeles:20180107T070000
DTEND;TZID=America/Los_Angeles:20180107T180000
DTSTAMP:20260421T085025
CREATED:20171116T225637Z
LAST-MODIFIED:20171116T225637Z
UID:10048416-1515308400-1515348000@expositionpark.ca.gov
SUMMARY:Lifeguard Rechecks
DESCRIPTION:Lifeguard Rechecks will be taking place from 7 am to 6 pm in the North and South Competition Pools as well as in Comrie Hall.
URL:https://expositionpark.ca.gov/event/lifeguard-rechecks-5/
LOCATION:EXPO Center/ John C Argue Swim Stadium\, 3980 Bill Robertson Lane\, Los Angeles\, CA\, 90037\, United States
GEO:34.0121136;-118.2900829
X-APPLE-STRUCTURED-LOCATION;VALUE=URI;X-ADDRESS=EXPO Center/ John C Argue Swim Stadium 3980 Bill Robertson Lane Los Angeles CA 90037 United States;X-APPLE-RADIUS=500;X-TITLE=3980 Bill Robertson Lane:geo:-118.2900829,34.0121136
END:VEVENT
BEGIN:VEVENT
DTSTART;TZID=America/Los_Angeles:20180107T080000
DTEND;TZID=America/Los_Angeles:20180107T170000
DTSTAMP:20260421T085025
CREATED:20170215T230650Z
LAST-MODIFIED:20170215T230650Z
UID:10047080-1515312000-1515344400@expositionpark.ca.gov
SUMMARY:Vermont Sports Club
DESCRIPTION:
URL:https://expositionpark.ca.gov/event/vermont-sports-club-9/2018-01-07/
LOCATION:EXPO Center\, 3980 Bill Robertson Lane\, Los Angeles\, CA\, 90037\, United States
GEO:34.0121136;-118.2900829
X-APPLE-STRUCTURED-LOCATION;VALUE=URI;X-ADDRESS=EXPO Center 3980 Bill Robertson Lane Los Angeles CA 90037 United States;X-APPLE-RADIUS=500;X-TITLE=3980 Bill Robertson Lane:geo:-118.2900829,34.0121136
END:VEVENT
BEGIN:VEVENT
DTSTART;TZID=America/Los_Angeles:20180107T093000
DTEND;TZID=America/Los_Angeles:20180107T170000
DTSTAMP:20260421T085025
CREATED:20171214T235250Z
LAST-MODIFIED:20171214T235413Z
UID:10051577-1515317400-1515344400@expositionpark.ca.gov
SUMMARY:Tattoo Weekend Programming
DESCRIPTION:
URL:https://expositionpark.ca.gov/event/tattoo-weekend-programming/
LOCATION:Natural History Museum of Los Angeles County\, 900 Exposition Blvd.\, Los Angeles\, CA\, 90007\, United States
ORGANIZER;CN="Marisol Jara":MAILTO:vvobis@nhm.org
GEO:34.0170769;-118.2886818
X-APPLE-STRUCTURED-LOCATION;VALUE=URI;X-ADDRESS=Natural History Museum of Los Angeles County 900 Exposition Blvd. Los Angeles CA 90007 United States;X-APPLE-RADIUS=500;X-TITLE=900 Exposition Blvd.:geo:-118.2886818,34.0170769
END:VEVENT
BEGIN:VEVENT
DTSTART;TZID=America/Los_Angeles:20180107T130000
DTEND;TZID=America/Los_Angeles:20180107T150000
DTSTAMP:20260421T085025
CREATED:20180108T164738Z
LAST-MODIFIED:20180108T164738Z
UID:10051616-1515330000-1515337200@expositionpark.ca.gov
SUMMARY:CAAM Event: Radical Flag
DESCRIPTION:Sunday\, January 7\, 2018 | 1:00 – 3:00 p.m.\nRadical Flag\nFaith Ringgold’s People’s Flag Show Poster and The Judson 3\, both on display in We Wanted a Revolution: Black Radical Women\, 1965–85\, express solidarity with the tumultuous times of the 1970s. Create your own radical flag using a collage of words and images that reflect something you feel passionate about in this decade. Suitable for 3rd grade and up.
URL:https://expositionpark.ca.gov/event/caam-event-radical-flag/
LOCATION:CA\, United States
END:VEVENT
BEGIN:VEVENT
DTSTART;TZID=America/Los_Angeles:20180108T180000
DTEND;TZID=America/Los_Angeles:20180108T210000
DTSTAMP:20260421T085025
CREATED:20170214T222616Z
LAST-MODIFIED:20170214T222616Z
UID:10048559-1515434400-1515445200@expositionpark.ca.gov
SUMMARY:EXPO Soccer Clinic
DESCRIPTION:
URL:https://expositionpark.ca.gov/event/expo-soccer-clinic/2018-01-08/
LOCATION:EXPO Center\, 3980 Bill Robertson Lane\, Los Angeles\, CA\, 90037\, United States
GEO:34.0121136;-118.2900829
X-APPLE-STRUCTURED-LOCATION;VALUE=URI;X-ADDRESS=EXPO Center 3980 Bill Robertson Lane Los Angeles CA 90037 United States;X-APPLE-RADIUS=500;X-TITLE=3980 Bill Robertson Lane:geo:-118.2900829,34.0121136
END:VEVENT
BEGIN:VEVENT
DTSTART;TZID=America/Los_Angeles:20180108T211500
DTEND;TZID=America/Los_Angeles:20180108T221500
DTSTAMP:20260421T085025
CREATED:20170214T222531Z
LAST-MODIFIED:20170214T222531Z
UID:10048032-1515446100-1515449700@expositionpark.ca.gov
SUMMARY:Tri-Color Soccer League
DESCRIPTION:
URL:https://expositionpark.ca.gov/event/tri-color-soccer-league/2018-01-08/
LOCATION:EXPO Center\, 3980 Bill Robertson Lane\, Los Angeles\, CA\, 90037\, United States
GEO:34.0121136;-118.2900829
X-APPLE-STRUCTURED-LOCATION;VALUE=URI;X-ADDRESS=EXPO Center 3980 Bill Robertson Lane Los Angeles CA 90037 United States;X-APPLE-RADIUS=500;X-TITLE=3980 Bill Robertson Lane:geo:-118.2900829,34.0121136
END:VEVENT
BEGIN:VEVENT
DTSTART;TZID=America/Los_Angeles:20180109T143000
DTEND;TZID=America/Los_Angeles:20180109T173000
DTSTAMP:20260421T085025
CREATED:20170215T230251Z
LAST-MODIFIED:20170215T230251Z
UID:10045403-1515508200-1515519000@expositionpark.ca.gov
SUMMARY:USC Hybrid
DESCRIPTION:
URL:https://expositionpark.ca.gov/event/usc-hybrid/2018-01-09/
LOCATION:EXPO Center\, 3980 Bill Robertson Lane\, Los Angeles\, CA\, 90037\, United States
GEO:34.0121136;-118.2900829
X-APPLE-STRUCTURED-LOCATION;VALUE=URI;X-ADDRESS=EXPO Center 3980 Bill Robertson Lane Los Angeles CA 90037 United States;X-APPLE-RADIUS=500;X-TITLE=3980 Bill Robertson Lane:geo:-118.2900829,34.0121136
END:VEVENT
BEGIN:VEVENT
DTSTART;TZID=America/Los_Angeles:20180109T180000
DTEND;TZID=America/Los_Angeles:20180109T210000
DTSTAMP:20260421T085025
CREATED:20170214T222818Z
LAST-MODIFIED:20170214T222818Z
UID:10049805-1515520800-1515531600@expositionpark.ca.gov
SUMMARY:Vermont Sports Club
DESCRIPTION:
URL:https://expositionpark.ca.gov/event/vermont-sports-club-7/2018-01-09/
LOCATION:EXPO Center\, 3980 Bill Robertson Lane\, Los Angeles\, CA\, 90037\, United States
GEO:34.0121136;-118.2900829
X-APPLE-STRUCTURED-LOCATION;VALUE=URI;X-ADDRESS=EXPO Center 3980 Bill Robertson Lane Los Angeles CA 90037 United States;X-APPLE-RADIUS=500;X-TITLE=3980 Bill Robertson Lane:geo:-118.2900829,34.0121136
END:VEVENT
BEGIN:VEVENT
DTSTART;TZID=America/Los_Angeles:20180109T213000
DTEND;TZID=America/Los_Angeles:20180109T223000
DTSTAMP:20260421T085025
CREATED:20170215T225948Z
LAST-MODIFIED:20170215T225948Z
UID:10044541-1515533400-1515537000@expositionpark.ca.gov
SUMMARY:Tri-Color Soccer League
DESCRIPTION:
URL:https://expositionpark.ca.gov/event/tri-color-soccer-league-2/2018-01-09/
LOCATION:EXPO Center\, 3980 Bill Robertson Lane\, Los Angeles\, CA\, 90037\, United States
GEO:34.0121136;-118.2900829
X-APPLE-STRUCTURED-LOCATION;VALUE=URI;X-ADDRESS=EXPO Center 3980 Bill Robertson Lane Los Angeles CA 90037 United States;X-APPLE-RADIUS=500;X-TITLE=3980 Bill Robertson Lane:geo:-118.2900829,34.0121136
END:VEVENT
BEGIN:VEVENT
DTSTART;TZID=America/Los_Angeles:20180110T080000
DTEND;TZID=America/Los_Angeles:20180110T170000
DTSTAMP:20260421T085025
CREATED:20170215T230401Z
LAST-MODIFIED:20170215T230401Z
UID:10046218-1515571200-1515603600@expositionpark.ca.gov
SUMMARY:New Star
DESCRIPTION:
URL:https://expositionpark.ca.gov/event/new-star/2018-01-10/
LOCATION:EXPO Center\, 3980 Bill Robertson Lane\, Los Angeles\, CA\, 90037\, United States
GEO:34.0121136;-118.2900829
X-APPLE-STRUCTURED-LOCATION;VALUE=URI;X-ADDRESS=EXPO Center 3980 Bill Robertson Lane Los Angeles CA 90037 United States;X-APPLE-RADIUS=500;X-TITLE=3980 Bill Robertson Lane:geo:-118.2900829,34.0121136
END:VEVENT
BEGIN:VEVENT
DTSTART;TZID=America/Los_Angeles:20180110T180000
DTEND;TZID=America/Los_Angeles:20180110T210000
DTSTAMP:20260421T085025
CREATED:20170214T222616Z
LAST-MODIFIED:20170214T222616Z
UID:10048560-1515607200-1515618000@expositionpark.ca.gov
SUMMARY:EXPO Soccer Clinic
DESCRIPTION:
URL:https://expositionpark.ca.gov/event/expo-soccer-clinic/2018-01-10/
LOCATION:EXPO Center\, 3980 Bill Robertson Lane\, Los Angeles\, CA\, 90037\, United States
GEO:34.0121136;-118.2900829
X-APPLE-STRUCTURED-LOCATION;VALUE=URI;X-ADDRESS=EXPO Center 3980 Bill Robertson Lane Los Angeles CA 90037 United States;X-APPLE-RADIUS=500;X-TITLE=3980 Bill Robertson Lane:geo:-118.2900829,34.0121136
END:VEVENT
BEGIN:VEVENT
DTSTART;TZID=America/Los_Angeles:20180111T143000
DTEND;TZID=America/Los_Angeles:20180111T173000
DTSTAMP:20260421T085025
CREATED:20170215T230251Z
LAST-MODIFIED:20170215T230251Z
UID:10045404-1515681000-1515691800@expositionpark.ca.gov
SUMMARY:USC Hybrid
DESCRIPTION:
URL:https://expositionpark.ca.gov/event/usc-hybrid/2018-01-11/
LOCATION:EXPO Center\, 3980 Bill Robertson Lane\, Los Angeles\, CA\, 90037\, United States
GEO:34.0121136;-118.2900829
X-APPLE-STRUCTURED-LOCATION;VALUE=URI;X-ADDRESS=EXPO Center 3980 Bill Robertson Lane Los Angeles CA 90037 United States;X-APPLE-RADIUS=500;X-TITLE=3980 Bill Robertson Lane:geo:-118.2900829,34.0121136
END:VEVENT
BEGIN:VEVENT
DTSTART;TZID=America/Los_Angeles:20180111T153000
DTEND;TZID=America/Los_Angeles:20180111T220000
DTSTAMP:20260421T085025
CREATED:20170824T202749Z
LAST-MODIFIED:20170824T202749Z
UID:10051348-1515684600-1515708000@expositionpark.ca.gov
SUMMARY:Tattoo Programming - Evening Lecture
DESCRIPTION:
URL:https://expositionpark.ca.gov/event/tattoo-programming-evening-lecture/
LOCATION:Natural History Museum of Los Angeles County\, 900 Exposition Blvd.\, Los Angeles\, CA\, 90007\, United States
GEO:34.0170769;-118.2886818
X-APPLE-STRUCTURED-LOCATION;VALUE=URI;X-ADDRESS=Natural History Museum of Los Angeles County 900 Exposition Blvd. Los Angeles CA 90007 United States;X-APPLE-RADIUS=500;X-TITLE=900 Exposition Blvd.:geo:-118.2886818,34.0170769
END:VEVENT
BEGIN:VEVENT
DTSTART;TZID=America/Los_Angeles:20180111T180000
DTEND;TZID=America/Los_Angeles:20180111T210000
DTSTAMP:20260421T085025
CREATED:20170214T222818Z
LAST-MODIFIED:20170214T222818Z
UID:10049806-1515693600-1515704400@expositionpark.ca.gov
SUMMARY:Vermont Sports Club
DESCRIPTION:
URL:https://expositionpark.ca.gov/event/vermont-sports-club-7/2018-01-11/
LOCATION:EXPO Center\, 3980 Bill Robertson Lane\, Los Angeles\, CA\, 90037\, United States
GEO:34.0121136;-118.2900829
X-APPLE-STRUCTURED-LOCATION;VALUE=URI;X-ADDRESS=EXPO Center 3980 Bill Robertson Lane Los Angeles CA 90037 United States;X-APPLE-RADIUS=500;X-TITLE=3980 Bill Robertson Lane:geo:-118.2900829,34.0121136
END:VEVENT
BEGIN:VEVENT
DTSTART;TZID=America/Los_Angeles:20180111T213000
DTEND;TZID=America/Los_Angeles:20180111T223000
DTSTAMP:20260421T085025
CREATED:20170215T225948Z
LAST-MODIFIED:20170215T225948Z
UID:10044542-1515706200-1515709800@expositionpark.ca.gov
SUMMARY:Tri-Color Soccer League
DESCRIPTION:
URL:https://expositionpark.ca.gov/event/tri-color-soccer-league-2/2018-01-11/
LOCATION:EXPO Center\, 3980 Bill Robertson Lane\, Los Angeles\, CA\, 90037\, United States
GEO:34.0121136;-118.2900829
X-APPLE-STRUCTURED-LOCATION;VALUE=URI;X-ADDRESS=EXPO Center 3980 Bill Robertson Lane Los Angeles CA 90037 United States;X-APPLE-RADIUS=500;X-TITLE=3980 Bill Robertson Lane:geo:-118.2900829,34.0121136
END:VEVENT
BEGIN:VEVENT
DTSTART;TZID=America/Los_Angeles:20180112T080000
DTEND;TZID=America/Los_Angeles:20180112T170000
DTSTAMP:20260421T085025
CREATED:20170215T230439Z
LAST-MODIFIED:20170215T230439Z
UID:10046649-1515744000-1515776400@expositionpark.ca.gov
SUMMARY:San Pedro Soccer League
DESCRIPTION:
URL:https://expositionpark.ca.gov/event/san-pedro-soccer-league-3/2018-01-12/
LOCATION:EXPO Center\, 3980 Bill Robertson Lane\, Los Angeles\, CA\, 90037\, United States
GEO:34.0121136;-118.2900829
X-APPLE-STRUCTURED-LOCATION;VALUE=URI;X-ADDRESS=EXPO Center 3980 Bill Robertson Lane Los Angeles CA 90037 United States;X-APPLE-RADIUS=500;X-TITLE=3980 Bill Robertson Lane:geo:-118.2900829,34.0121136
END:VEVENT
BEGIN:VEVENT
DTSTART;TZID=America/Los_Angeles:20180112T120000
DTEND;TZID=America/Los_Angeles:20180112T210000
DTSTAMP:20260421T085025
CREATED:20171116T225738Z
LAST-MODIFIED:20171116T225817Z
UID:10048417-1515758400-1515790800@expositionpark.ca.gov
SUMMARY:Lifeguard Rechecks
DESCRIPTION:Lifeguard Rechecks will be taking place from 12 pm to 9 pm in the North and South Competition Pools as well as in Comrie Hall.
URL:https://expositionpark.ca.gov/event/lifeguard-rechecks-6/
LOCATION:EXPO Center/ John C Argue Swim Stadium\, 3980 Bill Robertson Lane\, Los Angeles\, CA\, 90037\, United States
GEO:34.0121136;-118.2900829
X-APPLE-STRUCTURED-LOCATION;VALUE=URI;X-ADDRESS=EXPO Center/ John C Argue Swim Stadium 3980 Bill Robertson Lane Los Angeles CA 90037 United States;X-APPLE-RADIUS=500;X-TITLE=3980 Bill Robertson Lane:geo:-118.2900829,34.0121136
END:VEVENT
BEGIN:VEVENT
DTSTART;TZID=America/Los_Angeles:20180112T180000
DTEND;TZID=America/Los_Angeles:20180112T210000
DTSTAMP:20260421T085025
CREATED:20170214T222616Z
LAST-MODIFIED:20170214T222616Z
UID:10048561-1515780000-1515790800@expositionpark.ca.gov
SUMMARY:EXPO Soccer Clinic
DESCRIPTION:
URL:https://expositionpark.ca.gov/event/expo-soccer-clinic/2018-01-12/
LOCATION:EXPO Center\, 3980 Bill Robertson Lane\, Los Angeles\, CA\, 90037\, United States
GEO:34.0121136;-118.2900829
X-APPLE-STRUCTURED-LOCATION;VALUE=URI;X-ADDRESS=EXPO Center 3980 Bill Robertson Lane Los Angeles CA 90037 United States;X-APPLE-RADIUS=500;X-TITLE=3980 Bill Robertson Lane:geo:-118.2900829,34.0121136
END:VEVENT
BEGIN:VEVENT
DTSTART;TZID=America/Los_Angeles:20180112T190000
DTEND;TZID=America/Los_Angeles:20180112T210000
DTSTAMP:20260421T085025
CREATED:20171128T002212Z
LAST-MODIFIED:20171128T002212Z
UID:10051543-1515783600-1515790800@expositionpark.ca.gov
SUMMARY:CAAM Private Event " A Conversation with Patrisse Cullors"
DESCRIPTION:
URL:https://expositionpark.ca.gov/event/caam-private-event-a-conversation-with-patrisse-cullors/
LOCATION:CA\, United States
END:VEVENT
BEGIN:VEVENT
DTSTART;TZID=America/Los_Angeles:20180113T070000
DTEND;TZID=America/Los_Angeles:20180113T180000
DTSTAMP:20260421T085025
CREATED:20171116T225944Z
LAST-MODIFIED:20171116T225944Z
UID:10051505-1515826800-1515866400@expositionpark.ca.gov
SUMMARY:Lifeguard Rechecks
DESCRIPTION:Lifeguard Rechecks will be taking place from 7 am to 6 pm in the North and South Competition Pools as well as in Comrie Hall.
URL:https://expositionpark.ca.gov/event/lifeguard-rechecks-7/
LOCATION:EXPO Center/ John C Argue Swim Stadium\, 3980 Bill Robertson Lane\, Los Angeles\, CA\, 90037\, United States
GEO:34.0121136;-118.2900829
X-APPLE-STRUCTURED-LOCATION;VALUE=URI;X-ADDRESS=EXPO Center/ John C Argue Swim Stadium 3980 Bill Robertson Lane Los Angeles CA 90037 United States;X-APPLE-RADIUS=500;X-TITLE=3980 Bill Robertson Lane:geo:-118.2900829,34.0121136
END:VEVENT
END:VCALENDAR