BEGIN:VCALENDAR
VERSION:2.0
PRODID:-//Exposition Park - ECPv6.15.20//NONSGML v1.0//EN
CALSCALE:GREGORIAN
METHOD:PUBLISH
X-ORIGINAL-URL:https://expositionpark.ca.gov
X-WR-CALDESC:Events for Exposition Park
REFRESH-INTERVAL;VALUE=DURATION:PT1H
X-Robots-Tag:noindex
X-PUBLISHED-TTL:PT1H
BEGIN:VTIMEZONE
TZID:America/Los_Angeles
BEGIN:DAYLIGHT
TZOFFSETFROM:-0800
TZOFFSETTO:-0700
TZNAME:PDT
DTSTART:20180311T100000
END:DAYLIGHT
BEGIN:STANDARD
TZOFFSETFROM:-0700
TZOFFSETTO:-0800
TZNAME:PST
DTSTART:20181104T090000
END:STANDARD
BEGIN:DAYLIGHT
TZOFFSETFROM:-0800
TZOFFSETTO:-0700
TZNAME:PDT
DTSTART:20190310T100000
END:DAYLIGHT
BEGIN:STANDARD
TZOFFSETFROM:-0700
TZOFFSETTO:-0800
TZNAME:PST
DTSTART:20191103T090000
END:STANDARD
BEGIN:DAYLIGHT
TZOFFSETFROM:-0800
TZOFFSETTO:-0700
TZNAME:PDT
DTSTART:20200308T100000
END:DAYLIGHT
BEGIN:STANDARD
TZOFFSETFROM:-0700
TZOFFSETTO:-0800
TZNAME:PST
DTSTART:20201101T090000
END:STANDARD
END:VTIMEZONE
BEGIN:VEVENT
DTSTART;TZID=America/Los_Angeles:20191221T090000
DTEND;TZID=America/Los_Angeles:20191224T170000
DTSTAMP:20260422T031747
CREATED:20191226T175852Z
LAST-MODIFIED:20191226T175852Z
UID:10053317-1576918800-1577206800@expositionpark.ca.gov
SUMMARY:Christmas Tree Giveaway
DESCRIPTION: Community Christmas Tree giveaway\n Limited quantities of Christmas Trees will be distributed each day\n First available basis \nVehicles should enter from 39th and Figueroa and pick up from Coliseum Olympic Plaza\, then exit to S. Hoover or back to Figueroa.
URL:https://expositionpark.ca.gov/event/christmas-tree-giveaway/
LOCATION:Los Angeles Memorial Coliseum Olympic Plaza\, 3911 S Figueroa St.\, Los Angeles\, CA\, 90037\, United States
END:VEVENT
BEGIN:VEVENT
DTSTART;TZID=America/Los_Angeles:20191222T080000
DTEND;TZID=America/Los_Angeles:20191222T170000
DTSTAMP:20260422T031747
CREATED:20170215T230650Z
LAST-MODIFIED:20170215T230650Z
UID:10047182-1577001600-1577034000@expositionpark.ca.gov
SUMMARY:Vermont Sports Club
DESCRIPTION:
URL:https://expositionpark.ca.gov/event/vermont-sports-club-9/2019-12-22/
LOCATION:EXPO Center\, 3980 Bill Robertson Lane\, Los Angeles\, CA\, 90037\, United States
GEO:34.0121136;-118.2900829
X-APPLE-STRUCTURED-LOCATION;VALUE=URI;X-ADDRESS=EXPO Center 3980 Bill Robertson Lane Los Angeles CA 90037 United States;X-APPLE-RADIUS=500;X-TITLE=3980 Bill Robertson Lane:geo:-118.2900829,34.0121136
END:VEVENT
BEGIN:VEVENT
DTSTART;TZID=America/Los_Angeles:20191223T180000
DTEND;TZID=America/Los_Angeles:20191223T210000
DTSTAMP:20260422T031747
CREATED:20170214T222616Z
LAST-MODIFIED:20170214T222616Z
UID:10048865-1577124000-1577134800@expositionpark.ca.gov
SUMMARY:EXPO Soccer Clinic
DESCRIPTION:
URL:https://expositionpark.ca.gov/event/expo-soccer-clinic/2019-12-23/
LOCATION:EXPO Center\, 3980 Bill Robertson Lane\, Los Angeles\, CA\, 90037\, United States
GEO:34.0121136;-118.2900829
X-APPLE-STRUCTURED-LOCATION;VALUE=URI;X-ADDRESS=EXPO Center 3980 Bill Robertson Lane Los Angeles CA 90037 United States;X-APPLE-RADIUS=500;X-TITLE=3980 Bill Robertson Lane:geo:-118.2900829,34.0121136
END:VEVENT
BEGIN:VEVENT
DTSTART;TZID=America/Los_Angeles:20191223T211500
DTEND;TZID=America/Los_Angeles:20191223T221500
DTSTAMP:20260422T031747
CREATED:20170214T222531Z
LAST-MODIFIED:20170214T222531Z
UID:10048134-1577135700-1577139300@expositionpark.ca.gov
SUMMARY:Tri-Color Soccer League
DESCRIPTION:
URL:https://expositionpark.ca.gov/event/tri-color-soccer-league/2019-12-23/
LOCATION:EXPO Center\, 3980 Bill Robertson Lane\, Los Angeles\, CA\, 90037\, United States
GEO:34.0121136;-118.2900829
X-APPLE-STRUCTURED-LOCATION;VALUE=URI;X-ADDRESS=EXPO Center 3980 Bill Robertson Lane Los Angeles CA 90037 United States;X-APPLE-RADIUS=500;X-TITLE=3980 Bill Robertson Lane:geo:-118.2900829,34.0121136
END:VEVENT
BEGIN:VEVENT
DTSTART;TZID=America/Los_Angeles:20191224T143000
DTEND;TZID=America/Los_Angeles:20191224T173000
DTSTAMP:20260422T031747
CREATED:20170215T230251Z
LAST-MODIFIED:20170215T230251Z
UID:10045607-1577197800-1577208600@expositionpark.ca.gov
SUMMARY:USC Hybrid
DESCRIPTION:
URL:https://expositionpark.ca.gov/event/usc-hybrid/2019-12-24/
LOCATION:EXPO Center\, 3980 Bill Robertson Lane\, Los Angeles\, CA\, 90037\, United States
GEO:34.0121136;-118.2900829
X-APPLE-STRUCTURED-LOCATION;VALUE=URI;X-ADDRESS=EXPO Center 3980 Bill Robertson Lane Los Angeles CA 90037 United States;X-APPLE-RADIUS=500;X-TITLE=3980 Bill Robertson Lane:geo:-118.2900829,34.0121136
END:VEVENT
BEGIN:VEVENT
DTSTART;TZID=America/Los_Angeles:20191224T180000
DTEND;TZID=America/Los_Angeles:20191224T210000
DTSTAMP:20260422T031747
CREATED:20170214T222818Z
LAST-MODIFIED:20170214T222818Z
UID:10050009-1577210400-1577221200@expositionpark.ca.gov
SUMMARY:Vermont Sports Club
DESCRIPTION:
URL:https://expositionpark.ca.gov/event/vermont-sports-club-7/2019-12-24/
LOCATION:EXPO Center\, 3980 Bill Robertson Lane\, Los Angeles\, CA\, 90037\, United States
GEO:34.0121136;-118.2900829
X-APPLE-STRUCTURED-LOCATION;VALUE=URI;X-ADDRESS=EXPO Center 3980 Bill Robertson Lane Los Angeles CA 90037 United States;X-APPLE-RADIUS=500;X-TITLE=3980 Bill Robertson Lane:geo:-118.2900829,34.0121136
END:VEVENT
BEGIN:VEVENT
DTSTART;TZID=America/Los_Angeles:20191224T213000
DTEND;TZID=America/Los_Angeles:20191224T223000
DTSTAMP:20260422T031747
CREATED:20170215T225948Z
LAST-MODIFIED:20170215T225948Z
UID:10044745-1577223000-1577226600@expositionpark.ca.gov
SUMMARY:Tri-Color Soccer League
DESCRIPTION:
URL:https://expositionpark.ca.gov/event/tri-color-soccer-league-2/2019-12-24/
LOCATION:EXPO Center\, 3980 Bill Robertson Lane\, Los Angeles\, CA\, 90037\, United States
GEO:34.0121136;-118.2900829
X-APPLE-STRUCTURED-LOCATION;VALUE=URI;X-ADDRESS=EXPO Center 3980 Bill Robertson Lane Los Angeles CA 90037 United States;X-APPLE-RADIUS=500;X-TITLE=3980 Bill Robertson Lane:geo:-118.2900829,34.0121136
END:VEVENT
BEGIN:VEVENT
DTSTART;TZID=America/Los_Angeles:20191225T080000
DTEND;TZID=America/Los_Angeles:20191225T170000
DTSTAMP:20260422T031747
CREATED:20170215T230401Z
LAST-MODIFIED:20170215T230401Z
UID:10046320-1577260800-1577293200@expositionpark.ca.gov
SUMMARY:New Star
DESCRIPTION:
URL:https://expositionpark.ca.gov/event/new-star/2019-12-25/
LOCATION:EXPO Center\, 3980 Bill Robertson Lane\, Los Angeles\, CA\, 90037\, United States
GEO:34.0121136;-118.2900829
X-APPLE-STRUCTURED-LOCATION;VALUE=URI;X-ADDRESS=EXPO Center 3980 Bill Robertson Lane Los Angeles CA 90037 United States;X-APPLE-RADIUS=500;X-TITLE=3980 Bill Robertson Lane:geo:-118.2900829,34.0121136
END:VEVENT
BEGIN:VEVENT
DTSTART;TZID=America/Los_Angeles:20191225T180000
DTEND;TZID=America/Los_Angeles:20191225T210000
DTSTAMP:20260422T031747
CREATED:20170214T222616Z
LAST-MODIFIED:20170214T222616Z
UID:10048866-1577296800-1577307600@expositionpark.ca.gov
SUMMARY:EXPO Soccer Clinic
DESCRIPTION:
URL:https://expositionpark.ca.gov/event/expo-soccer-clinic/2019-12-25/
LOCATION:EXPO Center\, 3980 Bill Robertson Lane\, Los Angeles\, CA\, 90037\, United States
GEO:34.0121136;-118.2900829
X-APPLE-STRUCTURED-LOCATION;VALUE=URI;X-ADDRESS=EXPO Center 3980 Bill Robertson Lane Los Angeles CA 90037 United States;X-APPLE-RADIUS=500;X-TITLE=3980 Bill Robertson Lane:geo:-118.2900829,34.0121136
END:VEVENT
BEGIN:VEVENT
DTSTART;TZID=America/Los_Angeles:20191226T143000
DTEND;TZID=America/Los_Angeles:20191226T173000
DTSTAMP:20260422T031747
CREATED:20170215T230251Z
LAST-MODIFIED:20170215T230251Z
UID:10045608-1577370600-1577381400@expositionpark.ca.gov
SUMMARY:USC Hybrid
DESCRIPTION:
URL:https://expositionpark.ca.gov/event/usc-hybrid/2019-12-26/
LOCATION:EXPO Center\, 3980 Bill Robertson Lane\, Los Angeles\, CA\, 90037\, United States
GEO:34.0121136;-118.2900829
X-APPLE-STRUCTURED-LOCATION;VALUE=URI;X-ADDRESS=EXPO Center 3980 Bill Robertson Lane Los Angeles CA 90037 United States;X-APPLE-RADIUS=500;X-TITLE=3980 Bill Robertson Lane:geo:-118.2900829,34.0121136
END:VEVENT
BEGIN:VEVENT
DTSTART;TZID=America/Los_Angeles:20191226T180000
DTEND;TZID=America/Los_Angeles:20191226T210000
DTSTAMP:20260422T031747
CREATED:20170214T222818Z
LAST-MODIFIED:20170214T222818Z
UID:10050010-1577383200-1577394000@expositionpark.ca.gov
SUMMARY:Vermont Sports Club
DESCRIPTION:
URL:https://expositionpark.ca.gov/event/vermont-sports-club-7/2019-12-26/
LOCATION:EXPO Center\, 3980 Bill Robertson Lane\, Los Angeles\, CA\, 90037\, United States
GEO:34.0121136;-118.2900829
X-APPLE-STRUCTURED-LOCATION;VALUE=URI;X-ADDRESS=EXPO Center 3980 Bill Robertson Lane Los Angeles CA 90037 United States;X-APPLE-RADIUS=500;X-TITLE=3980 Bill Robertson Lane:geo:-118.2900829,34.0121136
END:VEVENT
BEGIN:VEVENT
DTSTART;TZID=America/Los_Angeles:20191226T213000
DTEND;TZID=America/Los_Angeles:20191226T223000
DTSTAMP:20260422T031747
CREATED:20170215T225948Z
LAST-MODIFIED:20170215T225948Z
UID:10044746-1577395800-1577399400@expositionpark.ca.gov
SUMMARY:Tri-Color Soccer League
DESCRIPTION:
URL:https://expositionpark.ca.gov/event/tri-color-soccer-league-2/2019-12-26/
LOCATION:EXPO Center\, 3980 Bill Robertson Lane\, Los Angeles\, CA\, 90037\, United States
GEO:34.0121136;-118.2900829
X-APPLE-STRUCTURED-LOCATION;VALUE=URI;X-ADDRESS=EXPO Center 3980 Bill Robertson Lane Los Angeles CA 90037 United States;X-APPLE-RADIUS=500;X-TITLE=3980 Bill Robertson Lane:geo:-118.2900829,34.0121136
END:VEVENT
BEGIN:VEVENT
DTSTART;TZID=America/Los_Angeles:20191227T080000
DTEND;TZID=America/Los_Angeles:20191227T170000
DTSTAMP:20260422T031747
CREATED:20170215T230439Z
LAST-MODIFIED:20170215T230439Z
UID:10046751-1577433600-1577466000@expositionpark.ca.gov
SUMMARY:San Pedro Soccer League
DESCRIPTION:
URL:https://expositionpark.ca.gov/event/san-pedro-soccer-league-3/2019-12-27/
LOCATION:EXPO Center\, 3980 Bill Robertson Lane\, Los Angeles\, CA\, 90037\, United States
GEO:34.0121136;-118.2900829
X-APPLE-STRUCTURED-LOCATION;VALUE=URI;X-ADDRESS=EXPO Center 3980 Bill Robertson Lane Los Angeles CA 90037 United States;X-APPLE-RADIUS=500;X-TITLE=3980 Bill Robertson Lane:geo:-118.2900829,34.0121136
END:VEVENT
BEGIN:VEVENT
DTSTART;TZID=America/Los_Angeles:20191227T180000
DTEND;TZID=America/Los_Angeles:20191227T210000
DTSTAMP:20260422T031747
CREATED:20170214T222616Z
LAST-MODIFIED:20170214T222616Z
UID:10048867-1577469600-1577480400@expositionpark.ca.gov
SUMMARY:EXPO Soccer Clinic
DESCRIPTION:
URL:https://expositionpark.ca.gov/event/expo-soccer-clinic/2019-12-27/
LOCATION:EXPO Center\, 3980 Bill Robertson Lane\, Los Angeles\, CA\, 90037\, United States
GEO:34.0121136;-118.2900829
X-APPLE-STRUCTURED-LOCATION;VALUE=URI;X-ADDRESS=EXPO Center 3980 Bill Robertson Lane Los Angeles CA 90037 United States;X-APPLE-RADIUS=500;X-TITLE=3980 Bill Robertson Lane:geo:-118.2900829,34.0121136
END:VEVENT
END:VCALENDAR