BEGIN:VCALENDAR
VERSION:2.0
PRODID:-//Exposition Park - ECPv6.15.20//NONSGML v1.0//EN
CALSCALE:GREGORIAN
METHOD:PUBLISH
X-WR-CALNAME:Exposition Park
X-ORIGINAL-URL:https://expositionpark.ca.gov
X-WR-CALDESC:Events for Exposition Park
REFRESH-INTERVAL;VALUE=DURATION:PT1H
X-Robots-Tag:noindex
X-PUBLISHED-TTL:PT1H
BEGIN:VTIMEZONE
TZID:America/Los_Angeles
BEGIN:DAYLIGHT
TZOFFSETFROM:-0800
TZOFFSETTO:-0700
TZNAME:PDT
DTSTART:20190310T100000
END:DAYLIGHT
BEGIN:STANDARD
TZOFFSETFROM:-0700
TZOFFSETTO:-0800
TZNAME:PST
DTSTART:20191103T090000
END:STANDARD
BEGIN:DAYLIGHT
TZOFFSETFROM:-0800
TZOFFSETTO:-0700
TZNAME:PDT
DTSTART:20200308T100000
END:DAYLIGHT
BEGIN:STANDARD
TZOFFSETFROM:-0700
TZOFFSETTO:-0800
TZNAME:PST
DTSTART:20201101T090000
END:STANDARD
BEGIN:DAYLIGHT
TZOFFSETFROM:-0800
TZOFFSETTO:-0700
TZNAME:PDT
DTSTART:20210314T100000
END:DAYLIGHT
BEGIN:STANDARD
TZOFFSETFROM:-0700
TZOFFSETTO:-0800
TZNAME:PST
DTSTART:20211107T090000
END:STANDARD
END:VTIMEZONE
BEGIN:VEVENT
DTSTART;TZID=America/Los_Angeles:20200504T090000
DTEND;TZID=America/Los_Angeles:20200731T150000
DTSTAMP:20260420T201916
CREATED:20200505T204629Z
LAST-MODIFIED:20200701T213251Z
UID:10053475-1588582800-1596207600@expositionpark.ca.gov
SUMMARY:COVID-19 Testing
DESCRIPTION:The California community-based program to test individuals for COVID-19\, in collaboration with the Baseline COVID-19 Program\, is now available in our community. This program is free and meant to reduce the burden on our hospital system and is complementary to testing happening in a clinical care situation. People with acute symptoms need acute triage and should not visit the sample collection sites\, as the sites are not prepared to provide medical care. \nIf you are in California and interested in getting tested for COVID-19\, complete an online screener (here) based on guidelines from public health officials and see if testing is available for you through this program at this time. The screener is dynamic and the criteria may change over time based on epidemiological data and government directives. For more detail into the screening and testing process\, please see this video. \nPlease note the following:\n\nTests are available for eligible individuals by appointment only.\nAppointments must be made online. No walk-ups.\nYou must arrive for your appointment in a vehicle.\n\n\nExamen de COVID-19 basada en la comunidad de California\nEl programa comunitario de California para evaluar individuos para COVID-19\, en colaboración con el programa Baseline COVID-19\, ahora está disponible en nuestra comunidad. Este programa es gratuito y ayuda a reducir la carga sobre nuestro sistema hospitalario y es complementario a las pruebas que se realizan en una situación de atención clínica. Las personas con síntomas agudos necesitan un triaje agudo y no deben visitar los sitios de recolección de muestras\, ya que los sitios no están preparados para brindar atención médica. \nSi está en California y está interesado en hacerse la prueba de COVID-19\, complete un examen en línea (aquí) basado en las guias de los funcionarios de salud pública y vea si las pruebas están disponibles para usted a través de este programa en este momento. El analizador es dinámico y los criterios pueden cambiar con el tiempo según los datos epidemiológicos y las directivas gubernamentales. \nTenga en cuenta lo siguiente:\n\nLas pruebas están disponibles para personas elegibles solo con cita previa.\nLas citas deben hacerse por medio del internet. No se aceptan sin cita.\nDebe llegar para su cita en un vehículo.
URL:https://expositionpark.ca.gov/event/covid-19-testing/
LOCATION:Green Lot (Formerly Lot 6)\, 3986 Hoover St\, Los Angeles\, CA\, 90037\, United States
END:VEVENT
BEGIN:VEVENT
DTSTART;TZID=America/Los_Angeles:20200622T080000
DTEND;TZID=America/Los_Angeles:20200731T170000
DTSTAMP:20260420T201916
CREATED:20190730T231321Z
LAST-MODIFIED:20200529T155526Z
UID:10051489-1592812800-1596214800@expositionpark.ca.gov
SUMMARY:Adventures in Nature Summer Camp - Virtual Platform
DESCRIPTION:This  summer\, join us for Adventures in Nature Summer Day Camp! Whether it’s becoming a dinosaur or engaging with nature in new ways\, NHM has dedicated three decades of hands-on experiences and behind-the-scenes tours to campers – giving them access to 4.5 billion years of life on Earth.  With so much adventure\, your child’s camp memories will surely last a lifetime!
URL:https://expositionpark.ca.gov/event/adventures-in-nature-summer-camp/
LOCATION:CA
ORGANIZER;CN="Christina Kastely":MAILTO:ckastely@nhm.org
END:VEVENT
BEGIN:VEVENT
DTSTART;VALUE=DATE:20200628
DTEND;VALUE=DATE:20200629
DTSTAMP:20260420T201916
CREATED:20200624T203408Z
LAST-MODIFIED:20200624T203408Z
UID:10051726-1593302400-1593388799@expositionpark.ca.gov
SUMMARY:Filming
DESCRIPTION:
URL:https://expositionpark.ca.gov/event/filming-2/
LOCATION:Banc of California Stadium\, 3939 S Figueroa St\, Los Angeles\, CA\, 90037\, United States
END:VEVENT
BEGIN:VEVENT
DTSTART;TZID=America/Los_Angeles:20200628T080000
DTEND;TZID=America/Los_Angeles:20200628T170000
DTSTAMP:20260420T201916
CREATED:20170215T230650Z
LAST-MODIFIED:20170215T230650Z
UID:10047209-1593331200-1593363600@expositionpark.ca.gov
SUMMARY:Vermont Sports Club
DESCRIPTION:
URL:https://expositionpark.ca.gov/event/vermont-sports-club-9/2020-06-28/
LOCATION:EXPO Center\, 3980 Bill Robertson Lane\, Los Angeles\, CA\, 90037\, United States
GEO:34.0121136;-118.2900829
X-APPLE-STRUCTURED-LOCATION;VALUE=URI;X-ADDRESS=EXPO Center 3980 Bill Robertson Lane Los Angeles CA 90037 United States;X-APPLE-RADIUS=500;X-TITLE=3980 Bill Robertson Lane:geo:-118.2900829,34.0121136
END:VEVENT
BEGIN:VEVENT
DTSTART;TZID=America/Los_Angeles:20200628T160000
DTEND;TZID=America/Los_Angeles:20200628T235900
DTSTAMP:20260420T201916
CREATED:20200312T215036Z
LAST-MODIFIED:20200604T204443Z
UID:10051694-1593360000-1593388740@expositionpark.ca.gov
SUMMARY:Private Event - Postponed
DESCRIPTION:
URL:https://expositionpark.ca.gov/event/private-event-228/
LOCATION:Natural History Museum of Los Angeles County\, 900 Exposition Blvd.\, Los Angeles\, CA\, 90007\, United States
GEO:34.0170769;-118.2886818
X-APPLE-STRUCTURED-LOCATION;VALUE=URI;X-ADDRESS=Natural History Museum of Los Angeles County 900 Exposition Blvd. Los Angeles CA 90007 United States;X-APPLE-RADIUS=500;X-TITLE=900 Exposition Blvd.:geo:-118.2886818,34.0170769
END:VEVENT
BEGIN:VEVENT
DTSTART;TZID=America/Los_Angeles:20200629T073000
DTEND;TZID=America/Los_Angeles:20200629T180000
DTSTAMP:20260420T201916
CREATED:20200224T204344Z
LAST-MODIFIED:20200227T194420Z
UID:10053393-1593415800-1593453600@expositionpark.ca.gov
SUMMARY:Expo Center's Summer Camp Program
DESCRIPTION:EXPO Center’s Seasonal Camp Program provides youth ages 6-16 with a variety of themed and seasonal activities including swimming\, sports\, field trips and technology clubs.
URL:https://expositionpark.ca.gov/event/expo-centers-summer-camp-program/2020-06-29/
LOCATION:EXPO Center\, 3980 Bill Robertson Lane\, Los Angeles\, CA\, 90037\, United States
GEO:34.0121136;-118.2900829
X-APPLE-STRUCTURED-LOCATION;VALUE=URI;X-ADDRESS=EXPO Center 3980 Bill Robertson Lane Los Angeles CA 90037 United States;X-APPLE-RADIUS=500;X-TITLE=3980 Bill Robertson Lane:geo:-118.2900829,34.0121136
END:VEVENT
BEGIN:VEVENT
DTSTART;TZID=America/Los_Angeles:20200629T180000
DTEND;TZID=America/Los_Angeles:20200629T210000
DTSTAMP:20260420T201916
CREATED:20170214T222616Z
LAST-MODIFIED:20170214T222616Z
UID:10048946-1593453600-1593464400@expositionpark.ca.gov
SUMMARY:EXPO Soccer Clinic
DESCRIPTION:
URL:https://expositionpark.ca.gov/event/expo-soccer-clinic/2020-06-29/
LOCATION:EXPO Center\, 3980 Bill Robertson Lane\, Los Angeles\, CA\, 90037\, United States
GEO:34.0121136;-118.2900829
X-APPLE-STRUCTURED-LOCATION;VALUE=URI;X-ADDRESS=EXPO Center 3980 Bill Robertson Lane Los Angeles CA 90037 United States;X-APPLE-RADIUS=500;X-TITLE=3980 Bill Robertson Lane:geo:-118.2900829,34.0121136
END:VEVENT
BEGIN:VEVENT
DTSTART;TZID=America/Los_Angeles:20200629T211500
DTEND;TZID=America/Los_Angeles:20200629T221500
DTSTAMP:20260420T201916
CREATED:20170214T222531Z
LAST-MODIFIED:20170214T222531Z
UID:10048161-1593465300-1593468900@expositionpark.ca.gov
SUMMARY:Tri-Color Soccer League
DESCRIPTION:
URL:https://expositionpark.ca.gov/event/tri-color-soccer-league/2020-06-29/
LOCATION:EXPO Center\, 3980 Bill Robertson Lane\, Los Angeles\, CA\, 90037\, United States
GEO:34.0121136;-118.2900829
X-APPLE-STRUCTURED-LOCATION;VALUE=URI;X-ADDRESS=EXPO Center 3980 Bill Robertson Lane Los Angeles CA 90037 United States;X-APPLE-RADIUS=500;X-TITLE=3980 Bill Robertson Lane:geo:-118.2900829,34.0121136
END:VEVENT
BEGIN:VEVENT
DTSTART;VALUE=DATE:20200630
DTEND;VALUE=DATE:20200701
DTSTAMP:20260420T201916
CREATED:20200529T173805Z
LAST-MODIFIED:20200530T003340Z
UID:10053479-1593475200-1593561599@expositionpark.ca.gov
SUMMARY:LAFC Blood Drive
DESCRIPTION:
URL:https://expositionpark.ca.gov/event/lafc-blood-drive-2/
LOCATION:Banc of California Stadium\, 3939 S Figueroa St\, Los Angeles\, CA\, 90037\, United States
END:VEVENT
BEGIN:VEVENT
DTSTART;TZID=America/Los_Angeles:20200630T073000
DTEND;TZID=America/Los_Angeles:20200630T180000
DTSTAMP:20260420T201916
CREATED:20200224T204344Z
LAST-MODIFIED:20200227T194420Z
UID:10053394-1593502200-1593540000@expositionpark.ca.gov
SUMMARY:Expo Center's Summer Camp Program
DESCRIPTION:EXPO Center’s Seasonal Camp Program provides youth ages 6-16 with a variety of themed and seasonal activities including swimming\, sports\, field trips and technology clubs.
URL:https://expositionpark.ca.gov/event/expo-centers-summer-camp-program/2020-06-30/
LOCATION:EXPO Center\, 3980 Bill Robertson Lane\, Los Angeles\, CA\, 90037\, United States
GEO:34.0121136;-118.2900829
X-APPLE-STRUCTURED-LOCATION;VALUE=URI;X-ADDRESS=EXPO Center 3980 Bill Robertson Lane Los Angeles CA 90037 United States;X-APPLE-RADIUS=500;X-TITLE=3980 Bill Robertson Lane:geo:-118.2900829,34.0121136
END:VEVENT
BEGIN:VEVENT
DTSTART;TZID=America/Los_Angeles:20200630T143000
DTEND;TZID=America/Los_Angeles:20200630T173000
DTSTAMP:20260420T201916
CREATED:20170215T230251Z
LAST-MODIFIED:20170215T230251Z
UID:10045661-1593527400-1593538200@expositionpark.ca.gov
SUMMARY:USC Hybrid
DESCRIPTION:
URL:https://expositionpark.ca.gov/event/usc-hybrid/2020-06-30/
LOCATION:EXPO Center\, 3980 Bill Robertson Lane\, Los Angeles\, CA\, 90037\, United States
GEO:34.0121136;-118.2900829
X-APPLE-STRUCTURED-LOCATION;VALUE=URI;X-ADDRESS=EXPO Center 3980 Bill Robertson Lane Los Angeles CA 90037 United States;X-APPLE-RADIUS=500;X-TITLE=3980 Bill Robertson Lane:geo:-118.2900829,34.0121136
END:VEVENT
BEGIN:VEVENT
DTSTART;TZID=America/Los_Angeles:20200630T180000
DTEND;TZID=America/Los_Angeles:20200630T210000
DTSTAMP:20260420T201916
CREATED:20170214T222818Z
LAST-MODIFIED:20170214T222818Z
UID:10050063-1593540000-1593550800@expositionpark.ca.gov
SUMMARY:Vermont Sports Club
DESCRIPTION:
URL:https://expositionpark.ca.gov/event/vermont-sports-club-7/2020-06-30/
LOCATION:EXPO Center\, 3980 Bill Robertson Lane\, Los Angeles\, CA\, 90037\, United States
GEO:34.0121136;-118.2900829
X-APPLE-STRUCTURED-LOCATION;VALUE=URI;X-ADDRESS=EXPO Center 3980 Bill Robertson Lane Los Angeles CA 90037 United States;X-APPLE-RADIUS=500;X-TITLE=3980 Bill Robertson Lane:geo:-118.2900829,34.0121136
END:VEVENT
BEGIN:VEVENT
DTSTART;TZID=America/Los_Angeles:20200630T213000
DTEND;TZID=America/Los_Angeles:20200630T223000
DTSTAMP:20260420T201916
CREATED:20170215T225948Z
LAST-MODIFIED:20170215T225948Z
UID:10044799-1593552600-1593556200@expositionpark.ca.gov
SUMMARY:Tri-Color Soccer League
DESCRIPTION:
URL:https://expositionpark.ca.gov/event/tri-color-soccer-league-2/2020-06-30/
LOCATION:EXPO Center\, 3980 Bill Robertson Lane\, Los Angeles\, CA\, 90037\, United States
GEO:34.0121136;-118.2900829
X-APPLE-STRUCTURED-LOCATION;VALUE=URI;X-ADDRESS=EXPO Center 3980 Bill Robertson Lane Los Angeles CA 90037 United States;X-APPLE-RADIUS=500;X-TITLE=3980 Bill Robertson Lane:geo:-118.2900829,34.0121136
END:VEVENT
BEGIN:VEVENT
DTSTART;TZID=America/Los_Angeles:20200701T070000
DTEND;TZID=America/Los_Angeles:20200701T130000
DTSTAMP:20260420T201916
CREATED:20170214T011928Z
LAST-MODIFIED:20170214T011928Z
UID:10047852-1593586800-1593608400@expositionpark.ca.gov
SUMMARY:Board of Commissioners Meeting
DESCRIPTION:
URL:https://expositionpark.ca.gov/event/board-of-commissioners-meeting/2020-07-01/
LOCATION:EXPO Center\, 3980 Bill Robertson Lane\, Los Angeles\, CA\, 90037\, United States
GEO:34.0121136;-118.2900829
X-APPLE-STRUCTURED-LOCATION;VALUE=URI;X-ADDRESS=EXPO Center 3980 Bill Robertson Lane Los Angeles CA 90037 United States;X-APPLE-RADIUS=500;X-TITLE=3980 Bill Robertson Lane:geo:-118.2900829,34.0121136
END:VEVENT
BEGIN:VEVENT
DTSTART;TZID=America/Los_Angeles:20200701T073000
DTEND;TZID=America/Los_Angeles:20200701T180000
DTSTAMP:20260420T201916
CREATED:20200224T204344Z
LAST-MODIFIED:20200227T194420Z
UID:10053395-1593588600-1593626400@expositionpark.ca.gov
SUMMARY:Expo Center's Summer Camp Program
DESCRIPTION:EXPO Center’s Seasonal Camp Program provides youth ages 6-16 with a variety of themed and seasonal activities including swimming\, sports\, field trips and technology clubs.
URL:https://expositionpark.ca.gov/event/expo-centers-summer-camp-program/2020-07-01/
LOCATION:EXPO Center\, 3980 Bill Robertson Lane\, Los Angeles\, CA\, 90037\, United States
GEO:34.0121136;-118.2900829
X-APPLE-STRUCTURED-LOCATION;VALUE=URI;X-ADDRESS=EXPO Center 3980 Bill Robertson Lane Los Angeles CA 90037 United States;X-APPLE-RADIUS=500;X-TITLE=3980 Bill Robertson Lane:geo:-118.2900829,34.0121136
END:VEVENT
BEGIN:VEVENT
DTSTART;TZID=America/Los_Angeles:20200701T080000
DTEND;TZID=America/Los_Angeles:20200701T170000
DTSTAMP:20260420T201916
CREATED:20170215T230401Z
LAST-MODIFIED:20170215T230401Z
UID:10046347-1593590400-1593622800@expositionpark.ca.gov
SUMMARY:New Star
DESCRIPTION:
URL:https://expositionpark.ca.gov/event/new-star/2020-07-01/
LOCATION:EXPO Center\, 3980 Bill Robertson Lane\, Los Angeles\, CA\, 90037\, United States
GEO:34.0121136;-118.2900829
X-APPLE-STRUCTURED-LOCATION;VALUE=URI;X-ADDRESS=EXPO Center 3980 Bill Robertson Lane Los Angeles CA 90037 United States;X-APPLE-RADIUS=500;X-TITLE=3980 Bill Robertson Lane:geo:-118.2900829,34.0121136
END:VEVENT
BEGIN:VEVENT
DTSTART;TZID=America/Los_Angeles:20200701T090000
DTEND;TZID=America/Los_Angeles:20200701T140000
DTSTAMP:20260420T201916
CREATED:20200602T214832Z
LAST-MODIFIED:20200605T211716Z
UID:10053483-1593594000-1593612000@expositionpark.ca.gov
SUMMARY:Food Distribution - Farm Box Program - Pending
DESCRIPTION:This event is in partnership with L.A. County District 2 Supervisor\, Mark Ridley-Thomas\, Sustainable Economic Enterprises of Los Angeles (SEE-LA)\, Cedars-Sinai\, UNITE HERE Local 11\, Los Angeles Football Club\, Banc of California Stadium and Exposition Park. \nThe food distribution requires registration and is exclusive to UNITE HERE members.
URL:https://expositionpark.ca.gov/event/food-distribution-farm-box-program-10/
LOCATION:BOCS Plaza Area and Christmas Tree Lane East\, CA\, United States
END:VEVENT
BEGIN:VEVENT
DTSTART;TZID=America/Los_Angeles:20200701T180000
DTEND;TZID=America/Los_Angeles:20200701T210000
DTSTAMP:20260420T201916
CREATED:20170214T222616Z
LAST-MODIFIED:20170214T222616Z
UID:10048947-1593626400-1593637200@expositionpark.ca.gov
SUMMARY:EXPO Soccer Clinic
DESCRIPTION:
URL:https://expositionpark.ca.gov/event/expo-soccer-clinic/2020-07-01/
LOCATION:EXPO Center\, 3980 Bill Robertson Lane\, Los Angeles\, CA\, 90037\, United States
GEO:34.0121136;-118.2900829
X-APPLE-STRUCTURED-LOCATION;VALUE=URI;X-ADDRESS=EXPO Center 3980 Bill Robertson Lane Los Angeles CA 90037 United States;X-APPLE-RADIUS=500;X-TITLE=3980 Bill Robertson Lane:geo:-118.2900829,34.0121136
END:VEVENT
BEGIN:VEVENT
DTSTART;TZID=America/Los_Angeles:20200702T073000
DTEND;TZID=America/Los_Angeles:20200702T180000
DTSTAMP:20260420T201916
CREATED:20200224T204344Z
LAST-MODIFIED:20200227T194420Z
UID:10053396-1593675000-1593712800@expositionpark.ca.gov
SUMMARY:Expo Center's Summer Camp Program
DESCRIPTION:EXPO Center’s Seasonal Camp Program provides youth ages 6-16 with a variety of themed and seasonal activities including swimming\, sports\, field trips and technology clubs.
URL:https://expositionpark.ca.gov/event/expo-centers-summer-camp-program/2020-07-02/
LOCATION:EXPO Center\, 3980 Bill Robertson Lane\, Los Angeles\, CA\, 90037\, United States
GEO:34.0121136;-118.2900829
X-APPLE-STRUCTURED-LOCATION;VALUE=URI;X-ADDRESS=EXPO Center 3980 Bill Robertson Lane Los Angeles CA 90037 United States;X-APPLE-RADIUS=500;X-TITLE=3980 Bill Robertson Lane:geo:-118.2900829,34.0121136
END:VEVENT
BEGIN:VEVENT
DTSTART;TZID=America/Los_Angeles:20200702T143000
DTEND;TZID=America/Los_Angeles:20200702T173000
DTSTAMP:20260420T201916
CREATED:20170215T230251Z
LAST-MODIFIED:20170215T230251Z
UID:10045662-1593700200-1593711000@expositionpark.ca.gov
SUMMARY:USC Hybrid
DESCRIPTION:
URL:https://expositionpark.ca.gov/event/usc-hybrid/2020-07-02/
LOCATION:EXPO Center\, 3980 Bill Robertson Lane\, Los Angeles\, CA\, 90037\, United States
GEO:34.0121136;-118.2900829
X-APPLE-STRUCTURED-LOCATION;VALUE=URI;X-ADDRESS=EXPO Center 3980 Bill Robertson Lane Los Angeles CA 90037 United States;X-APPLE-RADIUS=500;X-TITLE=3980 Bill Robertson Lane:geo:-118.2900829,34.0121136
END:VEVENT
BEGIN:VEVENT
DTSTART;TZID=America/Los_Angeles:20200702T180000
DTEND;TZID=America/Los_Angeles:20200702T210000
DTSTAMP:20260420T201916
CREATED:20170214T222818Z
LAST-MODIFIED:20170214T222818Z
UID:10050064-1593712800-1593723600@expositionpark.ca.gov
SUMMARY:Vermont Sports Club
DESCRIPTION:
URL:https://expositionpark.ca.gov/event/vermont-sports-club-7/2020-07-02/
LOCATION:EXPO Center\, 3980 Bill Robertson Lane\, Los Angeles\, CA\, 90037\, United States
GEO:34.0121136;-118.2900829
X-APPLE-STRUCTURED-LOCATION;VALUE=URI;X-ADDRESS=EXPO Center 3980 Bill Robertson Lane Los Angeles CA 90037 United States;X-APPLE-RADIUS=500;X-TITLE=3980 Bill Robertson Lane:geo:-118.2900829,34.0121136
END:VEVENT
BEGIN:VEVENT
DTSTART;TZID=America/Los_Angeles:20200702T213000
DTEND;TZID=America/Los_Angeles:20200702T223000
DTSTAMP:20260420T201916
CREATED:20170215T225948Z
LAST-MODIFIED:20170215T225948Z
UID:10044800-1593725400-1593729000@expositionpark.ca.gov
SUMMARY:Tri-Color Soccer League
DESCRIPTION:
URL:https://expositionpark.ca.gov/event/tri-color-soccer-league-2/2020-07-02/
LOCATION:EXPO Center\, 3980 Bill Robertson Lane\, Los Angeles\, CA\, 90037\, United States
GEO:34.0121136;-118.2900829
X-APPLE-STRUCTURED-LOCATION;VALUE=URI;X-ADDRESS=EXPO Center 3980 Bill Robertson Lane Los Angeles CA 90037 United States;X-APPLE-RADIUS=500;X-TITLE=3980 Bill Robertson Lane:geo:-118.2900829,34.0121136
END:VEVENT
BEGIN:VEVENT
DTSTART;TZID=America/Los_Angeles:20200703T073000
DTEND;TZID=America/Los_Angeles:20200703T180000
DTSTAMP:20260420T201916
CREATED:20200224T204344Z
LAST-MODIFIED:20200227T194420Z
UID:10053397-1593761400-1593799200@expositionpark.ca.gov
SUMMARY:Expo Center's Summer Camp Program
DESCRIPTION:EXPO Center’s Seasonal Camp Program provides youth ages 6-16 with a variety of themed and seasonal activities including swimming\, sports\, field trips and technology clubs.
URL:https://expositionpark.ca.gov/event/expo-centers-summer-camp-program/2020-07-03/
LOCATION:EXPO Center\, 3980 Bill Robertson Lane\, Los Angeles\, CA\, 90037\, United States
GEO:34.0121136;-118.2900829
X-APPLE-STRUCTURED-LOCATION;VALUE=URI;X-ADDRESS=EXPO Center 3980 Bill Robertson Lane Los Angeles CA 90037 United States;X-APPLE-RADIUS=500;X-TITLE=3980 Bill Robertson Lane:geo:-118.2900829,34.0121136
END:VEVENT
BEGIN:VEVENT
DTSTART;TZID=America/Los_Angeles:20200703T080000
DTEND;TZID=America/Los_Angeles:20200703T170000
DTSTAMP:20260420T201916
CREATED:20170215T230439Z
LAST-MODIFIED:20170215T230439Z
UID:10046778-1593763200-1593795600@expositionpark.ca.gov
SUMMARY:San Pedro Soccer League
DESCRIPTION:
URL:https://expositionpark.ca.gov/event/san-pedro-soccer-league-3/2020-07-03/
LOCATION:EXPO Center\, 3980 Bill Robertson Lane\, Los Angeles\, CA\, 90037\, United States
GEO:34.0121136;-118.2900829
X-APPLE-STRUCTURED-LOCATION;VALUE=URI;X-ADDRESS=EXPO Center 3980 Bill Robertson Lane Los Angeles CA 90037 United States;X-APPLE-RADIUS=500;X-TITLE=3980 Bill Robertson Lane:geo:-118.2900829,34.0121136
END:VEVENT
BEGIN:VEVENT
DTSTART;TZID=America/Los_Angeles:20200703T180000
DTEND;TZID=America/Los_Angeles:20200703T210000
DTSTAMP:20260420T201916
CREATED:20170214T222616Z
LAST-MODIFIED:20170214T222616Z
UID:10048948-1593799200-1593810000@expositionpark.ca.gov
SUMMARY:EXPO Soccer Clinic
DESCRIPTION:
URL:https://expositionpark.ca.gov/event/expo-soccer-clinic/2020-07-03/
LOCATION:EXPO Center\, 3980 Bill Robertson Lane\, Los Angeles\, CA\, 90037\, United States
GEO:34.0121136;-118.2900829
X-APPLE-STRUCTURED-LOCATION;VALUE=URI;X-ADDRESS=EXPO Center 3980 Bill Robertson Lane Los Angeles CA 90037 United States;X-APPLE-RADIUS=500;X-TITLE=3980 Bill Robertson Lane:geo:-118.2900829,34.0121136
END:VEVENT
BEGIN:VEVENT
DTSTART;TZID=America/Los_Angeles:20200704T000000
DTEND;TZID=America/Los_Angeles:20200705T235900
DTSTAMP:20260420T201916
CREATED:20200704T000535Z
LAST-MODIFIED:20200704T000842Z
UID:10053487-1593820800-1593993540@expositionpark.ca.gov
SUMMARY:Exposition Park Closed
DESCRIPTION:Exposition Park will be closed to the General Public starting 10:00pm on Friday\, July 3rd through 6:00am on Monday\, July 6th 2020.
URL:https://expositionpark.ca.gov/event/exposition-park-closed/
LOCATION:CA\, United States
END:VEVENT
END:VCALENDAR