BEGIN:VCALENDAR
VERSION:2.0
PRODID:-//Exposition Park - ECPv6.15.20//NONSGML v1.0//EN
CALSCALE:GREGORIAN
METHOD:PUBLISH
X-WR-CALNAME:Exposition Park
X-ORIGINAL-URL:https://expositionpark.ca.gov
X-WR-CALDESC:Events for Exposition Park
REFRESH-INTERVAL;VALUE=DURATION:PT1H
X-Robots-Tag:noindex
X-PUBLISHED-TTL:PT1H
BEGIN:VTIMEZONE
TZID:America/Los_Angeles
BEGIN:DAYLIGHT
TZOFFSETFROM:-0800
TZOFFSETTO:-0700
TZNAME:PDT
DTSTART:20190310T100000
END:DAYLIGHT
BEGIN:STANDARD
TZOFFSETFROM:-0700
TZOFFSETTO:-0800
TZNAME:PST
DTSTART:20191103T090000
END:STANDARD
BEGIN:DAYLIGHT
TZOFFSETFROM:-0800
TZOFFSETTO:-0700
TZNAME:PDT
DTSTART:20200308T100000
END:DAYLIGHT
BEGIN:STANDARD
TZOFFSETFROM:-0700
TZOFFSETTO:-0800
TZNAME:PST
DTSTART:20201101T090000
END:STANDARD
BEGIN:DAYLIGHT
TZOFFSETFROM:-0800
TZOFFSETTO:-0700
TZNAME:PDT
DTSTART:20210314T100000
END:DAYLIGHT
BEGIN:STANDARD
TZOFFSETFROM:-0700
TZOFFSETTO:-0800
TZNAME:PST
DTSTART:20211107T090000
END:STANDARD
END:VTIMEZONE
BEGIN:VEVENT
DTSTART;TZID=America/Los_Angeles:20200504T090000
DTEND;TZID=America/Los_Angeles:20200731T150000
DTSTAMP:20260420T080445
CREATED:20200505T204629Z
LAST-MODIFIED:20200701T213251Z
UID:10053475-1588582800-1596207600@expositionpark.ca.gov
SUMMARY:COVID-19 Testing
DESCRIPTION:The California community-based program to test individuals for COVID-19\, in collaboration with the Baseline COVID-19 Program\, is now available in our community. This program is free and meant to reduce the burden on our hospital system and is complementary to testing happening in a clinical care situation. People with acute symptoms need acute triage and should not visit the sample collection sites\, as the sites are not prepared to provide medical care. \nIf you are in California and interested in getting tested for COVID-19\, complete an online screener (here) based on guidelines from public health officials and see if testing is available for you through this program at this time. The screener is dynamic and the criteria may change over time based on epidemiological data and government directives. For more detail into the screening and testing process\, please see this video. \nPlease note the following:\n\nTests are available for eligible individuals by appointment only.\nAppointments must be made online. No walk-ups.\nYou must arrive for your appointment in a vehicle.\n\n\nExamen de COVID-19 basada en la comunidad de California\nEl programa comunitario de California para evaluar individuos para COVID-19\, en colaboración con el programa Baseline COVID-19\, ahora está disponible en nuestra comunidad. Este programa es gratuito y ayuda a reducir la carga sobre nuestro sistema hospitalario y es complementario a las pruebas que se realizan en una situación de atención clínica. Las personas con síntomas agudos necesitan un triaje agudo y no deben visitar los sitios de recolección de muestras\, ya que los sitios no están preparados para brindar atención médica. \nSi está en California y está interesado en hacerse la prueba de COVID-19\, complete un examen en línea (aquí) basado en las guias de los funcionarios de salud pública y vea si las pruebas están disponibles para usted a través de este programa en este momento. El analizador es dinámico y los criterios pueden cambiar con el tiempo según los datos epidemiológicos y las directivas gubernamentales. \nTenga en cuenta lo siguiente:\n\nLas pruebas están disponibles para personas elegibles solo con cita previa.\nLas citas deben hacerse por medio del internet. No se aceptan sin cita.\nDebe llegar para su cita en un vehículo.
URL:https://expositionpark.ca.gov/event/covid-19-testing/
LOCATION:Green Lot (Formerly Lot 6)\, 3986 Hoover St\, Los Angeles\, CA\, 90037\, United States
END:VEVENT
BEGIN:VEVENT
DTSTART;TZID=America/Los_Angeles:20200622T080000
DTEND;TZID=America/Los_Angeles:20200731T170000
DTSTAMP:20260420T080445
CREATED:20190730T231321Z
LAST-MODIFIED:20200529T155526Z
UID:10051489-1592812800-1596214800@expositionpark.ca.gov
SUMMARY:Adventures in Nature Summer Camp - Virtual Platform
DESCRIPTION:This  summer\, join us for Adventures in Nature Summer Day Camp! Whether it’s becoming a dinosaur or engaging with nature in new ways\, NHM has dedicated three decades of hands-on experiences and behind-the-scenes tours to campers – giving them access to 4.5 billion years of life on Earth.  With so much adventure\, your child’s camp memories will surely last a lifetime!
URL:https://expositionpark.ca.gov/event/adventures-in-nature-summer-camp/
ORGANIZER;CN="Christina Kastely":MAILTO:ckastely@nhm.org
END:VEVENT
BEGIN:VEVENT
DTSTART;TZID=America/Los_Angeles:20200704T000000
DTEND;TZID=America/Los_Angeles:20200705T235900
DTSTAMP:20260420T080445
CREATED:20200704T000535Z
LAST-MODIFIED:20200704T000842Z
UID:10053487-1593820800-1593993540@expositionpark.ca.gov
SUMMARY:Exposition Park Closed
DESCRIPTION:Exposition Park will be closed to the General Public starting 10:00pm on Friday\, July 3rd through 6:00am on Monday\, July 6th 2020.
URL:https://expositionpark.ca.gov/event/exposition-park-closed/
LOCATION:CA\, United States
END:VEVENT
BEGIN:VEVENT
DTSTART;TZID=America/Los_Angeles:20200705T080000
DTEND;TZID=America/Los_Angeles:20200705T170000
DTSTAMP:20260420T080445
CREATED:20170215T230650Z
LAST-MODIFIED:20170215T230650Z
UID:10047210-1593936000-1593968400@expositionpark.ca.gov
SUMMARY:Vermont Sports Club
DESCRIPTION:
URL:https://expositionpark.ca.gov/event/vermont-sports-club-9/2020-07-05/
LOCATION:EXPO Center\, 3980 Bill Robertson Lane\, Los Angeles\, CA\, 90037\, United States
GEO:34.0121136;-118.2900829
X-APPLE-STRUCTURED-LOCATION;VALUE=URI;X-ADDRESS=EXPO Center 3980 Bill Robertson Lane Los Angeles CA 90037 United States;X-APPLE-RADIUS=500;X-TITLE=3980 Bill Robertson Lane:geo:-118.2900829,34.0121136
END:VEVENT
BEGIN:VEVENT
DTSTART;VALUE=DATE:20200706
DTEND;VALUE=DATE:20200711
DTSTAMP:20260420T080445
CREATED:20200228T203428Z
LAST-MODIFIED:20200529T154537Z
UID:10053442-1593993600-1594425599@expositionpark.ca.gov
SUMMARY:Hands-On Science Camp *Week 3* - Virtual Platform
DESCRIPTION:California Science Center’s Hands-On Science Camp\nExplore with us this Summer! (Pre-K – 10th Grade) \nExciting explorations\, delightful discoveries and wild wonders await your family this summer at Hands-On Science Camp at the California Science Center. We offer more than 30 courses\, including popular parent-and-child classes that give families a chance to investigate science together. The Hands-On Science Camp staff consists of education professionals and working professionals in science fields. Your child will have a unique\, fun and engaging summer! \nMorning Session 9:00am – 11:30am \nAfternoon Session 12:30pm – 3:30pm \n**Extended care is available for early drop off and late pick up for Kinder – 10th Grade campers. \n**A supervised lunch from 11:30am – 12:30pm is automatically included for campers attending a full day of camp from 9:00am – 3:30pm. \nEnroll Online
URL:https://expositionpark.ca.gov/event/hands-on-science-camp-week-3/
LOCATION:California Science Center\, 700 Exposition Park Drive\, Los Angeles\, CA\, 90037\, United States
ORGANIZER;CN="California Science Center%3A Education Department":MAILTO:educationprograms@cscmail.org
GEO:34.0157877;-118.2862095
X-APPLE-STRUCTURED-LOCATION;VALUE=URI;X-ADDRESS=California Science Center 700 Exposition Park Drive Los Angeles CA 90037 United States;X-APPLE-RADIUS=500;X-TITLE=700 Exposition Park Drive:geo:-118.2862095,34.0157877
END:VEVENT
BEGIN:VEVENT
DTSTART;TZID=America/Los_Angeles:20200706T073000
DTEND;TZID=America/Los_Angeles:20200706T180000
DTSTAMP:20260420T080445
CREATED:20200224T204344Z
LAST-MODIFIED:20200227T194420Z
UID:10053398-1594020600-1594058400@expositionpark.ca.gov
SUMMARY:Expo Center's Summer Camp Program
DESCRIPTION:EXPO Center’s Seasonal Camp Program provides youth ages 6-16 with a variety of themed and seasonal activities including swimming\, sports\, field trips and technology clubs.
URL:https://expositionpark.ca.gov/event/expo-centers-summer-camp-program/2020-07-06/
LOCATION:EXPO Center\, 3980 Bill Robertson Lane\, Los Angeles\, CA\, 90037\, United States
GEO:34.0121136;-118.2900829
X-APPLE-STRUCTURED-LOCATION;VALUE=URI;X-ADDRESS=EXPO Center 3980 Bill Robertson Lane Los Angeles CA 90037 United States;X-APPLE-RADIUS=500;X-TITLE=3980 Bill Robertson Lane:geo:-118.2900829,34.0121136
END:VEVENT
BEGIN:VEVENT
DTSTART;TZID=America/Los_Angeles:20200706T180000
DTEND;TZID=America/Los_Angeles:20200706T210000
DTSTAMP:20260420T080445
CREATED:20170214T222616Z
LAST-MODIFIED:20170214T222616Z
UID:10048949-1594058400-1594069200@expositionpark.ca.gov
SUMMARY:EXPO Soccer Clinic
DESCRIPTION:
URL:https://expositionpark.ca.gov/event/expo-soccer-clinic/2020-07-06/
LOCATION:EXPO Center\, 3980 Bill Robertson Lane\, Los Angeles\, CA\, 90037\, United States
GEO:34.0121136;-118.2900829
X-APPLE-STRUCTURED-LOCATION;VALUE=URI;X-ADDRESS=EXPO Center 3980 Bill Robertson Lane Los Angeles CA 90037 United States;X-APPLE-RADIUS=500;X-TITLE=3980 Bill Robertson Lane:geo:-118.2900829,34.0121136
END:VEVENT
BEGIN:VEVENT
DTSTART;TZID=America/Los_Angeles:20200706T211500
DTEND;TZID=America/Los_Angeles:20200706T221500
DTSTAMP:20260420T080445
CREATED:20170214T222531Z
LAST-MODIFIED:20170214T222531Z
UID:10048162-1594070100-1594073700@expositionpark.ca.gov
SUMMARY:Tri-Color Soccer League
DESCRIPTION:
URL:https://expositionpark.ca.gov/event/tri-color-soccer-league/2020-07-06/
LOCATION:EXPO Center\, 3980 Bill Robertson Lane\, Los Angeles\, CA\, 90037\, United States
GEO:34.0121136;-118.2900829
X-APPLE-STRUCTURED-LOCATION;VALUE=URI;X-ADDRESS=EXPO Center 3980 Bill Robertson Lane Los Angeles CA 90037 United States;X-APPLE-RADIUS=500;X-TITLE=3980 Bill Robertson Lane:geo:-118.2900829,34.0121136
END:VEVENT
BEGIN:VEVENT
DTSTART;TZID=America/Los_Angeles:20200707T073000
DTEND;TZID=America/Los_Angeles:20200707T180000
DTSTAMP:20260420T080445
CREATED:20200224T204344Z
LAST-MODIFIED:20200227T194420Z
UID:10053399-1594107000-1594144800@expositionpark.ca.gov
SUMMARY:Expo Center's Summer Camp Program
DESCRIPTION:EXPO Center’s Seasonal Camp Program provides youth ages 6-16 with a variety of themed and seasonal activities including swimming\, sports\, field trips and technology clubs.
URL:https://expositionpark.ca.gov/event/expo-centers-summer-camp-program/2020-07-07/
LOCATION:EXPO Center\, 3980 Bill Robertson Lane\, Los Angeles\, CA\, 90037\, United States
GEO:34.0121136;-118.2900829
X-APPLE-STRUCTURED-LOCATION;VALUE=URI;X-ADDRESS=EXPO Center 3980 Bill Robertson Lane Los Angeles CA 90037 United States;X-APPLE-RADIUS=500;X-TITLE=3980 Bill Robertson Lane:geo:-118.2900829,34.0121136
END:VEVENT
BEGIN:VEVENT
DTSTART;TZID=America/Los_Angeles:20200707T143000
DTEND;TZID=America/Los_Angeles:20200707T173000
DTSTAMP:20260420T080445
CREATED:20170215T230251Z
LAST-MODIFIED:20170215T230251Z
UID:10045663-1594132200-1594143000@expositionpark.ca.gov
SUMMARY:USC Hybrid
DESCRIPTION:
URL:https://expositionpark.ca.gov/event/usc-hybrid/2020-07-07/
LOCATION:EXPO Center\, 3980 Bill Robertson Lane\, Los Angeles\, CA\, 90037\, United States
GEO:34.0121136;-118.2900829
X-APPLE-STRUCTURED-LOCATION;VALUE=URI;X-ADDRESS=EXPO Center 3980 Bill Robertson Lane Los Angeles CA 90037 United States;X-APPLE-RADIUS=500;X-TITLE=3980 Bill Robertson Lane:geo:-118.2900829,34.0121136
END:VEVENT
BEGIN:VEVENT
DTSTART;TZID=America/Los_Angeles:20200707T180000
DTEND;TZID=America/Los_Angeles:20200707T210000
DTSTAMP:20260420T080445
CREATED:20170214T222818Z
LAST-MODIFIED:20170214T222818Z
UID:10050065-1594144800-1594155600@expositionpark.ca.gov
SUMMARY:Vermont Sports Club
DESCRIPTION:
URL:https://expositionpark.ca.gov/event/vermont-sports-club-7/2020-07-07/
LOCATION:EXPO Center\, 3980 Bill Robertson Lane\, Los Angeles\, CA\, 90037\, United States
GEO:34.0121136;-118.2900829
X-APPLE-STRUCTURED-LOCATION;VALUE=URI;X-ADDRESS=EXPO Center 3980 Bill Robertson Lane Los Angeles CA 90037 United States;X-APPLE-RADIUS=500;X-TITLE=3980 Bill Robertson Lane:geo:-118.2900829,34.0121136
END:VEVENT
BEGIN:VEVENT
DTSTART;TZID=America/Los_Angeles:20200707T213000
DTEND;TZID=America/Los_Angeles:20200707T223000
DTSTAMP:20260420T080445
CREATED:20170215T225948Z
LAST-MODIFIED:20170215T225948Z
UID:10044801-1594157400-1594161000@expositionpark.ca.gov
SUMMARY:Tri-Color Soccer League
DESCRIPTION:
URL:https://expositionpark.ca.gov/event/tri-color-soccer-league-2/2020-07-07/
LOCATION:EXPO Center\, 3980 Bill Robertson Lane\, Los Angeles\, CA\, 90037\, United States
GEO:34.0121136;-118.2900829
X-APPLE-STRUCTURED-LOCATION;VALUE=URI;X-ADDRESS=EXPO Center 3980 Bill Robertson Lane Los Angeles CA 90037 United States;X-APPLE-RADIUS=500;X-TITLE=3980 Bill Robertson Lane:geo:-118.2900829,34.0121136
END:VEVENT
BEGIN:VEVENT
DTSTART;TZID=America/Los_Angeles:20200708T073000
DTEND;TZID=America/Los_Angeles:20200708T180000
DTSTAMP:20260420T080445
CREATED:20200224T204344Z
LAST-MODIFIED:20200227T194420Z
UID:10053400-1594193400-1594231200@expositionpark.ca.gov
SUMMARY:Expo Center's Summer Camp Program
DESCRIPTION:EXPO Center’s Seasonal Camp Program provides youth ages 6-16 with a variety of themed and seasonal activities including swimming\, sports\, field trips and technology clubs.
URL:https://expositionpark.ca.gov/event/expo-centers-summer-camp-program/2020-07-08/
LOCATION:EXPO Center\, 3980 Bill Robertson Lane\, Los Angeles\, CA\, 90037\, United States
GEO:34.0121136;-118.2900829
X-APPLE-STRUCTURED-LOCATION;VALUE=URI;X-ADDRESS=EXPO Center 3980 Bill Robertson Lane Los Angeles CA 90037 United States;X-APPLE-RADIUS=500;X-TITLE=3980 Bill Robertson Lane:geo:-118.2900829,34.0121136
END:VEVENT
BEGIN:VEVENT
DTSTART;TZID=America/Los_Angeles:20200708T080000
DTEND;TZID=America/Los_Angeles:20200708T170000
DTSTAMP:20260420T080445
CREATED:20170215T230401Z
LAST-MODIFIED:20170215T230401Z
UID:10046348-1594195200-1594227600@expositionpark.ca.gov
SUMMARY:New Star
DESCRIPTION:
URL:https://expositionpark.ca.gov/event/new-star/2020-07-08/
LOCATION:EXPO Center\, 3980 Bill Robertson Lane\, Los Angeles\, CA\, 90037\, United States
GEO:34.0121136;-118.2900829
X-APPLE-STRUCTURED-LOCATION;VALUE=URI;X-ADDRESS=EXPO Center 3980 Bill Robertson Lane Los Angeles CA 90037 United States;X-APPLE-RADIUS=500;X-TITLE=3980 Bill Robertson Lane:geo:-118.2900829,34.0121136
END:VEVENT
BEGIN:VEVENT
DTSTART;TZID=America/Los_Angeles:20200708T180000
DTEND;TZID=America/Los_Angeles:20200708T210000
DTSTAMP:20260420T080445
CREATED:20170214T222616Z
LAST-MODIFIED:20170214T222616Z
UID:10048950-1594231200-1594242000@expositionpark.ca.gov
SUMMARY:EXPO Soccer Clinic
DESCRIPTION:
URL:https://expositionpark.ca.gov/event/expo-soccer-clinic/2020-07-08/
LOCATION:EXPO Center\, 3980 Bill Robertson Lane\, Los Angeles\, CA\, 90037\, United States
GEO:34.0121136;-118.2900829
X-APPLE-STRUCTURED-LOCATION;VALUE=URI;X-ADDRESS=EXPO Center 3980 Bill Robertson Lane Los Angeles CA 90037 United States;X-APPLE-RADIUS=500;X-TITLE=3980 Bill Robertson Lane:geo:-118.2900829,34.0121136
END:VEVENT
BEGIN:VEVENT
DTSTART;TZID=America/Los_Angeles:20200709T073000
DTEND;TZID=America/Los_Angeles:20200709T180000
DTSTAMP:20260420T080445
CREATED:20200224T204344Z
LAST-MODIFIED:20200227T194420Z
UID:10053401-1594279800-1594317600@expositionpark.ca.gov
SUMMARY:Expo Center's Summer Camp Program
DESCRIPTION:EXPO Center’s Seasonal Camp Program provides youth ages 6-16 with a variety of themed and seasonal activities including swimming\, sports\, field trips and technology clubs.
URL:https://expositionpark.ca.gov/event/expo-centers-summer-camp-program/2020-07-09/
LOCATION:EXPO Center\, 3980 Bill Robertson Lane\, Los Angeles\, CA\, 90037\, United States
GEO:34.0121136;-118.2900829
X-APPLE-STRUCTURED-LOCATION;VALUE=URI;X-ADDRESS=EXPO Center 3980 Bill Robertson Lane Los Angeles CA 90037 United States;X-APPLE-RADIUS=500;X-TITLE=3980 Bill Robertson Lane:geo:-118.2900829,34.0121136
END:VEVENT
BEGIN:VEVENT
DTSTART;TZID=America/Los_Angeles:20200709T143000
DTEND;TZID=America/Los_Angeles:20200709T173000
DTSTAMP:20260420T080445
CREATED:20170215T230251Z
LAST-MODIFIED:20170215T230251Z
UID:10045664-1594305000-1594315800@expositionpark.ca.gov
SUMMARY:USC Hybrid
DESCRIPTION:
URL:https://expositionpark.ca.gov/event/usc-hybrid/2020-07-09/
LOCATION:EXPO Center\, 3980 Bill Robertson Lane\, Los Angeles\, CA\, 90037\, United States
GEO:34.0121136;-118.2900829
X-APPLE-STRUCTURED-LOCATION;VALUE=URI;X-ADDRESS=EXPO Center 3980 Bill Robertson Lane Los Angeles CA 90037 United States;X-APPLE-RADIUS=500;X-TITLE=3980 Bill Robertson Lane:geo:-118.2900829,34.0121136
END:VEVENT
BEGIN:VEVENT
DTSTART;TZID=America/Los_Angeles:20200709T180000
DTEND;TZID=America/Los_Angeles:20200709T210000
DTSTAMP:20260420T080445
CREATED:20170214T222818Z
LAST-MODIFIED:20170214T222818Z
UID:10050066-1594317600-1594328400@expositionpark.ca.gov
SUMMARY:Vermont Sports Club
DESCRIPTION:
URL:https://expositionpark.ca.gov/event/vermont-sports-club-7/2020-07-09/
LOCATION:EXPO Center\, 3980 Bill Robertson Lane\, Los Angeles\, CA\, 90037\, United States
GEO:34.0121136;-118.2900829
X-APPLE-STRUCTURED-LOCATION;VALUE=URI;X-ADDRESS=EXPO Center 3980 Bill Robertson Lane Los Angeles CA 90037 United States;X-APPLE-RADIUS=500;X-TITLE=3980 Bill Robertson Lane:geo:-118.2900829,34.0121136
END:VEVENT
BEGIN:VEVENT
DTSTART;TZID=America/Los_Angeles:20200709T213000
DTEND;TZID=America/Los_Angeles:20200709T223000
DTSTAMP:20260420T080445
CREATED:20170215T225948Z
LAST-MODIFIED:20170215T225948Z
UID:10044802-1594330200-1594333800@expositionpark.ca.gov
SUMMARY:Tri-Color Soccer League
DESCRIPTION:
URL:https://expositionpark.ca.gov/event/tri-color-soccer-league-2/2020-07-09/
LOCATION:EXPO Center\, 3980 Bill Robertson Lane\, Los Angeles\, CA\, 90037\, United States
GEO:34.0121136;-118.2900829
X-APPLE-STRUCTURED-LOCATION;VALUE=URI;X-ADDRESS=EXPO Center 3980 Bill Robertson Lane Los Angeles CA 90037 United States;X-APPLE-RADIUS=500;X-TITLE=3980 Bill Robertson Lane:geo:-118.2900829,34.0121136
END:VEVENT
BEGIN:VEVENT
DTSTART;TZID=America/Los_Angeles:20200710T073000
DTEND;TZID=America/Los_Angeles:20200710T180000
DTSTAMP:20260420T080445
CREATED:20200224T204344Z
LAST-MODIFIED:20200227T194420Z
UID:10053402-1594366200-1594404000@expositionpark.ca.gov
SUMMARY:Expo Center's Summer Camp Program
DESCRIPTION:EXPO Center’s Seasonal Camp Program provides youth ages 6-16 with a variety of themed and seasonal activities including swimming\, sports\, field trips and technology clubs.
URL:https://expositionpark.ca.gov/event/expo-centers-summer-camp-program/2020-07-10/
LOCATION:EXPO Center\, 3980 Bill Robertson Lane\, Los Angeles\, CA\, 90037\, United States
GEO:34.0121136;-118.2900829
X-APPLE-STRUCTURED-LOCATION;VALUE=URI;X-ADDRESS=EXPO Center 3980 Bill Robertson Lane Los Angeles CA 90037 United States;X-APPLE-RADIUS=500;X-TITLE=3980 Bill Robertson Lane:geo:-118.2900829,34.0121136
END:VEVENT
BEGIN:VEVENT
DTSTART;TZID=America/Los_Angeles:20200710T080000
DTEND;TZID=America/Los_Angeles:20200710T170000
DTSTAMP:20260420T080445
CREATED:20170215T230439Z
LAST-MODIFIED:20170215T230439Z
UID:10046779-1594368000-1594400400@expositionpark.ca.gov
SUMMARY:San Pedro Soccer League
DESCRIPTION:
URL:https://expositionpark.ca.gov/event/san-pedro-soccer-league-3/2020-07-10/
LOCATION:EXPO Center\, 3980 Bill Robertson Lane\, Los Angeles\, CA\, 90037\, United States
GEO:34.0121136;-118.2900829
X-APPLE-STRUCTURED-LOCATION;VALUE=URI;X-ADDRESS=EXPO Center 3980 Bill Robertson Lane Los Angeles CA 90037 United States;X-APPLE-RADIUS=500;X-TITLE=3980 Bill Robertson Lane:geo:-118.2900829,34.0121136
END:VEVENT
BEGIN:VEVENT
DTSTART;TZID=America/Los_Angeles:20200710T180000
DTEND;TZID=America/Los_Angeles:20200710T200000
DTSTAMP:20260420T080445
CREATED:20200630T161402Z
LAST-MODIFIED:20200630T161402Z
UID:10053484-1594404000-1594411200@expositionpark.ca.gov
SUMMARY:Summer Nights at Home - Virtual Platform
DESCRIPTION:Summer Nights at Home – Virtual Platform\n\nThis summer the Nature Gardens and Tar Pits are coming over to your place. Fix yourself a DIY botanical cocktail and join our events happening LIVE. Turn up the DJ tunes and join in on a talk with Museum Staff who’ll be getting to the root of plants from the present day all the way back to the Ice Age. Celebrate your Summer Nights with nature\, music\, and growing your mind. \n#SummerNights \nNoches de verano en casa\nEste verano\, los jardines de naturaleza del Museo de Historia Natural del Condado de Los Ángeles y el Museo de La Brea Tar Pits vendrán a su hogar. Prepárate un cóctel botánico en casa y únete a nuestros eventos EN VIVO. Suba las melodías del DJ y únase a una conversación con el personal del museo\, que llegará a la raíz de las plantas desde el presente hasta la Edad de Hielo. Celebre sus noches de verano con la naturaleza\, la música y el crecimiento de su curiosidad en el mundo a su alrededor. \n#SummerNights \n\nnhm.org/summernights
URL:https://expositionpark.ca.gov/event/summer-nights-at-home-virtual-platform/2020-07-10/
LOCATION:CA\, United States
END:VEVENT
BEGIN:VEVENT
DTSTART;TZID=America/Los_Angeles:20200710T180000
DTEND;TZID=America/Los_Angeles:20200710T210000
DTSTAMP:20260420T080445
CREATED:20170214T222616Z
LAST-MODIFIED:20170214T222616Z
UID:10048951-1594404000-1594414800@expositionpark.ca.gov
SUMMARY:EXPO Soccer Clinic
DESCRIPTION:
URL:https://expositionpark.ca.gov/event/expo-soccer-clinic/2020-07-10/
LOCATION:EXPO Center\, 3980 Bill Robertson Lane\, Los Angeles\, CA\, 90037\, United States
GEO:34.0121136;-118.2900829
X-APPLE-STRUCTURED-LOCATION;VALUE=URI;X-ADDRESS=EXPO Center 3980 Bill Robertson Lane Los Angeles CA 90037 United States;X-APPLE-RADIUS=500;X-TITLE=3980 Bill Robertson Lane:geo:-118.2900829,34.0121136
END:VEVENT
END:VCALENDAR