BEGIN:VCALENDAR
VERSION:2.0
PRODID:-//Exposition Park - ECPv6.15.20//NONSGML v1.0//EN
CALSCALE:GREGORIAN
METHOD:PUBLISH
X-ORIGINAL-URL:https://expositionpark.ca.gov
X-WR-CALDESC:Events for Exposition Park
REFRESH-INTERVAL;VALUE=DURATION:PT1H
X-Robots-Tag:noindex
X-PUBLISHED-TTL:PT1H
BEGIN:VTIMEZONE
TZID:America/Los_Angeles
BEGIN:DAYLIGHT
TZOFFSETFROM:-0800
TZOFFSETTO:-0700
TZNAME:PDT
DTSTART:20180311T100000
END:DAYLIGHT
BEGIN:STANDARD
TZOFFSETFROM:-0700
TZOFFSETTO:-0800
TZNAME:PST
DTSTART:20181104T090000
END:STANDARD
BEGIN:DAYLIGHT
TZOFFSETFROM:-0800
TZOFFSETTO:-0700
TZNAME:PDT
DTSTART:20190310T100000
END:DAYLIGHT
BEGIN:STANDARD
TZOFFSETFROM:-0700
TZOFFSETTO:-0800
TZNAME:PST
DTSTART:20191103T090000
END:STANDARD
BEGIN:DAYLIGHT
TZOFFSETFROM:-0800
TZOFFSETTO:-0700
TZNAME:PDT
DTSTART:20200308T100000
END:DAYLIGHT
BEGIN:STANDARD
TZOFFSETFROM:-0700
TZOFFSETTO:-0800
TZNAME:PST
DTSTART:20201101T090000
END:STANDARD
BEGIN:DAYLIGHT
TZOFFSETFROM:-0800
TZOFFSETTO:-0700
TZNAME:PDT
DTSTART:20210314T100000
END:DAYLIGHT
BEGIN:STANDARD
TZOFFSETFROM:-0700
TZOFFSETTO:-0800
TZNAME:PST
DTSTART:20211107T090000
END:STANDARD
END:VTIMEZONE
BEGIN:VEVENT
DTSTART;TZID=America/Los_Angeles:20200927T193000
DTEND;TZID=America/Los_Angeles:20200927T220000
DTSTAMP:20260421T172807
CREATED:20200914T172953Z
LAST-MODIFIED:20200914T172953Z
UID:10053501-1601235000-1601244000@expositionpark.ca.gov
SUMMARY:LAFC vs San Jose Earthquakes
DESCRIPTION:Home match at Banc of California Stadium with no fans.
URL:https://expositionpark.ca.gov/event/lafc-vs-san-jose-earthquakes-3/
LOCATION:Banc of California Stadium\, 3939 S. Figueroa Street\, Los Angeles\, CA\, 90037\, United States
ORGANIZER;CN="Brian Smith":MAILTO:brian.smith@lafc.com
END:VEVENT
BEGIN:VEVENT
DTSTART;TZID=America/Los_Angeles:20200923T193000
DTEND;TZID=America/Los_Angeles:20200923T220000
DTSTAMP:20260421T172807
CREATED:20200914T171918Z
LAST-MODIFIED:20200914T171918Z
UID:10053500-1600889400-1600898400@expositionpark.ca.gov
SUMMARY:LAFC vs Vancouver Whitecaps FC
DESCRIPTION:Home match at Banc of California Stadium with no fans.
URL:https://expositionpark.ca.gov/event/lafc-vs-vancouver-whitecaps-fc-2/
LOCATION:Banc of California Stadium\, 3939 S. Figueroa Street\, Los Angeles\, CA\, 90037\, United States
ORGANIZER;CN="Brian Smith":MAILTO:brian.smith@lafc.com
END:VEVENT
BEGIN:VEVENT
DTSTART;TZID=America/Los_Angeles:20200228T150000
DTEND;TZID=America/Los_Angeles:20200228T160000
DTSTAMP:20260421T172807
CREATED:20200213T171845Z
LAST-MODIFIED:20200213T171845Z
UID:10051657-1582902000-1582905600@expositionpark.ca.gov
SUMMARY:Private Presentation
DESCRIPTION:BOCS
URL:https://expositionpark.ca.gov/event/private-presentation/
LOCATION:Banc of California Stadium\, 3939 S. Figueroa Street\, Los Angeles\, CA\, 90037\, United States
ORGANIZER;CN="Brian Smith":MAILTO:brian.smith@lafc.com
END:VEVENT
BEGIN:VEVENT
DTSTART;TZID=America/Los_Angeles:20200222T090000
DTEND;TZID=America/Los_Angeles:20200222T170000
DTSTAMP:20260421T172807
CREATED:20200213T171550Z
LAST-MODIFIED:20200213T171550Z
UID:10051650-1582362000-1582390800@expositionpark.ca.gov
SUMMARY:LAFC Training
DESCRIPTION:
URL:https://expositionpark.ca.gov/event/lafc-training-2/2020-02-22/
LOCATION:Banc of California Stadium\, 3939 S. Figueroa Street\, Los Angeles\, CA\, 90037\, United States
ORGANIZER;CN="Brian Smith":MAILTO:brian.smith@lafc.com
END:VEVENT
BEGIN:VEVENT
DTSTART;TZID=America/Los_Angeles:20200221T190000
DTEND;TZID=America/Los_Angeles:20200221T220000
DTSTAMP:20260421T172807
CREATED:20200213T171645Z
LAST-MODIFIED:20200213T171645Z
UID:10051654-1582311600-1582322400@expositionpark.ca.gov
SUMMARY:3252 Monthly Meeting
DESCRIPTION:BOCS
URL:https://expositionpark.ca.gov/event/3252-monthly-meeting/
LOCATION:Banc of California Stadium\, 3939 S. Figueroa Street\, Los Angeles\, CA\, 90037\, United States
ORGANIZER;CN="Brian Smith":MAILTO:brian.smith@lafc.com
END:VEVENT
BEGIN:VEVENT
DTSTART;TZID=America/Los_Angeles:20200220T160000
DTEND;TZID=America/Los_Angeles:20200220T180000
DTSTAMP:20260421T172807
CREATED:20200213T171628Z
LAST-MODIFIED:20200213T171628Z
UID:10051652-1582214400-1582221600@expositionpark.ca.gov
SUMMARY:USC Stadium Tour
DESCRIPTION:BOCS
URL:https://expositionpark.ca.gov/event/usc-stadium-tour/
LOCATION:Banc of California Stadium\, 3939 S. Figueroa Street\, Los Angeles\, CA\, 90037\, United States
ORGANIZER;CN="Brian Smith":MAILTO:brian.smith@lafc.com
END:VEVENT
BEGIN:VEVENT
DTSTART;TZID=America/Los_Angeles:20200218T160000
DTEND;TZID=America/Los_Angeles:20200218T200000
DTSTAMP:20260421T172807
CREATED:20200213T171550Z
LAST-MODIFIED:20200213T171550Z
UID:10051649-1582041600-1582056000@expositionpark.ca.gov
SUMMARY:LAFC Training
DESCRIPTION:
URL:https://expositionpark.ca.gov/event/lafc-training-2/2020-02-18/
LOCATION:Banc of California Stadium\, 3939 S. Figueroa Street\, Los Angeles\, CA\, 90037\, United States
ORGANIZER;CN="Brian Smith":MAILTO:brian.smith@lafc.com
END:VEVENT
BEGIN:VEVENT
DTSTART;TZID=America/Los_Angeles:20200215T090000
DTEND;TZID=America/Los_Angeles:20200215T170000
DTSTAMP:20260421T172807
CREATED:20200213T171346Z
LAST-MODIFIED:20200213T171346Z
UID:10053381-1581757200-1581786000@expositionpark.ca.gov
SUMMARY:LAFC Training
DESCRIPTION:
URL:https://expositionpark.ca.gov/event/lafc-training/
LOCATION:Banc of California Stadium\, 3939 S. Figueroa Street\, Los Angeles\, CA\, 90037\, United States
ORGANIZER;CN="Brian Smith":MAILTO:brian.smith@lafc.com
END:VEVENT
BEGIN:VEVENT
DTSTART;TZID=America/Los_Angeles:20200213T160000
DTEND;TZID=America/Los_Angeles:20200213T190000
DTSTAMP:20260421T172807
CREATED:20200213T171318Z
LAST-MODIFIED:20200213T171318Z
UID:10053380-1581609600-1581620400@expositionpark.ca.gov
SUMMARY:Legends Showcase
DESCRIPTION:Event at BOCS
URL:https://expositionpark.ca.gov/event/legends-showcase/
LOCATION:Banc of California Stadium\, 3939 S. Figueroa Street\, Los Angeles\, CA\, 90037\, United States
ORGANIZER;CN="Brian Smith":MAILTO:brian.smith@lafc.com
END:VEVENT
BEGIN:VEVENT
DTSTART;TZID=America/Los_Angeles:20191116T130000
DTEND;TZID=America/Los_Angeles:20191116T230000
DTSTAMP:20260421T172807
CREATED:20190625T211845Z
LAST-MODIFIED:20190919T193542Z
UID:10053120-1573909200-1573945200@expositionpark.ca.gov
SUMMARY:Adult Swim Festival
DESCRIPTION:Two-day music + comedy festival at Banc of California Stadium.
URL:https://expositionpark.ca.gov/event/adult-swim-festival/2019-11-16/
LOCATION:Banc of California Stadium\, 3939 S. Figueroa Street\, Los Angeles\, CA\, 90037\, United States
ORGANIZER;CN="Brian Smith":MAILTO:brian.smith@lafc.com
END:VEVENT
BEGIN:VEVENT
DTSTART;TZID=America/Los_Angeles:20191115T160000
DTEND;TZID=America/Los_Angeles:20191115T230000
DTSTAMP:20260421T172807
CREATED:20190625T211845Z
LAST-MODIFIED:20190919T193542Z
UID:10053119-1573833600-1573858800@expositionpark.ca.gov
SUMMARY:Adult Swim Festival
DESCRIPTION:Two-day music + comedy festival at Banc of California Stadium.
URL:https://expositionpark.ca.gov/event/adult-swim-festival/2019-11-15/
LOCATION:Banc of California Stadium\, 3939 S. Figueroa Street\, Los Angeles\, CA\, 90037\, United States
ORGANIZER;CN="Brian Smith":MAILTO:brian.smith@lafc.com
END:VEVENT
BEGIN:VEVENT
DTSTART;TZID=America/Los_Angeles:20190817T153000
DTEND;TZID=America/Los_Angeles:20190817T220000
DTSTAMP:20260421T172807
CREATED:20190724T175748Z
LAST-MODIFIED:20190724T175748Z
UID:10053206-1566055800-1566079200@expositionpark.ca.gov
SUMMARY:Top Rank Boxing
DESCRIPTION:
URL:https://expositionpark.ca.gov/event/top-rank-boxing/
LOCATION:Banc of California Stadium\, 3939 S. Figueroa Street\, Los Angeles\, CA\, 90037\, United States
ORGANIZER;CN="Brian Smith":MAILTO:brian.smith@lafc.com
END:VEVENT
BEGIN:VEVENT
DTSTART;TZID=America/Los_Angeles:20190721T170000
DTEND;TZID=America/Los_Angeles:20190721T220000
DTSTAMP:20260421T172807
CREATED:20190409T184105Z
LAST-MODIFIED:20190409T184105Z
UID:10051282-1563728400-1563746400@expositionpark.ca.gov
SUMMARY:Premier Lacrosse League All-Star Game
DESCRIPTION:Premier Lacrosse League All-Star Game at Banc of California Stadium.
URL:https://expositionpark.ca.gov/event/premier-lacrosse-league-all-star-game/
LOCATION:Banc of California Stadium\, 3939 S. Figueroa Street\, Los Angeles\, CA\, 90037\, United States
ORGANIZER;CN="Brian Smith":MAILTO:brian.smith@lafc.com
END:VEVENT
BEGIN:VEVENT
DTSTART;TZID=America/Los_Angeles:20190629T170000
DTEND;TZID=America/Los_Angeles:20190629T230000
DTSTAMP:20260421T172807
CREATED:20190409T184026Z
LAST-MODIFIED:20190409T184026Z
UID:10051280-1561827600-1561849200@expositionpark.ca.gov
SUMMARY:Misfits
DESCRIPTION:Misfits Concert – Banc of California Stadium \n 
URL:https://expositionpark.ca.gov/event/misfits/
LOCATION:Banc of California Stadium\, 3939 S. Figueroa Street\, Los Angeles\, CA\, 90037\, United States
ORGANIZER;CN="Brian Smith":MAILTO:brian.smith@lafc.com
END:VEVENT
BEGIN:VEVENT
DTSTART;TZID=America/Los_Angeles:20190521T113000
DTEND;TZID=America/Los_Angeles:20190521T140000
DTSTAMP:20260421T172807
CREATED:20190423T225522Z
LAST-MODIFIED:20190423T225522Z
UID:10052919-1558438200-1558447200@expositionpark.ca.gov
SUMMARY:Q Awards
DESCRIPTION:Q Awards Reception at Banc of California Stadium.
URL:https://expositionpark.ca.gov/event/q-awards/
LOCATION:Banc of California Stadium\, 3939 S. Figueroa Street\, Los Angeles\, CA\, 90037\, United States
ORGANIZER;CN="Brian Smith":MAILTO:brian.smith@lafc.com
END:VEVENT
BEGIN:VEVENT
DTSTART;TZID=America/Los_Angeles:20190503T180000
DTEND;TZID=America/Los_Angeles:20190503T220000
DTSTAMP:20260421T172807
CREATED:20190418T223522Z
LAST-MODIFIED:20190418T223522Z
UID:10052877-1556906400-1556920800@expositionpark.ca.gov
SUMMARY:Trader Joe's
DESCRIPTION:Trader Joe’s Event at Banc of California Stadium.
URL:https://expositionpark.ca.gov/event/trader-joes/
LOCATION:Banc of California Stadium\, 3939 S. Figueroa Street\, Los Angeles\, CA\, 90037\, United States
ORGANIZER;CN="Brian Smith":MAILTO:brian.smith@lafc.com
END:VEVENT
BEGIN:VEVENT
DTSTART;TZID=America/Los_Angeles:20190430T183000
DTEND;TZID=America/Los_Angeles:20190430T220000
DTSTAMP:20260421T172807
CREATED:20190423T191934Z
LAST-MODIFIED:20190423T191934Z
UID:10052911-1556649000-1556661600@expositionpark.ca.gov
SUMMARY:LA Metro Filming
DESCRIPTION:LA Metro is filming at Banc of California Stadium.
URL:https://expositionpark.ca.gov/event/la-metro-filming/
LOCATION:Banc of California Stadium\, 3939 S. Figueroa Street\, Los Angeles\, CA\, 90037\, United States
ORGANIZER;CN="Brian Smith":MAILTO:brian.smith@lafc.com
END:VEVENT
BEGIN:VEVENT
DTSTART;TZID=America/Los_Angeles:20190415T080000
DTEND;TZID=America/Los_Angeles:20190415T180000
DTSTAMP:20260421T172807
CREATED:20190415T232314Z
LAST-MODIFIED:20190415T232314Z
UID:10052858-1555315200-1555351200@expositionpark.ca.gov
SUMMARY:Pretty Bird - Filming
DESCRIPTION:Commercial Shoot at Banc of California Stadium.
URL:https://expositionpark.ca.gov/event/pretty-bird-filming/
LOCATION:Banc of California Stadium\, 3939 S. Figueroa Street\, Los Angeles\, CA\, 90037\, United States
ORGANIZER;CN="Brian Smith":MAILTO:brian.smith@lafc.com
END:VEVENT
BEGIN:VEVENT
DTSTART;TZID=America/Los_Angeles:20190410T130000
DTEND;TZID=America/Los_Angeles:20190410T170000
DTSTAMP:20260421T172807
CREATED:20190319T195529Z
LAST-MODIFIED:20190319T195529Z
UID:10052722-1554901200-1554915600@expositionpark.ca.gov
SUMMARY:BOCS - Concacaf Press Conference
DESCRIPTION:Press Conference in Field Club at Banc of California Stadium.
URL:https://expositionpark.ca.gov/event/bocs-concacaf-press-conference/
ORGANIZER;CN="Brian Smith":MAILTO:brian.smith@lafc.com
END:VEVENT
BEGIN:VEVENT
DTSTART;TZID=America/Los_Angeles:20190408T173000
DTEND;TZID=America/Los_Angeles:20190408T220000
DTSTAMP:20260421T172807
CREATED:20190319T195544Z
LAST-MODIFIED:20190319T195544Z
UID:10052724-1554744600-1554760800@expositionpark.ca.gov
SUMMARY:BOCS - US Soccer Foundation Gala
DESCRIPTION:US Soccer Foundation Gala at Banc of California Stadium.
URL:https://expositionpark.ca.gov/event/bocs-us-soccer-foundation-gala/
ORGANIZER;CN="Brian Smith":MAILTO:brian.smith@lafc.com
END:VEVENT
BEGIN:VEVENT
DTSTART;TZID=America/Los_Angeles:20190401T040000
DTEND;TZID=America/Los_Angeles:20190403T120000
DTSTAMP:20260421T172807
CREATED:20190326T235513Z
LAST-MODIFIED:20190326T235513Z
UID:10052798-1554091200-1554292800@expositionpark.ca.gov
SUMMARY:Horizon Scripted Television Shoot
DESCRIPTION:Filming: 4/1; 4/2 \nStrike: 4/3
URL:https://expositionpark.ca.gov/event/horizon-scripted-television-shoot/
LOCATION:Banc of California Stadium\, 3939 S. Figueroa Street\, Los Angeles\, CA\, 90037\, United States
ORGANIZER;CN="Brian Smith":MAILTO:brian.smith@lafc.com
END:VEVENT
BEGIN:VEVENT
DTSTART;TZID=America/Los_Angeles:20190329T070000
DTEND;TZID=America/Los_Angeles:20190329T170000
DTSTAMP:20260421T172807
CREATED:20190327T155303Z
LAST-MODIFIED:20190327T155303Z
UID:10052804-1553842800-1553878800@expositionpark.ca.gov
SUMMARY:Horizon Scripted Television - Load-In
DESCRIPTION:Load-In Day for Horizon Scripted Television.
URL:https://expositionpark.ca.gov/event/horizon-scripted-television-load-in/
LOCATION:Banc of California Stadium\, 3939 S. Figueroa Street\, Los Angeles\, CA\, 90037\, United States
ORGANIZER;CN="Brian Smith":MAILTO:brian.smith@lafc.com
END:VEVENT
BEGIN:VEVENT
DTSTART;TZID=America/Los_Angeles:20190328T130000
DTEND;TZID=America/Los_Angeles:20190328T160000
DTSTAMP:20260421T172807
CREATED:20190327T000447Z
LAST-MODIFIED:20190327T000447Z
UID:10052800-1553778000-1553788800@expositionpark.ca.gov
SUMMARY:Lyft Driver Appreciation
DESCRIPTION:Lyft Driver Appreciation event on Sunset Deck at Banc of California Stadium.
URL:https://expositionpark.ca.gov/event/lyft-driver-appreciation/
ORGANIZER;CN="Brian Smith":MAILTO:brian.smith@lafc.com
END:VEVENT
END:VCALENDAR