BEGIN:VCALENDAR
VERSION:2.0
PRODID:-//Exposition Park - ECPv6.15.20//NONSGML v1.0//EN
CALSCALE:GREGORIAN
METHOD:PUBLISH
X-ORIGINAL-URL:https://expositionpark.ca.gov
X-WR-CALDESC:Events for Exposition Park
REFRESH-INTERVAL;VALUE=DURATION:PT1H
X-Robots-Tag:noindex
X-PUBLISHED-TTL:PT1H
BEGIN:VTIMEZONE
TZID:America/Los_Angeles
BEGIN:DAYLIGHT
TZOFFSETFROM:-0800
TZOFFSETTO:-0700
TZNAME:PDT
DTSTART:20170312T100000
END:DAYLIGHT
BEGIN:STANDARD
TZOFFSETFROM:-0700
TZOFFSETTO:-0800
TZNAME:PST
DTSTART:20171105T090000
END:STANDARD
BEGIN:DAYLIGHT
TZOFFSETFROM:-0800
TZOFFSETTO:-0700
TZNAME:PDT
DTSTART:20180311T100000
END:DAYLIGHT
BEGIN:STANDARD
TZOFFSETFROM:-0700
TZOFFSETTO:-0800
TZNAME:PST
DTSTART:20181104T090000
END:STANDARD
BEGIN:DAYLIGHT
TZOFFSETFROM:-0800
TZOFFSETTO:-0700
TZNAME:PDT
DTSTART:20190310T100000
END:DAYLIGHT
BEGIN:STANDARD
TZOFFSETFROM:-0700
TZOFFSETTO:-0800
TZNAME:PST
DTSTART:20191103T090000
END:STANDARD
END:VTIMEZONE
BEGIN:VEVENT
DTSTART;TZID=America/Los_Angeles:20181014T130000
DTEND;TZID=America/Los_Angeles:20181014T150000
DTSTAMP:20260423T154759
CREATED:20180913T222629Z
LAST-MODIFIED:20180913T222629Z
UID:10052300-1539522000-1539529200@expositionpark.ca.gov
SUMMARY:CAAM Family Workshop
DESCRIPTION:Sunday\, October 14\, 2018 | 1:00 – 3:00 p.m. \nDress Up and Figure Drawing Workshop  \nAdd futuristic elements to your attire and take turns as model and artist\, using methods inspired by Robert Pruitt’s work in the exhibition Devotion. Using a limited palette of charcoal and natural tints derived from tea will unify the diverse creativity of each participant.
URL:https://expositionpark.ca.gov/event/caam-family-workshop-6/
LOCATION:United States
END:VEVENT
BEGIN:VEVENT
DTSTART;TZID=America/Los_Angeles:20181011T140000
DTEND;TZID=America/Los_Angeles:20181011T160000
DTSTAMP:20260423T154759
CREATED:20180913T222414Z
LAST-MODIFIED:20180913T222414Z
UID:10052299-1539266400-1539273600@expositionpark.ca.gov
SUMMARY:CAAM Listening to Art
DESCRIPTION:Thursday\, October 11\, 2018 | 2:00 – 4:00 p.m. \nListening to Art with Patricia Smith \nInspired by the work in Nina Chanel Abney’s exhibition Royal Flush\, award-winning poet Patricia Smith reads selections from her recent book\, Incendiary Art\, recipient of the 2018 Kingsley Tufts Poetry Award. One of America’s most electrifying writers\, Smith reveals what is frightening—and what is revelatory—about race and history today. \nPresented in partnership with Claremont Graduate University and the Kingsley & Kate Tufts Poetry Awards.
URL:https://expositionpark.ca.gov/event/caam-listening-to-art/
LOCATION:United States
END:VEVENT
BEGIN:VEVENT
DTSTART;TZID=America/Los_Angeles:20181007T150000
DTEND;TZID=America/Los_Angeles:20181007T163000
DTSTAMP:20260423T154759
CREATED:20180913T222330Z
LAST-MODIFIED:20180913T222330Z
UID:10052296-1538924400-1538929800@expositionpark.ca.gov
SUMMARY:CAAM Reads!
DESCRIPTION:Sunday\, October 7\, 2018 | 3:00 – 4:30 p.m. \nCAAM Reads! My Soul to Keep \nCAAM’s monthly book club continues this fall with titles selected in conjunction with the exhibition Robert Pruitt: Devotion. Pruitt’s work investigates how black identity can reside at the intersection of spiritual traditions\, fictional narratives\, and technology. October’s book is Tananarive Due’s My Soul to Keep. November’s selection is Octavia Butler’s Parable of the Sower. In December\, we will discuss An Unkindness of Ghosts by Rivers Solomon. Join us for spirited discourse moderated by CAAM’s research librarian\, Denise L. Mc Iver.
URL:https://expositionpark.ca.gov/event/caam-reads-7/
LOCATION:United States
END:VEVENT
BEGIN:VEVENT
DTSTART;TZID=America/Los_Angeles:20181007T130000
DTEND;TZID=America/Los_Angeles:20181007T150000
DTSTAMP:20260423T154759
CREATED:20180913T222224Z
LAST-MODIFIED:20180913T222224Z
UID:10052294-1538917200-1538924400@expositionpark.ca.gov
SUMMARY:CAAM Family Workshop
DESCRIPTION:Sunday\, October 7\, 2018 | 1:00 – 3:00 p.m. \nPlaying-Card Art \nThe title of Nina Chanel Abney’s colorful exhibition\, Royal Flush\, refers to a card player’s most valuable hand. By “laying her cards on the table\,” Abney’s paintings reveal truthful aspects of our culture via the barrage of images culled from celebrity videos\, pop-up screens\, advertisements\, news\, icons\, graphics\, and other of-the-moment images. Visitors will use markers\, collage\, and oversized playing cards as a canvas to illustrate their personal views of our daily surroundings.
URL:https://expositionpark.ca.gov/event/caam-family-workshop-5/
LOCATION:United States
END:VEVENT
BEGIN:VEVENT
DTSTART;TZID=America/Los_Angeles:20181004T190000
DTEND;TZID=America/Los_Angeles:20181004T210000
DTSTAMP:20260423T154759
CREATED:20180913T222146Z
LAST-MODIFIED:20180913T222146Z
UID:10052291-1538679600-1538686800@expositionpark.ca.gov
SUMMARY:CAAM In Conversation
DESCRIPTION:Thursday\, October 4\, 2018 | 7:00 – 9:00 p.m. \nIn Conversation: E. Moncell Durden and Vida L. Brown \nIn conjunction with the exhibition The Notion of Family\, examine the history of dance in African American culture with dancer and dance historian E. Moncell Durden and curator Vida L. Brown. Hear about the evolution of dance traditions and dances such as the Backslide\, Apple-Jack\, Lockin\, Electric Boogaloo\, Urban Cha Cha\, and Hip-Hop\, to name a few\, and learn how community and family play key roles in passing down or reshaping certain moves.
URL:https://expositionpark.ca.gov/event/caam-in-conversation-5/
LOCATION:United States
END:VEVENT
BEGIN:VEVENT
DTSTART;TZID=America/Los_Angeles:20180930T130000
DTEND;TZID=America/Los_Angeles:20180930T150000
DTSTAMP:20260423T154759
CREATED:20180529T181540Z
LAST-MODIFIED:20180529T181540Z
UID:10052012-1538312400-1538319600@expositionpark.ca.gov
SUMMARY:CAAM In Conversation
DESCRIPTION:In Conversation: Robert Pruitt with Mar Hollingsworth \nIn conjunction with his exhibition\, Devotion\, artist Robert Pruitt and Visual Arts Curator Mar Hollingsworth examine the larger themes and concepts of Pruitt’s practice and how they relate to the works on view.
URL:https://expositionpark.ca.gov/event/caam-in-conversation-4/
LOCATION:United States
END:VEVENT
BEGIN:VEVENT
DTSTART;TZID=America/Los_Angeles:20180926T190000
DTEND;TZID=America/Los_Angeles:20180926T210000
DTSTAMP:20260423T154759
CREATED:20180529T181526Z
LAST-MODIFIED:20180529T181526Z
UID:10052010-1537988400-1537995600@expositionpark.ca.gov
SUMMARY:CAAM Can’t Stop\, Won’t Stop!
DESCRIPTION:Opening Celebration \nCome one\, come all! \nDJ sets by Val Fleury and Tendaji Lathan \nGood art\, people & food trucks \nFREE \nrsvp@caamuseum.org
URL:https://expositionpark.ca.gov/event/caam-cant-stop-wont-stop-2/
LOCATION:United States
END:VEVENT
BEGIN:VEVENT
DTSTART;TZID=America/Los_Angeles:20180918T150000
DTEND;TZID=America/Los_Angeles:20180918T163000
DTSTAMP:20260423T154759
CREATED:20180529T181456Z
LAST-MODIFIED:20180529T181456Z
UID:10052008-1537282800-1537288200@expositionpark.ca.gov
SUMMARY:CAAM Youth Now
DESCRIPTION:To inspire activism and inspiration in the next generation of leaders\, mentors from Queens of the New Age and Girls Make Beats welcome teens to participate in unscripted conversations and workshops about changing communities through the medium of music. The first two workshops (July 3 and August 7) will include a walkthrough of the exhibition How Sweet the Sound: Gospel Music in Los Angeles to highlight the great contributions of this music movement locally. \n\nTuesday\, July 3\, 2018 | 3:00 – 4:30 p.m.\nTuesday\, August 7\, 2018 | 3:00 – 4:30 p.m.\nTuesday\, September 18\, 2018 | 3:00 – 4:30 p.m.\n\n 
URL:https://expositionpark.ca.gov/event/caam-youth-now-6/
LOCATION:United States
END:VEVENT
BEGIN:VEVENT
DTSTART;TZID=America/Los_Angeles:20180909T150000
DTEND;TZID=America/Los_Angeles:20180909T163000
DTSTAMP:20260423T154759
CREATED:20180529T181443Z
LAST-MODIFIED:20180529T181443Z
UID:10052006-1536505200-1536510600@expositionpark.ca.gov
SUMMARY:CAAM Reads!
DESCRIPTION:Our monthly book club continues this summer with titles selected in conjunction with the exhibition Shinique Smith: Refuge\, which explores consumption\, displacement\, and sanctuary. July’s book is Clothing Poverty: The Hidden World of Fast Fashion and Second-hand Clothes by Andrew Brooks. In August\, we’ll discuss Lynell George’s After/Image: Los Angeles Outside the Frame\, and in September the selection is Evicted: Poverty and Profit in the American City by Matthew Desmond. Join us for lively afternoons of spirited discourse moderated by CAAM Research Librarian\, Denise L. McIver. \n\nSunday\, July 8\, 2018 ǀ 3:00 – 4:30 p.m.\nSunday\, August 12\, 2018 ǀ 3:00 – 4:30 p.m.\nSunday\, September 9\, 2018 ǀ 3:00 – 4:30 p.m.
URL:https://expositionpark.ca.gov/event/caam-reads-6/
LOCATION:United States
END:VEVENT
BEGIN:VEVENT
DTSTART;TZID=America/Los_Angeles:20180907T190000
DTEND;TZID=America/Los_Angeles:20180907T210000
DTSTAMP:20260423T154759
CREATED:20180529T181424Z
LAST-MODIFIED:20180529T181424Z
UID:10051935-1536346800-1536354000@expositionpark.ca.gov
SUMMARY:CAAM Hope is the Chorus
DESCRIPTION:Radical Self Care: Hope is the Chorus \nThis evening of performance and conversation is dedicated to mental wellness and the significance of hope\, help\, and community. Curated with the intention of creating a safe space\, “Hope is the Chorus” celebrates\, discusses\, and highlights the necessity of art in the process of healing. Spoken word\, music\, and song come together to proclaim the therapeutic value of creativity in radical self-care in performances by Shamell Bell\, Matthew Hernandez\, Tonya Ingram\, JP Saxe\, Rotana Tarabzouni\, Alyesha Wise\, and others. The event includes a panel between Matthew Hernandez\, Safia Elhillo\, and Tonya Ingram\, moderated by Jaha Zainabu.
URL:https://expositionpark.ca.gov/event/caam-hope-is-the-chorus/
LOCATION:United States
END:VEVENT
BEGIN:VEVENT
DTSTART;TZID=America/Los_Angeles:20180902T130000
DTEND;TZID=America/Los_Angeles:20180902T150000
DTSTAMP:20260423T154759
CREATED:20180529T181403Z
LAST-MODIFIED:20180529T181403Z
UID:10051934-1535893200-1535900400@expositionpark.ca.gov
SUMMARY:CAAM Family Workshop
DESCRIPTION:Crayon Resist Abstract Landscapes \nCreate vibrant landscapes using crayon resist techniques and explore various types of mark-making with common household items.
URL:https://expositionpark.ca.gov/event/caam-family-workshop-4/
LOCATION:United States
END:VEVENT
BEGIN:VEVENT
DTSTART;TZID=America/Los_Angeles:20180826T150000
DTEND;TZID=America/Los_Angeles:20180826T163000
DTSTAMP:20260423T154759
CREATED:20180529T181306Z
LAST-MODIFIED:20180529T181306Z
UID:10051893-1535295600-1535301000@expositionpark.ca.gov
SUMMARY:CAAM Oh Happy Day
DESCRIPTION:Oh Happy Day: California’s Contributions to Gospel Music \nThis afternoon discussion presented in conjunction with How Sweet the Sound: Gospel in Los Angeles chronicles California gospel from Edwin Hawkins to Mary Mary. Daniel E. Walker\, co-curator of the exhibition\, examines how gospel artists from the Golden State have made an impact on the world.
URL:https://expositionpark.ca.gov/event/caam-oh-happy-day/
LOCATION:United States
END:VEVENT
BEGIN:VEVENT
DTSTART;TZID=America/Los_Angeles:20180826T130000
DTEND;TZID=America/Los_Angeles:20180826T143000
DTSTAMP:20260423T154759
CREATED:20180529T175844Z
LAST-MODIFIED:20180529T175844Z
UID:10051892-1535288400-1535293800@expositionpark.ca.gov
SUMMARY:CAAM In Conversation
DESCRIPTION:In Conversation: Adler Guerrier and Todd Gray \nPresented in conjunction with Adler Guerrier: Conditions and Forms for blck Longevity\, Guerrier and Los Angeles–based artist Todd Gray discuss their related interests in examining landscape and history. Both artists use photography and collage\, exploring the relationship of these mediums to the intersection of personal subjectivity\, public memory\, identity\, and place. Moderated by Diana Nawi\, guest curator of the exhibition. This event is followed by a special garden tour from 4:00 – 5:00 p.m. at the Natural History Museum (NHM) that includes free NHM admission with event RSVP.
URL:https://expositionpark.ca.gov/event/caam-in-conversation-3/
LOCATION:United States
END:VEVENT
BEGIN:VEVENT
DTSTART;TZID=America/Los_Angeles:20180824T190000
DTEND;TZID=America/Los_Angeles:20180824T213000
DTSTAMP:20260423T154759
CREATED:20180529T171431Z
LAST-MODIFIED:20180529T171431Z
UID:10051885-1535137200-1535146200@expositionpark.ca.gov
SUMMARY:CAAM gOD Talk
DESCRIPTION:gOD Talk: A Black Millennials and Faith Conversation Series \nThis six-city conversation series sponsored by the Center for the Study of African American Religious Life at the Smithsonian National Museum of African American History & Culture (NMAAHC) in Washington\, DC\, explores the dynamic ways black millennials engage with religion and spirituality today. Presented in conjunction with How Sweet the Sound: Gospel Music in Los Angeles\, the panelists include the Honorable Mayor Aja Brown\, CAAM History Curator\, Tyree Boyd-Pates\, writer and theologian Candice M. Benbow\, and others. Moderated by Teddy R. Reeves\, museum specialist of religion at NMAAHC.
URL:https://expositionpark.ca.gov/event/caam-god-talk/
LOCATION:United States
END:VEVENT
BEGIN:VEVENT
DTSTART;TZID=America/Los_Angeles:20180819T130000
DTEND;TZID=America/Los_Angeles:20180819T150000
DTSTAMP:20260423T154759
CREATED:20180529T171405Z
LAST-MODIFIED:20180529T171405Z
UID:10050751-1534683600-1534690800@expositionpark.ca.gov
SUMMARY:CAAM In Conversation
DESCRIPTION:In Conversation: Nicole Miller and Naima J. Keith \nJoin us for a conversation between artist Nicole Miller and Deputy Director\, Naima J. Keith\, as they discuss Miller’s current exhibition at the museum\, Nicole Miller: Athens\, California. This immersive 3-channel video installation presents the stories\, struggles\, and dreams of a dynamic group of high school-age students from the local unincorporated community of Athens. Hear more about the work’s protagonists as well as Miller’s unique process as filmmaker.
URL:https://expositionpark.ca.gov/event/caam-in-conversation-2/
LOCATION:United States
END:VEVENT
BEGIN:VEVENT
DTSTART;TZID=America/Los_Angeles:20180812T150000
DTEND;TZID=America/Los_Angeles:20180812T163000
DTSTAMP:20260423T154759
CREATED:20180529T171347Z
LAST-MODIFIED:20180529T171347Z
UID:10050749-1534086000-1534091400@expositionpark.ca.gov
SUMMARY:CAAM Reads!
DESCRIPTION:Our monthly book club continues this summer with titles selected in conjunction with the exhibition Shinique Smith: Refuge\, which explores consumption\, displacement\, and sanctuary. July’s book is Clothing Poverty: The Hidden World of Fast Fashion and Second-hand Clothes by Andrew Brooks. In August\, we’ll discuss Lynell George’s After/Image: Los Angeles Outside the Frame\, and in September the selection is Evicted: Poverty and Profit in the American City by Matthew Desmond. Join us for lively afternoons of spirited discourse moderated by CAAM Research Librarian\, Denise L. McIver. \n\nSunday\, July 8\, 2018 ǀ 3:00 – 4:30 p.m.\nSunday\, August 12\, 2018 ǀ 3:00 – 4:30 p.m.\nSunday\, September 9\, 2018 ǀ 3:00 – 4:30 p.m.\n\n 
URL:https://expositionpark.ca.gov/event/caam-reads-5/
LOCATION:United States
END:VEVENT
BEGIN:VEVENT
DTSTART;TZID=America/Los_Angeles:20180811T140000
DTEND;TZID=America/Los_Angeles:20180811T160000
DTSTAMP:20260423T154759
CREATED:20180529T171326Z
LAST-MODIFIED:20180529T171326Z
UID:10050747-1533996000-1534003200@expositionpark.ca.gov
SUMMARY:CAAM Art in the Park
DESCRIPTION:Listen to the meditative tones of Adler Guerrier’s video\, Untitled\, (blck Devoted to the cause and improvement)\, then go outdoors with teaching artists who will lead an artistic exploration of nature. No experience necessary; materials will be supplied\, just don’t forget to wear a hat and sunscreen! Ages 7 and up.
URL:https://expositionpark.ca.gov/event/caam-art-in-the-park/
END:VEVENT
BEGIN:VEVENT
DTSTART;TZID=America/Los_Angeles:20180810T170000
DTEND;TZID=America/Los_Angeles:20180810T190000
DTSTAMP:20260423T154759
CREATED:20180529T175824Z
LAST-MODIFIED:20180529T175824Z
UID:10051891-1533920400-1533927600@expositionpark.ca.gov
SUMMARY:CAAM Summer Night Extended Hours
DESCRIPTION:Enjoy extended hours into the early evening in conjunction with the Natural History Museum’s Summer Nights in the Garden. Visit CAAM’s five galleries including Adler Guerrier: Conditions and Forms for blck Longevity\, which features quiet\, subjective observations of the landscapes of Los Angeles and Miami.
URL:https://expositionpark.ca.gov/event/caam-summer-night-extended-hours/
LOCATION:United States
END:VEVENT
BEGIN:VEVENT
DTSTART;TZID=America/Los_Angeles:20180807T150000
DTEND;TZID=America/Los_Angeles:20180807T163000
DTSTAMP:20260423T154759
CREATED:20180529T171305Z
LAST-MODIFIED:20180529T171305Z
UID:10050745-1533654000-1533659400@expositionpark.ca.gov
SUMMARY:CAAM Youth Now
DESCRIPTION:To inspire activism and inspiration in the next generation of leaders\, mentors from Queens of the New Age and Girls Make Beats welcome teens to participate in unscripted conversations and workshops about changing communities through the medium of music. The first two workshops (July 3 and August 7) will include a walkthrough of the exhibition How Sweet the Sound: Gospel Music in Los Angeles to highlight the great contributions of this music movement locally. \n\nTuesday\, July 3\, 2018 | 3:00 – 4:30 p.m.\nTuesday\, August 7\, 2018 | 3:00 – 4:30 p.m.\nTuesday\, September 18\, 2018 | 3:00 – 4:30 p.m.
URL:https://expositionpark.ca.gov/event/caam-youth-now-5/
LOCATION:United States
END:VEVENT
BEGIN:VEVENT
DTSTART;TZID=America/Los_Angeles:20180805T130000
DTEND;TZID=America/Los_Angeles:20180805T150000
DTSTAMP:20260423T154759
CREATED:20180529T171246Z
LAST-MODIFIED:20180529T171246Z
UID:10050744-1533474000-1533481200@expositionpark.ca.gov
SUMMARY:CAAM Family Workshop
DESCRIPTION:Bundled with Care: Hands-on Creative Workshop with Shinique Smith \nHow does the meaning of fabric change when you manipulate its shape? What is hidden and what is revealed? Join us for an afternoon reflecting on these objects and ideas of belonging\, while learning more about featured artist Shinique Smith’s process and practice. Inspired by her exhibition Refuge\, visitors will roll fabrics and bind shapes to create soft-sculpture care bundles from items in the exhibition’s Donation Center to extend to homeless people and those who are housing insecure.
URL:https://expositionpark.ca.gov/event/caam-family-workshop-3/
LOCATION:United States
END:VEVENT
BEGIN:VEVENT
DTSTART;TZID=America/Los_Angeles:20180805T110000
DTEND;TZID=America/Los_Angeles:20180805T170000
DTSTAMP:20260423T154759
CREATED:20180529T171115Z
LAST-MODIFIED:20180529T171115Z
UID:10050743-1533466800-1533488400@expositionpark.ca.gov
SUMMARY:CAAM Donation Drive
DESCRIPTION:Refuge: Collected with Care Donation Drive \nShinique Smith: Refuge includes a section in the gallery titled Donation Center\, where donations of new and unused travel-sized toiletries\, feminine hygiene products\, socks\, blankets\, pillows\, sleeping bags\, tarps\, crayons\, sketchbooks\, composition notebooks\, and similar items are welcomed. Visit the exhibition and contribute. Donated items will be distributed at the Refuge Block Party in Leimert Park on Labor Day\, Monday\, September 3\, 2018.
URL:https://expositionpark.ca.gov/event/caam-donation-drive/
LOCATION:United States
END:VEVENT
BEGIN:VEVENT
DTSTART;TZID=America/Los_Angeles:20180802T190000
DTEND;TZID=America/Los_Angeles:20180802T210000
DTSTAMP:20260423T154759
CREATED:20180529T171055Z
LAST-MODIFIED:20180529T171055Z
UID:10050741-1533236400-1533243600@expositionpark.ca.gov
SUMMARY:CAAM In Conversation
DESCRIPTION:In Conversation: Shinique Smith and Hamza Walker \nPresented in conjunction with Shinique Smith: Refuge\, this conversation between the artist and Hamza Walker\, executive director at the nonprofit art space LAXART\, explores Smith’s work and its intersections with both contemporary art and social justice advocacy through the arts.
URL:https://expositionpark.ca.gov/event/caam-in-conversation/
LOCATION:United States
END:VEVENT
BEGIN:VEVENT
DTSTART;TZID=America/Los_Angeles:20180729T130000
DTEND;TZID=America/Los_Angeles:20180729T150000
DTSTAMP:20260423T154759
CREATED:20180529T170947Z
LAST-MODIFIED:20180529T170947Z
UID:10050739-1532869200-1532876400@expositionpark.ca.gov
SUMMARY:CAAM Family Workshop
DESCRIPTION:Writing on the Walls: Street Art Lettering Workshop with Eric “KING CRE8” Walker \nIn conjunction with the exhibition Charting the Terrain\, street and graffiti artist Eric “KING CRE8” Walker guides participants through the process of drawing fonts and elements commonly used in graffiti and street art. Workshop participants will be encouraged to design their own signature\, words\, phrases\, or art elements in a graffiti style. No prior art experience needed; recommended for ages ten years and up.
URL:https://expositionpark.ca.gov/event/caam-family-workshop-2/
LOCATION:United States
END:VEVENT
BEGIN:VEVENT
DTSTART;TZID=America/Los_Angeles:20180721T130000
DTEND;TZID=America/Los_Angeles:20180721T150000
DTSTAMP:20260423T154759
CREATED:20180529T170843Z
LAST-MODIFIED:20180529T170843Z
UID:10050737-1532178000-1532185200@expositionpark.ca.gov
SUMMARY:CAAM Family Workshop
DESCRIPTION:Calligraphy\, Collage\, Marks\, and Material \nArtist Shinique Smith’s forceful and fluid marks evoke graceful writing found in calligraphy\, graffiti\, and painting. Use watercolor\, fabric\, collage\, and embellishments to create your own layered collage painting.
URL:https://expositionpark.ca.gov/event/caam-family-workshop/
LOCATION:United States
END:VEVENT
BEGIN:VEVENT
DTSTART;TZID=America/Los_Angeles:20180719T140000
DTEND;TZID=America/Los_Angeles:20180719T160000
DTSTAMP:20260423T154759
CREATED:20180615T171304Z
LAST-MODIFIED:20180615T171304Z
UID:10052134-1532008800-1532016000@expositionpark.ca.gov
SUMMARY:Radical Self Care Now! Afro-Drum and Flow Yoga
DESCRIPTION:Join us for an afternoon of radical self care with an Afro-drum and flow yoga class\, presented in conjunction with Workout Week LA fitness festival. Experience a meditative combination of African drums with easy-to-follow yoga flows for a soul-centered\, non-judgmental\, and fun experience. All skill levels welcome; bring your yoga mats. Following the session\, enjoy drinks and snacks sponsored by RXBAR\, Honest Tea\, and others.
URL:https://expositionpark.ca.gov/event/radical-self-care-now-afro-drum-and-flow-yoga/
LOCATION:United States
END:VEVENT
BEGIN:VEVENT
DTSTART;TZID=America/Los_Angeles:20180718T190000
DTEND;TZID=America/Los_Angeles:20180718T210000
DTSTAMP:20260423T154759
CREATED:20180529T170800Z
LAST-MODIFIED:20180529T170800Z
UID:10050735-1531940400-1531947600@expositionpark.ca.gov
SUMMARY:CAAM It’s a Reunion!
DESCRIPTION:It’s a Reunion! Washington Prep High School \nInspired by Nicole Miller: Athens\, California\, hear from three esteemed alumni of Washington Prep High School about the impression that Athens\, California\, made on them. Participants include actress Wendy Raquel Robinson; producer and writer Devon Sheppard; and hip-hop recording artist\, actress\, and entrepreneur Yolanda Whitaker\, also known as Yo-Yo. Moderated by George J. McKenna III\, board member\, District 1\, Los Angeles Unified School District Board of Education.
URL:https://expositionpark.ca.gov/event/caam-its-a-reunion/
LOCATION:United States
END:VEVENT
BEGIN:VEVENT
DTSTART;TZID=America/Los_Angeles:20180718T110000
DTEND;TZID=America/Los_Angeles:20180718T160000
DTSTAMP:20260423T154759
CREATED:20180529T170721Z
LAST-MODIFIED:20180529T170721Z
UID:10051883-1531911600-1531929600@expositionpark.ca.gov
SUMMARY:CAAM Radical Self Care Day
DESCRIPTION:Reclaiming Our Time: Radical Self Care Now!  \nWhen Representative Maxine Waters invoked the phrase “reclaiming my time” during a House Financial Services Committee meeting\, social media went ablaze. Used by the Congresswoman to demand that her questions be answered\, the phrase signaled that it was the moment for Waters—and maybe all of us—to take back our power. Radical self care is the bold act of making your quality of life primary. This series explores how a balanced and vibrant life demands that we take our needs into consideration and act upon them. \nPracticing the Art of Radical Self Care \nWe continue Reclaiming Our Time: Radical Self Care Now! with three new activities and practitioners promoting wellness. Join us for a day of healthy outlets for body and mind. \n11:00 a.m. – 12:00 p.m. – Tai Chi Chuan with Seba Inpu Ka Mut\nStart your morning with the art of tai chi chuan. Seba (teacher) Inpu Ka Mut\, martial artist and yogi\, will lead a routine of tai chi\, a moving meditation that can improve health\, longevity\, and mindfulness. \n12:00 – 1:30 p.m. – Black Coffee Experience: The Art of Cupping\nEnjoy a coffee mixer presented by Sip & Sonder\, a cultural center that promotes art\, music\, health\, wellness\, business\, and lifestyle in Inglewood\, California. \n2:00 – 4:00 p.m – Unity in Color Panel: Radical Thinking for Radical Self Care\nA panel of diverse and fearless leaders share their methodologies for care while making a major impact in their respective fields. Participants include Lauren Ash of Black Girl in Om\, Zarna Surti of Tonal Magazine\, and others\, plus a special performance from Malia. Moderated by Jasmine Solano\, founder of Unity in Color\, a global photography series showcasing inclusive solidarity for women’s rights. \nProgram presented in partnership with Kai Exos.
URL:https://expositionpark.ca.gov/event/caam-radical-self-care-day/
LOCATION:United States
END:VEVENT
BEGIN:VEVENT
DTSTART;TZID=America/Los_Angeles:20180714T180000
DTEND;TZID=America/Los_Angeles:20180714T220000
DTSTAMP:20260423T154759
CREATED:20180529T170551Z
LAST-MODIFIED:20180529T170551Z
UID:10051881-1531591200-1531605600@expositionpark.ca.gov
SUMMARY:CAAM KCRW Summer Nights
DESCRIPTION:KCRW Summer Nights at CAAM is back! Come for a sizzling summer evening featuring sets from KCRW DJs Garth Trinidad and Aaron Byrd\, after-hours museum access\, food trucks\, a beer garden\, and more! Dance\, hang\, and enjoy art\, and be sure to check out all of the current exhibitions.
URL:https://expositionpark.ca.gov/event/caam-kcrw-summer-nights/
LOCATION:United States
END:VEVENT
BEGIN:VEVENT
DTSTART;TZID=America/Los_Angeles:20180708T150000
DTEND;TZID=America/Los_Angeles:20180708T163000
DTSTAMP:20260423T154759
CREATED:20180529T170243Z
LAST-MODIFIED:20180529T170243Z
UID:10051877-1531062000-1531067400@expositionpark.ca.gov
SUMMARY:CAAM Reads!
DESCRIPTION:Our monthly book club continues this summer with titles selected in conjunction with the exhibition Shinique Smith: Refuge\, which explores consumption\, displacement\, and sanctuary. July’s book is Clothing Poverty: The Hidden World of Fast Fashion and Second-hand Clothes by Andrew Brooks. In August\, we’ll discuss Lynell George’s After/Image: Los Angeles Outside the Frame\, and in September the selection is Evicted: Poverty and Profit in the American City by Matthew Desmond. Join us for lively afternoons of spirited discourse moderated by CAAM Research Librarian\, Denise L. McIver. \n\nSunday\, July 8\, 2018 ǀ 3:00 – 4:30 p.m.\nSunday\, August 12\, 2018 ǀ 3:00 – 4:30 p.m.\nSunday\, September 9\, 2018 ǀ 3:00 – 4:30 p.m.\n\n 
URL:https://expositionpark.ca.gov/event/caam-reads-4/
LOCATION:United States
END:VEVENT
BEGIN:VEVENT
DTSTART;TZID=America/Los_Angeles:20180708T130000
DTEND;TZID=America/Los_Angeles:20180708T150000
DTSTAMP:20260423T154759
CREATED:20180529T170223Z
LAST-MODIFIED:20180529T170223Z
UID:10051875-1531054800-1531062000@expositionpark.ca.gov
SUMMARY:CAAM Placemaking Portraits 3D
DESCRIPTION:Inspired by ideas and techniques from Adler Guerrier’s exhibition Conditions and Forms for blck Longevity\, CAAM educators guide participants in an art-making workshop to draw\, shape\, and collage images of places in 3D.
URL:https://expositionpark.ca.gov/event/caam-placemaking-portraits-3d/
LOCATION:United States
END:VEVENT
END:VCALENDAR