BEGIN:VCALENDAR
VERSION:2.0
PRODID:-//Exposition Park - ECPv6.15.20//NONSGML v1.0//EN
CALSCALE:GREGORIAN
METHOD:PUBLISH
X-WR-CALNAME:Exposition Park
X-ORIGINAL-URL:https://expositionpark.ca.gov
X-WR-CALDESC:Events for Exposition Park
REFRESH-INTERVAL;VALUE=DURATION:PT1H
X-Robots-Tag:noindex
X-PUBLISHED-TTL:PT1H
BEGIN:VTIMEZONE
TZID:America/Los_Angeles
BEGIN:DAYLIGHT
TZOFFSETFROM:-0800
TZOFFSETTO:-0700
TZNAME:PDT
DTSTART:20150308T100000
END:DAYLIGHT
BEGIN:STANDARD
TZOFFSETFROM:-0700
TZOFFSETTO:-0800
TZNAME:PST
DTSTART:20151101T090000
END:STANDARD
BEGIN:DAYLIGHT
TZOFFSETFROM:-0800
TZOFFSETTO:-0700
TZNAME:PDT
DTSTART:20160313T100000
END:DAYLIGHT
BEGIN:STANDARD
TZOFFSETFROM:-0700
TZOFFSETTO:-0800
TZNAME:PST
DTSTART:20161106T090000
END:STANDARD
BEGIN:DAYLIGHT
TZOFFSETFROM:-0800
TZOFFSETTO:-0700
TZNAME:PDT
DTSTART:20170312T100000
END:DAYLIGHT
BEGIN:STANDARD
TZOFFSETFROM:-0700
TZOFFSETTO:-0800
TZNAME:PST
DTSTART:20171105T090000
END:STANDARD
END:VTIMEZONE
BEGIN:VEVENT
DTSTART;TZID=America/Los_Angeles:20160604T183000
DTEND;TZID=America/Los_Angeles:20160604T213000
DTSTAMP:20260423T145122
CREATED:20160120T000823Z
LAST-MODIFIED:20160120T000823Z
UID:10043600-1465065000-1465075800@expositionpark.ca.gov
SUMMARY:Corporate Event
DESCRIPTION:Parking: TBD  Attendees: 100
URL:https://expositionpark.ca.gov/event/corporate-event-16/
LOCATION:California Science Center\, 700 Exposition Park Drive\, Los Angeles\, CA\, 90037\, United States
ORGANIZER;CN="Kari Mendez":MAILTO:kmendez@cscmail.org
GEO:34.0157877;-118.2862095
X-APPLE-STRUCTURED-LOCATION;VALUE=URI;X-ADDRESS=California Science Center 700 Exposition Park Drive Los Angeles CA 90037 United States;X-APPLE-RADIUS=500;X-TITLE=700 Exposition Park Drive:geo:-118.2862095,34.0157877
END:VEVENT
BEGIN:VEVENT
DTSTART;TZID=America/Los_Angeles:20160604T180000
DTEND;TZID=America/Los_Angeles:20160604T210000
DTSTAMP:20260423T145122
CREATED:20160209T171410Z
LAST-MODIFIED:20160209T171410Z
UID:10043675-1465063200-1465074000@expositionpark.ca.gov
SUMMARY:Corporate Event
DESCRIPTION:Attendees: 100 \nVenue: Samuel Oschin Pavilion
URL:https://expositionpark.ca.gov/event/corporate-event-31/
LOCATION:California Science Center\, 700 Exposition Park Drive\, Los Angeles\, CA\, 90037\, United States
ORGANIZER;CN="Kari Mendez":MAILTO:kmendez@cscmail.org
GEO:34.0157877;-118.2862095
X-APPLE-STRUCTURED-LOCATION;VALUE=URI;X-ADDRESS=California Science Center 700 Exposition Park Drive Los Angeles CA 90037 United States;X-APPLE-RADIUS=500;X-TITLE=700 Exposition Park Drive:geo:-118.2862095,34.0157877
END:VEVENT
BEGIN:VEVENT
DTSTART;TZID=America/Los_Angeles:20160528T190000
DTEND;TZID=America/Los_Angeles:20160528T235500
DTSTAMP:20260423T145122
CREATED:20160209T171408Z
LAST-MODIFIED:20160209T171408Z
UID:10043674-1464462000-1464479700@expositionpark.ca.gov
SUMMARY:Prom
DESCRIPTION:Attendees: 800 \nVenue: Wallis Annenebrg Building
URL:https://expositionpark.ca.gov/event/prom-20/
LOCATION:California Science Center\, 700 Exposition Park Drive\, Los Angeles\, CA\, 90037\, United States
ORGANIZER;CN="Kari Mendez":MAILTO:kmendez@cscmail.org
GEO:34.0157877;-118.2862095
X-APPLE-STRUCTURED-LOCATION;VALUE=URI;X-ADDRESS=California Science Center 700 Exposition Park Drive Los Angeles CA 90037 United States;X-APPLE-RADIUS=500;X-TITLE=700 Exposition Park Drive:geo:-118.2862095,34.0157877
END:VEVENT
BEGIN:VEVENT
DTSTART;TZID=America/Los_Angeles:20160524T080000
DTEND;TZID=America/Los_Angeles:20160524T200000
DTSTAMP:20260423T145122
CREATED:20160209T171406Z
LAST-MODIFIED:20160209T171406Z
UID:10043673-1464076800-1464120000@expositionpark.ca.gov
SUMMARY:California State Science Fair
DESCRIPTION:Attendees: 5\,000
URL:https://expositionpark.ca.gov/event/california-state-science-fair-2/
LOCATION:California Science Center\, 700 Exposition Park Drive\, Los Angeles\, CA\, 90037\, United States
ORGANIZER;CN="Kari Mendez":MAILTO:kmendez@cscmail.org
GEO:34.0157877;-118.2862095
X-APPLE-STRUCTURED-LOCATION;VALUE=URI;X-ADDRESS=California Science Center 700 Exposition Park Drive Los Angeles CA 90037 United States;X-APPLE-RADIUS=500;X-TITLE=700 Exposition Park Drive:geo:-118.2862095,34.0157877
END:VEVENT
BEGIN:VEVENT
DTSTART;TZID=America/Los_Angeles:20160523T080000
DTEND;TZID=America/Los_Angeles:20160523T200000
DTSTAMP:20260423T145122
CREATED:20160209T171404Z
LAST-MODIFIED:20160209T171404Z
UID:10043672-1463990400-1464033600@expositionpark.ca.gov
SUMMARY:California State Science Fair
DESCRIPTION:Attendees: 5\,000
URL:https://expositionpark.ca.gov/event/california-state-science-fair/
LOCATION:California Science Center\, 700 Exposition Park Drive\, Los Angeles\, CA\, 90037\, United States
ORGANIZER;CN="Kari Mendez":MAILTO:kmendez@cscmail.org
GEO:34.0157877;-118.2862095
X-APPLE-STRUCTURED-LOCATION;VALUE=URI;X-ADDRESS=California Science Center 700 Exposition Park Drive Los Angeles CA 90037 United States;X-APPLE-RADIUS=500;X-TITLE=700 Exposition Park Drive:geo:-118.2862095,34.0157877
END:VEVENT
BEGIN:VEVENT
DTSTART;TZID=America/Los_Angeles:20160521T190000
DTEND;TZID=America/Los_Angeles:20160521T230000
DTSTAMP:20260423T145122
CREATED:20160229T204555Z
LAST-MODIFIED:20160311T185546Z
UID:10043783-1463857200-1463871600@expositionpark.ca.gov
SUMMARY:Prom
DESCRIPTION:Venue: California Science Center Main Building \nAttendees: 600
URL:https://expositionpark.ca.gov/event/prom-19/
LOCATION:California Science Center\, 700 Exposition Park Drive\, Los Angeles\, CA\, 90037\, United States
ORGANIZER;CN="Kari Mendez":MAILTO:kmendez@cscmail.org
GEO:34.0157877;-118.2862095
X-APPLE-STRUCTURED-LOCATION;VALUE=URI;X-ADDRESS=California Science Center 700 Exposition Park Drive Los Angeles CA 90037 United States;X-APPLE-RADIUS=500;X-TITLE=700 Exposition Park Drive:geo:-118.2862095,34.0157877
END:VEVENT
BEGIN:VEVENT
DTSTART;TZID=America/Los_Angeles:20160515T183000
DTEND;TZID=America/Los_Angeles:20160515T220000
DTSTAMP:20260423T145122
CREATED:20160209T171227Z
LAST-MODIFIED:20160209T171227Z
UID:10043668-1463337000-1463349600@expositionpark.ca.gov
SUMMARY:Corporate Event
DESCRIPTION:Attendees: 400 \nVenue: Samuel Oschin Pavilion
URL:https://expositionpark.ca.gov/event/corporate-event-30/
LOCATION:California Science Center\, 700 Exposition Park Drive\, Los Angeles\, CA\, 90037\, United States
ORGANIZER;CN="Kari Mendez":MAILTO:kmendez@cscmail.org
GEO:34.0157877;-118.2862095
X-APPLE-STRUCTURED-LOCATION;VALUE=URI;X-ADDRESS=California Science Center 700 Exposition Park Drive Los Angeles CA 90037 United States;X-APPLE-RADIUS=500;X-TITLE=700 Exposition Park Drive:geo:-118.2862095,34.0157877
END:VEVENT
BEGIN:VEVENT
DTSTART;TZID=America/Los_Angeles:20160514T190000
DTEND;TZID=America/Los_Angeles:20160514T235500
DTSTAMP:20260423T145122
CREATED:20160209T171225Z
LAST-MODIFIED:20160209T171225Z
UID:10043667-1463252400-1463270100@expositionpark.ca.gov
SUMMARY:Prom
DESCRIPTION:Attendees: 500 \nVenue: Wallis Annenberg Building
URL:https://expositionpark.ca.gov/event/prom-15/
LOCATION:California Science Center\, 700 Exposition Park Drive\, Los Angeles\, CA\, 90037\, United States
ORGANIZER;CN="Kari Mendez":MAILTO:kmendez@cscmail.org
GEO:34.0157877;-118.2862095
X-APPLE-STRUCTURED-LOCATION;VALUE=URI;X-ADDRESS=California Science Center 700 Exposition Park Drive Los Angeles CA 90037 United States;X-APPLE-RADIUS=500;X-TITLE=700 Exposition Park Drive:geo:-118.2862095,34.0157877
END:VEVENT
BEGIN:VEVENT
DTSTART;TZID=America/Los_Angeles:20160507T190000
DTEND;TZID=America/Los_Angeles:20160507T235500
DTSTAMP:20260423T145122
CREATED:20160209T171223Z
LAST-MODIFIED:20160209T171223Z
UID:10043666-1462647600-1462665300@expositionpark.ca.gov
SUMMARY:Prom
DESCRIPTION:Attendees: 800 \nVenue: Samuel Oschin Pavilion
URL:https://expositionpark.ca.gov/event/prom-14/
LOCATION:California Science Center\, 700 Exposition Park Drive\, Los Angeles\, CA\, 90037\, United States
ORGANIZER;CN="Kari Mendez":MAILTO:kmendez@cscmail.org
GEO:34.0157877;-118.2862095
X-APPLE-STRUCTURED-LOCATION;VALUE=URI;X-ADDRESS=California Science Center 700 Exposition Park Drive Los Angeles CA 90037 United States;X-APPLE-RADIUS=500;X-TITLE=700 Exposition Park Drive:geo:-118.2862095,34.0157877
END:VEVENT
BEGIN:VEVENT
DTSTART;TZID=America/Los_Angeles:20160507T190000
DTEND;TZID=America/Los_Angeles:20160507T235500
DTSTAMP:20260423T145122
CREATED:20160209T171221Z
LAST-MODIFIED:20160209T171221Z
UID:10043665-1462647600-1462665300@expositionpark.ca.gov
SUMMARY:Prom
DESCRIPTION:Attendees: 500 \nVenue: Wallis Annenberg Building
URL:https://expositionpark.ca.gov/event/prom-13/
LOCATION:California Science Center\, 700 Exposition Park Drive\, Los Angeles\, CA\, 90037\, United States
ORGANIZER;CN="Kari Mendez":MAILTO:kmendez@cscmail.org
GEO:34.0157877;-118.2862095
X-APPLE-STRUCTURED-LOCATION;VALUE=URI;X-ADDRESS=California Science Center 700 Exposition Park Drive Los Angeles CA 90037 United States;X-APPLE-RADIUS=500;X-TITLE=700 Exposition Park Drive:geo:-118.2862095,34.0157877
END:VEVENT
BEGIN:VEVENT
DTSTART;TZID=America/Los_Angeles:20160430T190000
DTEND;TZID=America/Los_Angeles:20160430T235500
DTSTAMP:20260423T145122
CREATED:20160209T171219Z
LAST-MODIFIED:20160209T171219Z
UID:10043664-1462042800-1462060500@expositionpark.ca.gov
SUMMARY:Prom
DESCRIPTION:Attendees: 800 \nVenue: Wallis Annenberg Building
URL:https://expositionpark.ca.gov/event/prom-12/
LOCATION:California Science Center\, 700 Exposition Park Drive\, Los Angeles\, CA\, 90037\, United States
ORGANIZER;CN="Kari Mendez":MAILTO:kmendez@cscmail.org
GEO:34.0157877;-118.2862095
X-APPLE-STRUCTURED-LOCATION;VALUE=URI;X-ADDRESS=California Science Center 700 Exposition Park Drive Los Angeles CA 90037 United States;X-APPLE-RADIUS=500;X-TITLE=700 Exposition Park Drive:geo:-118.2862095,34.0157877
END:VEVENT
BEGIN:VEVENT
DTSTART;TZID=America/Los_Angeles:20160430T190000
DTEND;TZID=America/Los_Angeles:20160430T235500
DTSTAMP:20260423T145122
CREATED:20160209T171216Z
LAST-MODIFIED:20160209T171216Z
UID:10043663-1462042800-1462060500@expositionpark.ca.gov
SUMMARY:Prom
DESCRIPTION:Attendees: 700 \nVenue: Samuel Oschin Pavilion
URL:https://expositionpark.ca.gov/event/prom-11/
LOCATION:California Science Center\, 700 Exposition Park Drive\, Los Angeles\, CA\, 90037\, United States
ORGANIZER;CN="Kari Mendez":MAILTO:kmendez@cscmail.org
GEO:34.0157877;-118.2862095
X-APPLE-STRUCTURED-LOCATION;VALUE=URI;X-ADDRESS=California Science Center 700 Exposition Park Drive Los Angeles CA 90037 United States;X-APPLE-RADIUS=500;X-TITLE=700 Exposition Park Drive:geo:-118.2862095,34.0157877
END:VEVENT
BEGIN:VEVENT
DTSTART;TZID=America/Los_Angeles:20160429T090000
DTEND;TZID=America/Los_Angeles:20160429T170000
DTSTAMP:20260423T145122
CREATED:20160209T171214Z
LAST-MODIFIED:20160209T171214Z
UID:10043662-1461920400-1461949200@expositionpark.ca.gov
SUMMARY:Corporate Event
DESCRIPTION:Attendees: 125 \nVenue: Muses Room
URL:https://expositionpark.ca.gov/event/corporate-event-29/
LOCATION:California Science Center\, 700 Exposition Park Drive\, Los Angeles\, CA\, 90037\, United States
ORGANIZER;CN="Kari Mendez":MAILTO:kmendez@cscmail.org
GEO:34.0157877;-118.2862095
X-APPLE-STRUCTURED-LOCATION;VALUE=URI;X-ADDRESS=California Science Center 700 Exposition Park Drive Los Angeles CA 90037 United States;X-APPLE-RADIUS=500;X-TITLE=700 Exposition Park Drive:geo:-118.2862095,34.0157877
END:VEVENT
BEGIN:VEVENT
DTSTART;TZID=America/Los_Angeles:20160426T090000
DTEND;TZID=America/Los_Angeles:20160426T150000
DTSTAMP:20260423T145122
CREATED:20160302T170939Z
LAST-MODIFIED:20160302T170939Z
UID:10043787-1461661200-1461682800@expositionpark.ca.gov
SUMMARY:Corporate Event
DESCRIPTION:Venue: Loker Conference Center \nAttendees: TBD
URL:https://expositionpark.ca.gov/event/corporate-event-56/
LOCATION:California Science Center\, 700 Exposition Park Drive\, Los Angeles\, CA\, 90037\, United States
ORGANIZER;CN="Kari Mendez":MAILTO:kmendez@cscmail.org
GEO:34.0157877;-118.2862095
X-APPLE-STRUCTURED-LOCATION;VALUE=URI;X-ADDRESS=California Science Center 700 Exposition Park Drive Los Angeles CA 90037 United States;X-APPLE-RADIUS=500;X-TITLE=700 Exposition Park Drive:geo:-118.2862095,34.0157877
END:VEVENT
BEGIN:VEVENT
DTSTART;TZID=America/Los_Angeles:20160424T120000
DTEND;TZID=America/Los_Angeles:20160424T170000
DTSTAMP:20260423T145122
CREATED:20160209T171211Z
LAST-MODIFIED:20160209T171211Z
UID:10043661-1461499200-1461517200@expositionpark.ca.gov
SUMMARY:Corporate Event
DESCRIPTION:Attendees: 150 \nVenue: Muses Room
URL:https://expositionpark.ca.gov/event/corporate-event-28/
LOCATION:California Science Center\, 700 Exposition Park Drive\, Los Angeles\, CA\, 90037\, United States
ORGANIZER;CN="Kari Mendez":MAILTO:kmendez@cscmail.org
GEO:34.0157877;-118.2862095
X-APPLE-STRUCTURED-LOCATION;VALUE=URI;X-ADDRESS=California Science Center 700 Exposition Park Drive Los Angeles CA 90037 United States;X-APPLE-RADIUS=500;X-TITLE=700 Exposition Park Drive:geo:-118.2862095,34.0157877
END:VEVENT
BEGIN:VEVENT
DTSTART;TZID=America/Los_Angeles:20160423T190000
DTEND;TZID=America/Los_Angeles:20160423T235500
DTSTAMP:20260423T145122
CREATED:20160209T171235Z
LAST-MODIFIED:20160209T171235Z
UID:10043671-1461438000-1461455700@expositionpark.ca.gov
SUMMARY:Prom
DESCRIPTION:Attendees: 600 \nVenue Wallis Annenberg Building
URL:https://expositionpark.ca.gov/event/prom-18/
LOCATION:California Science Center\, 700 Exposition Park Drive\, Los Angeles\, CA\, 90037\, United States
ORGANIZER;CN="Kari Mendez":MAILTO:kmendez@cscmail.org
GEO:34.0157877;-118.2862095
X-APPLE-STRUCTURED-LOCATION;VALUE=URI;X-ADDRESS=California Science Center 700 Exposition Park Drive Los Angeles CA 90037 United States;X-APPLE-RADIUS=500;X-TITLE=700 Exposition Park Drive:geo:-118.2862095,34.0157877
END:VEVENT
BEGIN:VEVENT
DTSTART;TZID=America/Los_Angeles:20160422T193000
DTEND;TZID=America/Los_Angeles:20160422T233000
DTSTAMP:20260423T145122
CREATED:20160209T171209Z
LAST-MODIFIED:20160209T171209Z
UID:10043660-1461353400-1461367800@expositionpark.ca.gov
SUMMARY:Prom
DESCRIPTION:Attendees: 300 \nVenue: Wallis Annenberg Building
URL:https://expositionpark.ca.gov/event/prom-10/
LOCATION:California Science Center\, 700 Exposition Park Drive\, Los Angeles\, CA\, 90037\, United States
ORGANIZER;CN="Kari Mendez":MAILTO:kmendez@cscmail.org
GEO:34.0157877;-118.2862095
X-APPLE-STRUCTURED-LOCATION;VALUE=URI;X-ADDRESS=California Science Center 700 Exposition Park Drive Los Angeles CA 90037 United States;X-APPLE-RADIUS=500;X-TITLE=700 Exposition Park Drive:geo:-118.2862095,34.0157877
END:VEVENT
BEGIN:VEVENT
DTSTART;TZID=America/Los_Angeles:20160416T190000
DTEND;TZID=America/Los_Angeles:20160416T235500
DTSTAMP:20260423T145122
CREATED:20160209T171233Z
LAST-MODIFIED:20160209T171233Z
UID:10043670-1460833200-1460850900@expositionpark.ca.gov
SUMMARY:Prom
DESCRIPTION:Attendees: 700 \nVenue: Wallis Annenberg Building
URL:https://expositionpark.ca.gov/event/prom-17/
LOCATION:California Science Center\, 700 Exposition Park Drive\, Los Angeles\, CA\, 90037\, United States
ORGANIZER;CN="Kari Mendez":MAILTO:kmendez@cscmail.org
GEO:34.0157877;-118.2862095
X-APPLE-STRUCTURED-LOCATION;VALUE=URI;X-ADDRESS=California Science Center 700 Exposition Park Drive Los Angeles CA 90037 United States;X-APPLE-RADIUS=500;X-TITLE=700 Exposition Park Drive:geo:-118.2862095,34.0157877
END:VEVENT
BEGIN:VEVENT
DTSTART;TZID=America/Los_Angeles:20160416T190000
DTEND;TZID=America/Los_Angeles:20160416T220000
DTSTAMP:20260423T145122
CREATED:20160209T171206Z
LAST-MODIFIED:20160209T171206Z
UID:10043659-1460833200-1460844000@expositionpark.ca.gov
SUMMARY:Social Event
DESCRIPTION:Attendees: 200 \nVenue: Samuel Oschin Pavilion
URL:https://expositionpark.ca.gov/event/social-event-9/
LOCATION:California Science Center\, 700 Exposition Park Drive\, Los Angeles\, CA\, 90037\, United States
ORGANIZER;CN="Kari Mendez":MAILTO:kmendez@cscmail.org
GEO:34.0157877;-118.2862095
X-APPLE-STRUCTURED-LOCATION;VALUE=URI;X-ADDRESS=California Science Center 700 Exposition Park Drive Los Angeles CA 90037 United States;X-APPLE-RADIUS=500;X-TITLE=700 Exposition Park Drive:geo:-118.2862095,34.0157877
END:VEVENT
BEGIN:VEVENT
DTSTART;TZID=America/Los_Angeles:20160409T190000
DTEND;TZID=America/Los_Angeles:20160409T235500
DTSTAMP:20260423T145122
CREATED:20160209T171230Z
LAST-MODIFIED:20160209T171230Z
UID:10043669-1460228400-1460246100@expositionpark.ca.gov
SUMMARY:Social Event
DESCRIPTION:Attendees: 1\,000 \nVenue: Ahmanson Building\, Ecosystems\, and Samuel Oschin Pavilion
URL:https://expositionpark.ca.gov/event/social-event-10/
LOCATION:California Science Center\, 700 Exposition Park Drive\, Los Angeles\, CA\, 90037\, United States
ORGANIZER;CN="Kari Mendez":MAILTO:kmendez@cscmail.org
GEO:34.0157877;-118.2862095
X-APPLE-STRUCTURED-LOCATION;VALUE=URI;X-ADDRESS=California Science Center 700 Exposition Park Drive Los Angeles CA 90037 United States;X-APPLE-RADIUS=500;X-TITLE=700 Exposition Park Drive:geo:-118.2862095,34.0157877
END:VEVENT
BEGIN:VEVENT
DTSTART;TZID=America/Los_Angeles:20160319T190000
DTEND;TZID=America/Los_Angeles:20160319T220000
DTSTAMP:20260423T145122
CREATED:20160209T171036Z
LAST-MODIFIED:20160209T171036Z
UID:10043657-1458414000-1458424800@expositionpark.ca.gov
SUMMARY:Social Event
DESCRIPTION:Attendees: 200 \nVenue: Samuel Oschin Pavilion
URL:https://expositionpark.ca.gov/event/social-event-8/
LOCATION:California Science Center\, 700 Exposition Park Drive\, Los Angeles\, CA\, 90037\, United States
ORGANIZER;CN="Kari Mendez":MAILTO:kmendez@cscmail.org
GEO:34.0157877;-118.2862095
X-APPLE-STRUCTURED-LOCATION;VALUE=URI;X-ADDRESS=California Science Center 700 Exposition Park Drive Los Angeles CA 90037 United States;X-APPLE-RADIUS=500;X-TITLE=700 Exposition Park Drive:geo:-118.2862095,34.0157877
END:VEVENT
BEGIN:VEVENT
DTSTART;TZID=America/Los_Angeles:20160319T070000
DTEND;TZID=America/Los_Angeles:20160319T170000
DTSTAMP:20260423T145122
CREATED:20160209T171020Z
LAST-MODIFIED:20160209T171020Z
UID:10043656-1458370800-1458406800@expositionpark.ca.gov
SUMMARY:Educational Event
DESCRIPTION:Attendees: 500 \nVenue: Loker Conference Center
URL:https://expositionpark.ca.gov/event/educational-event/
LOCATION:California Science Center\, 700 Exposition Park Drive\, Los Angeles\, CA\, 90037\, United States
ORGANIZER;CN="Kari Mendez":MAILTO:kmendez@cscmail.org
GEO:34.0157877;-118.2862095
X-APPLE-STRUCTURED-LOCATION;VALUE=URI;X-ADDRESS=California Science Center 700 Exposition Park Drive Los Angeles CA 90037 United States;X-APPLE-RADIUS=500;X-TITLE=700 Exposition Park Drive:geo:-118.2862095,34.0157877
END:VEVENT
BEGIN:VEVENT
DTSTART;TZID=America/Los_Angeles:20160317T190000
DTEND;TZID=America/Los_Angeles:20160317T220000
DTSTAMP:20260423T145122
CREATED:20160321T163604Z
LAST-MODIFIED:20160321T163604Z
UID:10043818-1458241200-1458252000@expositionpark.ca.gov
SUMMARY:Corporate Event
DESCRIPTION:Venue: Samuel Oschin Pavilion
URL:https://expositionpark.ca.gov/event/corporate-event-49/
LOCATION:California Science Center\, 700 Exposition Park Drive\, Los Angeles\, CA\, 90037\, United States
ORGANIZER;CN="Kari Mendez":MAILTO:kmendez@cscmail.org
GEO:34.0157877;-118.2862095
X-APPLE-STRUCTURED-LOCATION;VALUE=URI;X-ADDRESS=California Science Center 700 Exposition Park Drive Los Angeles CA 90037 United States;X-APPLE-RADIUS=500;X-TITLE=700 Exposition Park Drive:geo:-118.2862095,34.0157877
END:VEVENT
BEGIN:VEVENT
DTSTART;TZID=America/Los_Angeles:20160315T180000
DTEND;TZID=America/Los_Angeles:20160315T210000
DTSTAMP:20260423T145122
CREATED:20160209T171116Z
LAST-MODIFIED:20160209T171116Z
UID:10043658-1458064800-1458075600@expositionpark.ca.gov
SUMMARY:Corporate Event
DESCRIPTION:Attendees: 35 \nVenue: Samuel Oschin Pavilion
URL:https://expositionpark.ca.gov/event/corporate-event-24/
LOCATION:California Science Center\, 700 Exposition Park Drive\, Los Angeles\, CA\, 90037\, United States
ORGANIZER;CN="Kari Mendez":MAILTO:kmendez@cscmail.org
GEO:34.0157877;-118.2862095
X-APPLE-STRUCTURED-LOCATION;VALUE=URI;X-ADDRESS=California Science Center 700 Exposition Park Drive Los Angeles CA 90037 United States;X-APPLE-RADIUS=500;X-TITLE=700 Exposition Park Drive:geo:-118.2862095,34.0157877
END:VEVENT
BEGIN:VEVENT
DTSTART;TZID=America/Los_Angeles:20160314T173000
DTEND;TZID=America/Los_Angeles:20160314T203000
DTSTAMP:20260423T145122
CREATED:20160208T231829Z
LAST-MODIFIED:20160208T231829Z
UID:10043654-1457976600-1457987400@expositionpark.ca.gov
SUMMARY:Corporate Event
DESCRIPTION:Attendees: 400
URL:https://expositionpark.ca.gov/event/corporate-event-21/
LOCATION:California Science Center\, 700 Exposition Park Drive\, Los Angeles\, CA\, 90037\, United States
ORGANIZER;CN="Kari Mendez":MAILTO:kmendez@cscmail.org
GEO:34.0157877;-118.2862095
X-APPLE-STRUCTURED-LOCATION;VALUE=URI;X-ADDRESS=California Science Center 700 Exposition Park Drive Los Angeles CA 90037 United States;X-APPLE-RADIUS=500;X-TITLE=700 Exposition Park Drive:geo:-118.2862095,34.0157877
END:VEVENT
BEGIN:VEVENT
DTSTART;TZID=America/Los_Angeles:20160314T090000
DTEND;TZID=America/Los_Angeles:20160314T170000
DTSTAMP:20260423T145122
CREATED:20160209T170818Z
LAST-MODIFIED:20160209T170818Z
UID:10043655-1457946000-1457974800@expositionpark.ca.gov
SUMMARY:Corporate Event
DESCRIPTION:Attendees: 150 \nVenue: Muses Room
URL:https://expositionpark.ca.gov/event/corporate-event-23/
LOCATION:California Science Center\, 700 Exposition Park Drive\, Los Angeles\, CA\, 90037\, United States
ORGANIZER;CN="Kari Mendez":MAILTO:kmendez@cscmail.org
GEO:34.0157877;-118.2862095
X-APPLE-STRUCTURED-LOCATION;VALUE=URI;X-ADDRESS=California Science Center 700 Exposition Park Drive Los Angeles CA 90037 United States;X-APPLE-RADIUS=500;X-TITLE=700 Exposition Park Drive:geo:-118.2862095,34.0157877
END:VEVENT
BEGIN:VEVENT
DTSTART;TZID=America/Los_Angeles:20160310T190000
DTEND;TZID=America/Los_Angeles:20160310T220000
DTSTAMP:20260423T145122
CREATED:20160208T201316Z
LAST-MODIFIED:20160209T170715Z
UID:10043653-1457636400-1457647200@expositionpark.ca.gov
SUMMARY:Corporate Event
DESCRIPTION:Attendees: 800 \nVenue: Muses Room
URL:https://expositionpark.ca.gov/event/corporate-event-22/
LOCATION:California Science Center\, 700 Exposition Park Drive\, Los Angeles\, CA\, 90037\, United States
ORGANIZER;CN="Kari Mendez":MAILTO:kmendez@cscmail.org
GEO:34.0157877;-118.2862095
X-APPLE-STRUCTURED-LOCATION;VALUE=URI;X-ADDRESS=California Science Center 700 Exposition Park Drive Los Angeles CA 90037 United States;X-APPLE-RADIUS=500;X-TITLE=700 Exposition Park Drive:geo:-118.2862095,34.0157877
END:VEVENT
BEGIN:VEVENT
DTSTART;TZID=America/Los_Angeles:20160309T090000
DTEND;TZID=America/Los_Angeles:20160309T213000
DTSTAMP:20260423T145122
CREATED:20160208T200946Z
LAST-MODIFIED:20160208T200946Z
UID:10043652-1457514000-1457559000@expositionpark.ca.gov
SUMMARY:Corporate Event
DESCRIPTION:
URL:https://expositionpark.ca.gov/event/corporate-event-20/
LOCATION:California Science Center\, 700 Exposition Park Drive\, Los Angeles\, CA\, 90037\, United States
ORGANIZER;CN="Kari Mendez":MAILTO:kmendez@cscmail.org
GEO:34.0157877;-118.2862095
X-APPLE-STRUCTURED-LOCATION;VALUE=URI;X-ADDRESS=California Science Center 700 Exposition Park Drive Los Angeles CA 90037 United States;X-APPLE-RADIUS=500;X-TITLE=700 Exposition Park Drive:geo:-118.2862095,34.0157877
END:VEVENT
BEGIN:VEVENT
DTSTART;TZID=America/Los_Angeles:20160305T190000
DTEND;TZID=America/Los_Angeles:20160305T223000
DTSTAMP:20260423T145122
CREATED:20160208T200928Z
LAST-MODIFIED:20160208T200928Z
UID:10043651-1457204400-1457217000@expositionpark.ca.gov
SUMMARY:Corporate Event
DESCRIPTION:
URL:https://expositionpark.ca.gov/event/corporate-event-19/
LOCATION:California Science Center\, 700 Exposition Park Drive\, Los Angeles\, CA\, 90037\, United States
ORGANIZER;CN="Kari Mendez":MAILTO:kmendez@cscmail.org
GEO:34.0157877;-118.2862095
X-APPLE-STRUCTURED-LOCATION;VALUE=URI;X-ADDRESS=California Science Center 700 Exposition Park Drive Los Angeles CA 90037 United States;X-APPLE-RADIUS=500;X-TITLE=700 Exposition Park Drive:geo:-118.2862095,34.0157877
END:VEVENT
BEGIN:VEVENT
DTSTART;TZID=America/Los_Angeles:20160211T200000
DTEND;TZID=America/Los_Angeles:20160212T000000
DTSTAMP:20260423T145122
CREATED:20160120T000818Z
LAST-MODIFIED:20160120T000818Z
UID:10043554-1455220800-1455235200@expositionpark.ca.gov
SUMMARY:Corporate Event
DESCRIPTION:Parking: TBD  Attendees: 400
URL:https://expositionpark.ca.gov/event/corporate-event-14/
LOCATION:California Science Center\, 700 Exposition Park Drive\, Los Angeles\, CA\, 90037\, United States
ORGANIZER;CN="Kari Mendez":MAILTO:kmendez@cscmail.org
GEO:34.0157877;-118.2862095
X-APPLE-STRUCTURED-LOCATION;VALUE=URI;X-ADDRESS=California Science Center 700 Exposition Park Drive Los Angeles CA 90037 United States;X-APPLE-RADIUS=500;X-TITLE=700 Exposition Park Drive:geo:-118.2862095,34.0157877
END:VEVENT
END:VCALENDAR