BEGIN:VCALENDAR
VERSION:2.0
PRODID:-//Exposition Park - ECPv6.15.20//NONSGML v1.0//EN
CALSCALE:GREGORIAN
METHOD:PUBLISH
X-WR-CALNAME:Exposition Park
X-ORIGINAL-URL:https://expositionpark.ca.gov
X-WR-CALDESC:Events for Exposition Park
REFRESH-INTERVAL;VALUE=DURATION:PT1H
X-Robots-Tag:noindex
X-PUBLISHED-TTL:PT1H
BEGIN:VTIMEZONE
TZID:America/Los_Angeles
BEGIN:DAYLIGHT
TZOFFSETFROM:-0800
TZOFFSETTO:-0700
TZNAME:PDT
DTSTART:20190310T100000
END:DAYLIGHT
BEGIN:STANDARD
TZOFFSETFROM:-0700
TZOFFSETTO:-0800
TZNAME:PST
DTSTART:20191103T090000
END:STANDARD
BEGIN:DAYLIGHT
TZOFFSETFROM:-0800
TZOFFSETTO:-0700
TZNAME:PDT
DTSTART:20200308T100000
END:DAYLIGHT
BEGIN:STANDARD
TZOFFSETFROM:-0700
TZOFFSETTO:-0800
TZNAME:PST
DTSTART:20201101T090000
END:STANDARD
BEGIN:DAYLIGHT
TZOFFSETFROM:-0800
TZOFFSETTO:-0700
TZNAME:PDT
DTSTART:20210314T100000
END:DAYLIGHT
BEGIN:STANDARD
TZOFFSETFROM:-0700
TZOFFSETTO:-0800
TZNAME:PST
DTSTART:20211107T090000
END:STANDARD
BEGIN:DAYLIGHT
TZOFFSETFROM:-0800
TZOFFSETTO:-0700
TZNAME:PDT
DTSTART:20220313T100000
END:DAYLIGHT
BEGIN:STANDARD
TZOFFSETFROM:-0700
TZOFFSETTO:-0800
TZNAME:PST
DTSTART:20221106T090000
END:STANDARD
END:VTIMEZONE
BEGIN:VEVENT
DTSTART;TZID=America/Los_Angeles:20210521T060000
DTEND;TZID=America/Los_Angeles:20210521T180000
DTSTAMP:20260424T120650
CREATED:20210511T165757Z
LAST-MODIFIED:20210511T165757Z
UID:10053621-1621576800-1621620000@expositionpark.ca.gov
SUMMARY:USC Commencement
DESCRIPTION:
URL:https://expositionpark.ca.gov/event/usc-commencement-4/2021-05-21/
LOCATION:Boardwalk Area 4\, 3980 S Bill Robertson Ln\, Los Angeles\, CA\, 90037\, United States
END:VEVENT
BEGIN:VEVENT
DTSTART;TZID=America/Los_Angeles:20210508T183000
DTEND;TZID=America/Los_Angeles:20210508T223000
DTSTAMP:20260424T120650
CREATED:20210511T170017Z
LAST-MODIFIED:20210511T170017Z
UID:10051835-1620498600-1620513000@expositionpark.ca.gov
SUMMARY:Tricolor Soccer League
DESCRIPTION:
URL:https://expositionpark.ca.gov/event/tricolor-soccer-league/
LOCATION:Soboroff Playfield\, 3980 S. Bill Robertson Lane\, Los Angeles\, CA\, 90037\, United States
END:VEVENT
BEGIN:VEVENT
DTSTART;TZID=America/Los_Angeles:20201114T070000
DTEND;TZID=America/Los_Angeles:20201114T150000
DTSTAMP:20260424T120650
CREATED:20201008T185052Z
LAST-MODIFIED:20201008T185052Z
UID:10051736-1605337200-1605366000@expositionpark.ca.gov
SUMMARY:Field Hockey Clinic
DESCRIPTION:
URL:https://expositionpark.ca.gov/event/field-hockey-clinic/
LOCATION:Soboroff Playfield\, 3980 S. Bill Robertson Lane\, Los Angeles\, CA\, 90037\, United States
END:VEVENT
BEGIN:VEVENT
DTSTART;TZID=America/Los_Angeles:20200807T073000
DTEND;TZID=America/Los_Angeles:20200807T180000
DTSTAMP:20260424T120650
CREATED:20200224T204344Z
LAST-MODIFIED:20200227T194420Z
UID:10053422-1596785400-1596823200@expositionpark.ca.gov
SUMMARY:Expo Center's Summer Camp Program
DESCRIPTION:EXPO Center’s Seasonal Camp Program provides youth ages 6-16 with a variety of themed and seasonal activities including swimming\, sports\, field trips and technology clubs.
URL:https://expositionpark.ca.gov/event/expo-centers-summer-camp-program/2020-08-07/
LOCATION:EXPO Center\, 3980 Bill Robertson Lane\, Los Angeles\, CA\, 90037\, United States
GEO:34.0121136;-118.2900829
X-APPLE-STRUCTURED-LOCATION;VALUE=URI;X-ADDRESS=EXPO Center 3980 Bill Robertson Lane Los Angeles CA 90037 United States;X-APPLE-RADIUS=500;X-TITLE=3980 Bill Robertson Lane:geo:-118.2900829,34.0121136
END:VEVENT
END:VCALENDAR