BEGIN:VCALENDAR
VERSION:2.0
PRODID:-//Exposition Park - ECPv6.15.20//NONSGML v1.0//EN
CALSCALE:GREGORIAN
METHOD:PUBLISH
X-ORIGINAL-URL:https://expositionpark.ca.gov
X-WR-CALDESC:Events for Exposition Park
REFRESH-INTERVAL;VALUE=DURATION:PT1H
X-Robots-Tag:noindex
X-PUBLISHED-TTL:PT1H
BEGIN:VTIMEZONE
TZID:America/Los_Angeles
BEGIN:DAYLIGHT
TZOFFSETFROM:-0800
TZOFFSETTO:-0700
TZNAME:PDT
DTSTART:20220313T100000
END:DAYLIGHT
BEGIN:STANDARD
TZOFFSETFROM:-0700
TZOFFSETTO:-0800
TZNAME:PST
DTSTART:20221106T090000
END:STANDARD
BEGIN:DAYLIGHT
TZOFFSETFROM:-0800
TZOFFSETTO:-0700
TZNAME:PDT
DTSTART:20230312T100000
END:DAYLIGHT
BEGIN:STANDARD
TZOFFSETFROM:-0700
TZOFFSETTO:-0800
TZNAME:PST
DTSTART:20231105T090000
END:STANDARD
BEGIN:DAYLIGHT
TZOFFSETFROM:-0800
TZOFFSETTO:-0700
TZNAME:PDT
DTSTART:20240310T100000
END:DAYLIGHT
BEGIN:STANDARD
TZOFFSETFROM:-0700
TZOFFSETTO:-0800
TZNAME:PST
DTSTART:20241103T090000
END:STANDARD
END:VTIMEZONE
BEGIN:VEVENT
DTSTART;TZID=America/Los_Angeles:20230811T180000
DTEND;TZID=America/Los_Angeles:20230811T210000
DTSTAMP:20260424T105423
CREATED:20230627T235516Z
LAST-MODIFIED:20230627T235516Z
UID:10054662-1691776800-1691787600@expositionpark.ca.gov
SUMMARY:Expo Center Summer Basketball and Soccer
DESCRIPTION:
URL:https://expositionpark.ca.gov/event/expo-center-summer-basketball-and-soccer/2023-08-11/
LOCATION:EXPO Center/ John C Argue Swim Stadium\, 3980 Bill Robertson Lane\, Los Angeles\, CA\, 90037\, United States
GEO:34.0121136;-118.2900829
X-APPLE-STRUCTURED-LOCATION;VALUE=URI;X-ADDRESS=EXPO Center/ John C Argue Swim Stadium 3980 Bill Robertson Lane Los Angeles CA 90037 United States;X-APPLE-RADIUS=500;X-TITLE=3980 Bill Robertson Lane:geo:-118.2900829,34.0121136
END:VEVENT
BEGIN:VEVENT
DTSTART;TZID=America/Los_Angeles:20230811T070000
DTEND;TZID=America/Los_Angeles:20230811T180000
DTSTAMP:20260424T105423
CREATED:20230627T234708Z
LAST-MODIFIED:20230627T235320Z
UID:10054622-1691737200-1691776800@expositionpark.ca.gov
SUMMARY:Expo Center Summer Camp
DESCRIPTION:
URL:https://expositionpark.ca.gov/event/expo-center-summer-camp/2023-08-11/
LOCATION:EXPO Center /John C. Argue Swim Stadium\, 3980 Bill Robertson Lane\, Los Angeles\, CA\, 90037\, United States
GEO:34.0122701;-118.2894811
X-APPLE-STRUCTURED-LOCATION;VALUE=URI;X-ADDRESS=EXPO Center /John C. Argue Swim Stadium 3980 Bill Robertson Lane Los Angeles CA 90037 United States;X-APPLE-RADIUS=500;X-TITLE=3980 Bill Robertson Lane:geo:-118.2894811,34.0122701
END:VEVENT
BEGIN:VEVENT
DTSTART;TZID=America/Los_Angeles:20230810T180000
DTEND;TZID=America/Los_Angeles:20230810T210000
DTSTAMP:20260424T105423
CREATED:20230627T235516Z
LAST-MODIFIED:20230627T235516Z
UID:10054661-1691690400-1691701200@expositionpark.ca.gov
SUMMARY:Expo Center Summer Basketball and Soccer
DESCRIPTION:
URL:https://expositionpark.ca.gov/event/expo-center-summer-basketball-and-soccer/2023-08-10/
LOCATION:EXPO Center/ John C Argue Swim Stadium\, 3980 Bill Robertson Lane\, Los Angeles\, CA\, 90037\, United States
GEO:34.0121136;-118.2900829
X-APPLE-STRUCTURED-LOCATION;VALUE=URI;X-ADDRESS=EXPO Center/ John C Argue Swim Stadium 3980 Bill Robertson Lane Los Angeles CA 90037 United States;X-APPLE-RADIUS=500;X-TITLE=3980 Bill Robertson Lane:geo:-118.2900829,34.0121136
END:VEVENT
BEGIN:VEVENT
DTSTART;TZID=America/Los_Angeles:20230810T070000
DTEND;TZID=America/Los_Angeles:20230810T180000
DTSTAMP:20260424T105423
CREATED:20230627T234708Z
LAST-MODIFIED:20230627T235320Z
UID:10054621-1691650800-1691690400@expositionpark.ca.gov
SUMMARY:Expo Center Summer Camp
DESCRIPTION:
URL:https://expositionpark.ca.gov/event/expo-center-summer-camp/2023-08-10/
LOCATION:EXPO Center /John C. Argue Swim Stadium\, 3980 Bill Robertson Lane\, Los Angeles\, CA\, 90037\, United States
GEO:34.0122701;-118.2894811
X-APPLE-STRUCTURED-LOCATION;VALUE=URI;X-ADDRESS=EXPO Center /John C. Argue Swim Stadium 3980 Bill Robertson Lane Los Angeles CA 90037 United States;X-APPLE-RADIUS=500;X-TITLE=3980 Bill Robertson Lane:geo:-118.2894811,34.0122701
END:VEVENT
BEGIN:VEVENT
DTSTART;TZID=America/Los_Angeles:20230809T180000
DTEND;TZID=America/Los_Angeles:20230809T210000
DTSTAMP:20260424T105423
CREATED:20230627T235516Z
LAST-MODIFIED:20230627T235516Z
UID:10054660-1691604000-1691614800@expositionpark.ca.gov
SUMMARY:Expo Center Summer Basketball and Soccer
DESCRIPTION:
URL:https://expositionpark.ca.gov/event/expo-center-summer-basketball-and-soccer/2023-08-09/
LOCATION:EXPO Center/ John C Argue Swim Stadium\, 3980 Bill Robertson Lane\, Los Angeles\, CA\, 90037\, United States
GEO:34.0121136;-118.2900829
X-APPLE-STRUCTURED-LOCATION;VALUE=URI;X-ADDRESS=EXPO Center/ John C Argue Swim Stadium 3980 Bill Robertson Lane Los Angeles CA 90037 United States;X-APPLE-RADIUS=500;X-TITLE=3980 Bill Robertson Lane:geo:-118.2900829,34.0121136
END:VEVENT
BEGIN:VEVENT
DTSTART;TZID=America/Los_Angeles:20230809T070000
DTEND;TZID=America/Los_Angeles:20230809T180000
DTSTAMP:20260424T105423
CREATED:20230627T234708Z
LAST-MODIFIED:20230627T235320Z
UID:10054620-1691564400-1691604000@expositionpark.ca.gov
SUMMARY:Expo Center Summer Camp
DESCRIPTION:
URL:https://expositionpark.ca.gov/event/expo-center-summer-camp/2023-08-09/
LOCATION:EXPO Center /John C. Argue Swim Stadium\, 3980 Bill Robertson Lane\, Los Angeles\, CA\, 90037\, United States
GEO:34.0122701;-118.2894811
X-APPLE-STRUCTURED-LOCATION;VALUE=URI;X-ADDRESS=EXPO Center /John C. Argue Swim Stadium 3980 Bill Robertson Lane Los Angeles CA 90037 United States;X-APPLE-RADIUS=500;X-TITLE=3980 Bill Robertson Lane:geo:-118.2894811,34.0122701
END:VEVENT
BEGIN:VEVENT
DTSTART;TZID=America/Los_Angeles:20230808T180000
DTEND;TZID=America/Los_Angeles:20230808T210000
DTSTAMP:20260424T105423
CREATED:20230627T235516Z
LAST-MODIFIED:20230627T235516Z
UID:10054659-1691517600-1691528400@expositionpark.ca.gov
SUMMARY:Expo Center Summer Basketball and Soccer
DESCRIPTION:
URL:https://expositionpark.ca.gov/event/expo-center-summer-basketball-and-soccer/2023-08-08/
LOCATION:EXPO Center/ John C Argue Swim Stadium\, 3980 Bill Robertson Lane\, Los Angeles\, CA\, 90037\, United States
GEO:34.0121136;-118.2900829
X-APPLE-STRUCTURED-LOCATION;VALUE=URI;X-ADDRESS=EXPO Center/ John C Argue Swim Stadium 3980 Bill Robertson Lane Los Angeles CA 90037 United States;X-APPLE-RADIUS=500;X-TITLE=3980 Bill Robertson Lane:geo:-118.2900829,34.0121136
END:VEVENT
BEGIN:VEVENT
DTSTART;TZID=America/Los_Angeles:20230808T070000
DTEND;TZID=America/Los_Angeles:20230808T180000
DTSTAMP:20260424T105423
CREATED:20230627T234708Z
LAST-MODIFIED:20230627T235320Z
UID:10054619-1691478000-1691517600@expositionpark.ca.gov
SUMMARY:Expo Center Summer Camp
DESCRIPTION:
URL:https://expositionpark.ca.gov/event/expo-center-summer-camp/2023-08-08/
LOCATION:EXPO Center /John C. Argue Swim Stadium\, 3980 Bill Robertson Lane\, Los Angeles\, CA\, 90037\, United States
GEO:34.0122701;-118.2894811
X-APPLE-STRUCTURED-LOCATION;VALUE=URI;X-ADDRESS=EXPO Center /John C. Argue Swim Stadium 3980 Bill Robertson Lane Los Angeles CA 90037 United States;X-APPLE-RADIUS=500;X-TITLE=3980 Bill Robertson Lane:geo:-118.2894811,34.0122701
END:VEVENT
BEGIN:VEVENT
DTSTART;TZID=America/Los_Angeles:20230807T180000
DTEND;TZID=America/Los_Angeles:20230807T210000
DTSTAMP:20260424T105423
CREATED:20230627T235516Z
LAST-MODIFIED:20230627T235516Z
UID:10054658-1691431200-1691442000@expositionpark.ca.gov
SUMMARY:Expo Center Summer Basketball and Soccer
DESCRIPTION:
URL:https://expositionpark.ca.gov/event/expo-center-summer-basketball-and-soccer/2023-08-07/
LOCATION:EXPO Center/ John C Argue Swim Stadium\, 3980 Bill Robertson Lane\, Los Angeles\, CA\, 90037\, United States
GEO:34.0121136;-118.2900829
X-APPLE-STRUCTURED-LOCATION;VALUE=URI;X-ADDRESS=EXPO Center/ John C Argue Swim Stadium 3980 Bill Robertson Lane Los Angeles CA 90037 United States;X-APPLE-RADIUS=500;X-TITLE=3980 Bill Robertson Lane:geo:-118.2900829,34.0121136
END:VEVENT
BEGIN:VEVENT
DTSTART;TZID=America/Los_Angeles:20230807T070000
DTEND;TZID=America/Los_Angeles:20230807T180000
DTSTAMP:20260424T105423
CREATED:20230627T234708Z
LAST-MODIFIED:20230627T235320Z
UID:10054618-1691391600-1691431200@expositionpark.ca.gov
SUMMARY:Expo Center Summer Camp
DESCRIPTION:
URL:https://expositionpark.ca.gov/event/expo-center-summer-camp/2023-08-07/
LOCATION:EXPO Center /John C. Argue Swim Stadium\, 3980 Bill Robertson Lane\, Los Angeles\, CA\, 90037\, United States
GEO:34.0122701;-118.2894811
X-APPLE-STRUCTURED-LOCATION;VALUE=URI;X-ADDRESS=EXPO Center /John C. Argue Swim Stadium 3980 Bill Robertson Lane Los Angeles CA 90037 United States;X-APPLE-RADIUS=500;X-TITLE=3980 Bill Robertson Lane:geo:-118.2894811,34.0122701
END:VEVENT
BEGIN:VEVENT
DTSTART;TZID=America/Los_Angeles:20230805T180000
DTEND;TZID=America/Los_Angeles:20230805T210000
DTSTAMP:20260424T105423
CREATED:20230627T235516Z
LAST-MODIFIED:20230627T235516Z
UID:10054657-1691258400-1691269200@expositionpark.ca.gov
SUMMARY:Expo Center Summer Basketball and Soccer
DESCRIPTION:
URL:https://expositionpark.ca.gov/event/expo-center-summer-basketball-and-soccer/2023-08-05/
LOCATION:EXPO Center/ John C Argue Swim Stadium\, 3980 Bill Robertson Lane\, Los Angeles\, CA\, 90037\, United States
GEO:34.0121136;-118.2900829
X-APPLE-STRUCTURED-LOCATION;VALUE=URI;X-ADDRESS=EXPO Center/ John C Argue Swim Stadium 3980 Bill Robertson Lane Los Angeles CA 90037 United States;X-APPLE-RADIUS=500;X-TITLE=3980 Bill Robertson Lane:geo:-118.2900829,34.0121136
END:VEVENT
BEGIN:VEVENT
DTSTART;TZID=America/Los_Angeles:20230804T180000
DTEND;TZID=America/Los_Angeles:20230804T210000
DTSTAMP:20260424T105423
CREATED:20230627T235516Z
LAST-MODIFIED:20230627T235516Z
UID:10054656-1691172000-1691182800@expositionpark.ca.gov
SUMMARY:Expo Center Summer Basketball and Soccer
DESCRIPTION:
URL:https://expositionpark.ca.gov/event/expo-center-summer-basketball-and-soccer/2023-08-04/
LOCATION:EXPO Center/ John C Argue Swim Stadium\, 3980 Bill Robertson Lane\, Los Angeles\, CA\, 90037\, United States
GEO:34.0121136;-118.2900829
X-APPLE-STRUCTURED-LOCATION;VALUE=URI;X-ADDRESS=EXPO Center/ John C Argue Swim Stadium 3980 Bill Robertson Lane Los Angeles CA 90037 United States;X-APPLE-RADIUS=500;X-TITLE=3980 Bill Robertson Lane:geo:-118.2900829,34.0121136
END:VEVENT
BEGIN:VEVENT
DTSTART;TZID=America/Los_Angeles:20230804T070000
DTEND;TZID=America/Los_Angeles:20230804T180000
DTSTAMP:20260424T105423
CREATED:20230627T234708Z
LAST-MODIFIED:20230627T235320Z
UID:10054617-1691132400-1691172000@expositionpark.ca.gov
SUMMARY:Expo Center Summer Camp
DESCRIPTION:
URL:https://expositionpark.ca.gov/event/expo-center-summer-camp/2023-08-04/
LOCATION:EXPO Center /John C. Argue Swim Stadium\, 3980 Bill Robertson Lane\, Los Angeles\, CA\, 90037\, United States
GEO:34.0122701;-118.2894811
X-APPLE-STRUCTURED-LOCATION;VALUE=URI;X-ADDRESS=EXPO Center /John C. Argue Swim Stadium 3980 Bill Robertson Lane Los Angeles CA 90037 United States;X-APPLE-RADIUS=500;X-TITLE=3980 Bill Robertson Lane:geo:-118.2894811,34.0122701
END:VEVENT
BEGIN:VEVENT
DTSTART;TZID=America/Los_Angeles:20230803T180000
DTEND;TZID=America/Los_Angeles:20230803T210000
DTSTAMP:20260424T105423
CREATED:20230627T235516Z
LAST-MODIFIED:20230627T235516Z
UID:10054655-1691085600-1691096400@expositionpark.ca.gov
SUMMARY:Expo Center Summer Basketball and Soccer
DESCRIPTION:
URL:https://expositionpark.ca.gov/event/expo-center-summer-basketball-and-soccer/2023-08-03/
LOCATION:EXPO Center/ John C Argue Swim Stadium\, 3980 Bill Robertson Lane\, Los Angeles\, CA\, 90037\, United States
GEO:34.0121136;-118.2900829
X-APPLE-STRUCTURED-LOCATION;VALUE=URI;X-ADDRESS=EXPO Center/ John C Argue Swim Stadium 3980 Bill Robertson Lane Los Angeles CA 90037 United States;X-APPLE-RADIUS=500;X-TITLE=3980 Bill Robertson Lane:geo:-118.2900829,34.0121136
END:VEVENT
BEGIN:VEVENT
DTSTART;TZID=America/Los_Angeles:20230803T070000
DTEND;TZID=America/Los_Angeles:20230803T180000
DTSTAMP:20260424T105423
CREATED:20230627T234708Z
LAST-MODIFIED:20230627T235320Z
UID:10054616-1691046000-1691085600@expositionpark.ca.gov
SUMMARY:Expo Center Summer Camp
DESCRIPTION:
URL:https://expositionpark.ca.gov/event/expo-center-summer-camp/2023-08-03/
LOCATION:EXPO Center /John C. Argue Swim Stadium\, 3980 Bill Robertson Lane\, Los Angeles\, CA\, 90037\, United States
GEO:34.0122701;-118.2894811
X-APPLE-STRUCTURED-LOCATION;VALUE=URI;X-ADDRESS=EXPO Center /John C. Argue Swim Stadium 3980 Bill Robertson Lane Los Angeles CA 90037 United States;X-APPLE-RADIUS=500;X-TITLE=3980 Bill Robertson Lane:geo:-118.2894811,34.0122701
END:VEVENT
BEGIN:VEVENT
DTSTART;TZID=America/Los_Angeles:20230802T180000
DTEND;TZID=America/Los_Angeles:20230802T210000
DTSTAMP:20260424T105423
CREATED:20230627T235516Z
LAST-MODIFIED:20230627T235516Z
UID:10054654-1690999200-1691010000@expositionpark.ca.gov
SUMMARY:Expo Center Summer Basketball and Soccer
DESCRIPTION:
URL:https://expositionpark.ca.gov/event/expo-center-summer-basketball-and-soccer/2023-08-02/
LOCATION:EXPO Center/ John C Argue Swim Stadium\, 3980 Bill Robertson Lane\, Los Angeles\, CA\, 90037\, United States
GEO:34.0121136;-118.2900829
X-APPLE-STRUCTURED-LOCATION;VALUE=URI;X-ADDRESS=EXPO Center/ John C Argue Swim Stadium 3980 Bill Robertson Lane Los Angeles CA 90037 United States;X-APPLE-RADIUS=500;X-TITLE=3980 Bill Robertson Lane:geo:-118.2900829,34.0121136
END:VEVENT
BEGIN:VEVENT
DTSTART;TZID=America/Los_Angeles:20230802T070000
DTEND;TZID=America/Los_Angeles:20230802T180000
DTSTAMP:20260424T105423
CREATED:20230627T234708Z
LAST-MODIFIED:20230627T235320Z
UID:10054615-1690959600-1690999200@expositionpark.ca.gov
SUMMARY:Expo Center Summer Camp
DESCRIPTION:
URL:https://expositionpark.ca.gov/event/expo-center-summer-camp/2023-08-02/
LOCATION:EXPO Center /John C. Argue Swim Stadium\, 3980 Bill Robertson Lane\, Los Angeles\, CA\, 90037\, United States
GEO:34.0122701;-118.2894811
X-APPLE-STRUCTURED-LOCATION;VALUE=URI;X-ADDRESS=EXPO Center /John C. Argue Swim Stadium 3980 Bill Robertson Lane Los Angeles CA 90037 United States;X-APPLE-RADIUS=500;X-TITLE=3980 Bill Robertson Lane:geo:-118.2894811,34.0122701
END:VEVENT
BEGIN:VEVENT
DTSTART;TZID=America/Los_Angeles:20230801T180000
DTEND;TZID=America/Los_Angeles:20230801T210000
DTSTAMP:20260424T105423
CREATED:20230627T235516Z
LAST-MODIFIED:20230627T235516Z
UID:10054653-1690912800-1690923600@expositionpark.ca.gov
SUMMARY:Expo Center Summer Basketball and Soccer
DESCRIPTION:
URL:https://expositionpark.ca.gov/event/expo-center-summer-basketball-and-soccer/2023-08-01/
LOCATION:EXPO Center/ John C Argue Swim Stadium\, 3980 Bill Robertson Lane\, Los Angeles\, CA\, 90037\, United States
GEO:34.0121136;-118.2900829
X-APPLE-STRUCTURED-LOCATION;VALUE=URI;X-ADDRESS=EXPO Center/ John C Argue Swim Stadium 3980 Bill Robertson Lane Los Angeles CA 90037 United States;X-APPLE-RADIUS=500;X-TITLE=3980 Bill Robertson Lane:geo:-118.2900829,34.0121136
END:VEVENT
BEGIN:VEVENT
DTSTART;TZID=America/Los_Angeles:20230801T070000
DTEND;TZID=America/Los_Angeles:20230801T180000
DTSTAMP:20260424T105423
CREATED:20230627T234708Z
LAST-MODIFIED:20230627T235320Z
UID:10054614-1690873200-1690912800@expositionpark.ca.gov
SUMMARY:Expo Center Summer Camp
DESCRIPTION:
URL:https://expositionpark.ca.gov/event/expo-center-summer-camp/2023-08-01/
LOCATION:EXPO Center /John C. Argue Swim Stadium\, 3980 Bill Robertson Lane\, Los Angeles\, CA\, 90037\, United States
GEO:34.0122701;-118.2894811
X-APPLE-STRUCTURED-LOCATION;VALUE=URI;X-ADDRESS=EXPO Center /John C. Argue Swim Stadium 3980 Bill Robertson Lane Los Angeles CA 90037 United States;X-APPLE-RADIUS=500;X-TITLE=3980 Bill Robertson Lane:geo:-118.2894811,34.0122701
END:VEVENT
BEGIN:VEVENT
DTSTART;TZID=America/Los_Angeles:20230731T180000
DTEND;TZID=America/Los_Angeles:20230731T210000
DTSTAMP:20260424T105423
CREATED:20230627T235516Z
LAST-MODIFIED:20230627T235516Z
UID:10054652-1690826400-1690837200@expositionpark.ca.gov
SUMMARY:Expo Center Summer Basketball and Soccer
DESCRIPTION:
URL:https://expositionpark.ca.gov/event/expo-center-summer-basketball-and-soccer/2023-07-31/
LOCATION:EXPO Center/ John C Argue Swim Stadium\, 3980 Bill Robertson Lane\, Los Angeles\, CA\, 90037\, United States
GEO:34.0121136;-118.2900829
X-APPLE-STRUCTURED-LOCATION;VALUE=URI;X-ADDRESS=EXPO Center/ John C Argue Swim Stadium 3980 Bill Robertson Lane Los Angeles CA 90037 United States;X-APPLE-RADIUS=500;X-TITLE=3980 Bill Robertson Lane:geo:-118.2900829,34.0121136
END:VEVENT
BEGIN:VEVENT
DTSTART;TZID=America/Los_Angeles:20230731T070000
DTEND;TZID=America/Los_Angeles:20230731T180000
DTSTAMP:20260424T105423
CREATED:20230627T234708Z
LAST-MODIFIED:20230627T235320Z
UID:10054613-1690786800-1690826400@expositionpark.ca.gov
SUMMARY:Expo Center Summer Camp
DESCRIPTION:
URL:https://expositionpark.ca.gov/event/expo-center-summer-camp/2023-07-31/
LOCATION:EXPO Center /John C. Argue Swim Stadium\, 3980 Bill Robertson Lane\, Los Angeles\, CA\, 90037\, United States
GEO:34.0122701;-118.2894811
X-APPLE-STRUCTURED-LOCATION;VALUE=URI;X-ADDRESS=EXPO Center /John C. Argue Swim Stadium 3980 Bill Robertson Lane Los Angeles CA 90037 United States;X-APPLE-RADIUS=500;X-TITLE=3980 Bill Robertson Lane:geo:-118.2894811,34.0122701
END:VEVENT
BEGIN:VEVENT
DTSTART;TZID=America/Los_Angeles:20230729T180000
DTEND;TZID=America/Los_Angeles:20230729T210000
DTSTAMP:20260424T105423
CREATED:20230627T235516Z
LAST-MODIFIED:20230627T235516Z
UID:10054651-1690653600-1690664400@expositionpark.ca.gov
SUMMARY:Expo Center Summer Basketball and Soccer
DESCRIPTION:
URL:https://expositionpark.ca.gov/event/expo-center-summer-basketball-and-soccer/2023-07-29/
LOCATION:EXPO Center/ John C Argue Swim Stadium\, 3980 Bill Robertson Lane\, Los Angeles\, CA\, 90037\, United States
GEO:34.0121136;-118.2900829
X-APPLE-STRUCTURED-LOCATION;VALUE=URI;X-ADDRESS=EXPO Center/ John C Argue Swim Stadium 3980 Bill Robertson Lane Los Angeles CA 90037 United States;X-APPLE-RADIUS=500;X-TITLE=3980 Bill Robertson Lane:geo:-118.2900829,34.0121136
END:VEVENT
BEGIN:VEVENT
DTSTART;TZID=America/Los_Angeles:20230728T180000
DTEND;TZID=America/Los_Angeles:20230728T210000
DTSTAMP:20260424T105423
CREATED:20230627T235516Z
LAST-MODIFIED:20230627T235516Z
UID:10054650-1690567200-1690578000@expositionpark.ca.gov
SUMMARY:Expo Center Summer Basketball and Soccer
DESCRIPTION:
URL:https://expositionpark.ca.gov/event/expo-center-summer-basketball-and-soccer/2023-07-28/
LOCATION:EXPO Center/ John C Argue Swim Stadium\, 3980 Bill Robertson Lane\, Los Angeles\, CA\, 90037\, United States
GEO:34.0121136;-118.2900829
X-APPLE-STRUCTURED-LOCATION;VALUE=URI;X-ADDRESS=EXPO Center/ John C Argue Swim Stadium 3980 Bill Robertson Lane Los Angeles CA 90037 United States;X-APPLE-RADIUS=500;X-TITLE=3980 Bill Robertson Lane:geo:-118.2900829,34.0121136
END:VEVENT
BEGIN:VEVENT
DTSTART;TZID=America/Los_Angeles:20230728T070000
DTEND;TZID=America/Los_Angeles:20230728T180000
DTSTAMP:20260424T105423
CREATED:20230627T234708Z
LAST-MODIFIED:20230627T235320Z
UID:10054612-1690527600-1690567200@expositionpark.ca.gov
SUMMARY:Expo Center Summer Camp
DESCRIPTION:
URL:https://expositionpark.ca.gov/event/expo-center-summer-camp/2023-07-28/
LOCATION:EXPO Center /John C. Argue Swim Stadium\, 3980 Bill Robertson Lane\, Los Angeles\, CA\, 90037\, United States
GEO:34.0122701;-118.2894811
X-APPLE-STRUCTURED-LOCATION;VALUE=URI;X-ADDRESS=EXPO Center /John C. Argue Swim Stadium 3980 Bill Robertson Lane Los Angeles CA 90037 United States;X-APPLE-RADIUS=500;X-TITLE=3980 Bill Robertson Lane:geo:-118.2894811,34.0122701
END:VEVENT
BEGIN:VEVENT
DTSTART;TZID=America/Los_Angeles:20230727T180000
DTEND;TZID=America/Los_Angeles:20230727T210000
DTSTAMP:20260424T105423
CREATED:20230627T235516Z
LAST-MODIFIED:20230627T235516Z
UID:10054649-1690480800-1690491600@expositionpark.ca.gov
SUMMARY:Expo Center Summer Basketball and Soccer
DESCRIPTION:
URL:https://expositionpark.ca.gov/event/expo-center-summer-basketball-and-soccer/2023-07-27/
LOCATION:EXPO Center/ John C Argue Swim Stadium\, 3980 Bill Robertson Lane\, Los Angeles\, CA\, 90037\, United States
GEO:34.0121136;-118.2900829
X-APPLE-STRUCTURED-LOCATION;VALUE=URI;X-ADDRESS=EXPO Center/ John C Argue Swim Stadium 3980 Bill Robertson Lane Los Angeles CA 90037 United States;X-APPLE-RADIUS=500;X-TITLE=3980 Bill Robertson Lane:geo:-118.2900829,34.0121136
END:VEVENT
BEGIN:VEVENT
DTSTART;TZID=America/Los_Angeles:20230727T070000
DTEND;TZID=America/Los_Angeles:20230727T180000
DTSTAMP:20260424T105423
CREATED:20230627T234708Z
LAST-MODIFIED:20230627T235320Z
UID:10054611-1690441200-1690480800@expositionpark.ca.gov
SUMMARY:Expo Center Summer Camp
DESCRIPTION:
URL:https://expositionpark.ca.gov/event/expo-center-summer-camp/2023-07-27/
LOCATION:EXPO Center /John C. Argue Swim Stadium\, 3980 Bill Robertson Lane\, Los Angeles\, CA\, 90037\, United States
GEO:34.0122701;-118.2894811
X-APPLE-STRUCTURED-LOCATION;VALUE=URI;X-ADDRESS=EXPO Center /John C. Argue Swim Stadium 3980 Bill Robertson Lane Los Angeles CA 90037 United States;X-APPLE-RADIUS=500;X-TITLE=3980 Bill Robertson Lane:geo:-118.2894811,34.0122701
END:VEVENT
BEGIN:VEVENT
DTSTART;TZID=America/Los_Angeles:20230726T180000
DTEND;TZID=America/Los_Angeles:20230726T210000
DTSTAMP:20260424T105423
CREATED:20230627T235516Z
LAST-MODIFIED:20230627T235516Z
UID:10054648-1690394400-1690405200@expositionpark.ca.gov
SUMMARY:Expo Center Summer Basketball and Soccer
DESCRIPTION:
URL:https://expositionpark.ca.gov/event/expo-center-summer-basketball-and-soccer/2023-07-26/
LOCATION:EXPO Center/ John C Argue Swim Stadium\, 3980 Bill Robertson Lane\, Los Angeles\, CA\, 90037\, United States
GEO:34.0121136;-118.2900829
X-APPLE-STRUCTURED-LOCATION;VALUE=URI;X-ADDRESS=EXPO Center/ John C Argue Swim Stadium 3980 Bill Robertson Lane Los Angeles CA 90037 United States;X-APPLE-RADIUS=500;X-TITLE=3980 Bill Robertson Lane:geo:-118.2900829,34.0121136
END:VEVENT
BEGIN:VEVENT
DTSTART;TZID=America/Los_Angeles:20230726T070000
DTEND;TZID=America/Los_Angeles:20230726T180000
DTSTAMP:20260424T105423
CREATED:20230627T234708Z
LAST-MODIFIED:20230627T235320Z
UID:10054610-1690354800-1690394400@expositionpark.ca.gov
SUMMARY:Expo Center Summer Camp
DESCRIPTION:
URL:https://expositionpark.ca.gov/event/expo-center-summer-camp/2023-07-26/
LOCATION:EXPO Center /John C. Argue Swim Stadium\, 3980 Bill Robertson Lane\, Los Angeles\, CA\, 90037\, United States
GEO:34.0122701;-118.2894811
X-APPLE-STRUCTURED-LOCATION;VALUE=URI;X-ADDRESS=EXPO Center /John C. Argue Swim Stadium 3980 Bill Robertson Lane Los Angeles CA 90037 United States;X-APPLE-RADIUS=500;X-TITLE=3980 Bill Robertson Lane:geo:-118.2894811,34.0122701
END:VEVENT
BEGIN:VEVENT
DTSTART;TZID=America/Los_Angeles:20230725T180000
DTEND;TZID=America/Los_Angeles:20230725T210000
DTSTAMP:20260424T105423
CREATED:20230627T235516Z
LAST-MODIFIED:20230627T235516Z
UID:10054647-1690308000-1690318800@expositionpark.ca.gov
SUMMARY:Expo Center Summer Basketball and Soccer
DESCRIPTION:
URL:https://expositionpark.ca.gov/event/expo-center-summer-basketball-and-soccer/2023-07-25/
LOCATION:EXPO Center/ John C Argue Swim Stadium\, 3980 Bill Robertson Lane\, Los Angeles\, CA\, 90037\, United States
GEO:34.0121136;-118.2900829
X-APPLE-STRUCTURED-LOCATION;VALUE=URI;X-ADDRESS=EXPO Center/ John C Argue Swim Stadium 3980 Bill Robertson Lane Los Angeles CA 90037 United States;X-APPLE-RADIUS=500;X-TITLE=3980 Bill Robertson Lane:geo:-118.2900829,34.0121136
END:VEVENT
BEGIN:VEVENT
DTSTART;TZID=America/Los_Angeles:20230725T070000
DTEND;TZID=America/Los_Angeles:20230725T180000
DTSTAMP:20260424T105423
CREATED:20230627T234708Z
LAST-MODIFIED:20230627T235320Z
UID:10054609-1690268400-1690308000@expositionpark.ca.gov
SUMMARY:Expo Center Summer Camp
DESCRIPTION:
URL:https://expositionpark.ca.gov/event/expo-center-summer-camp/2023-07-25/
LOCATION:EXPO Center /John C. Argue Swim Stadium\, 3980 Bill Robertson Lane\, Los Angeles\, CA\, 90037\, United States
GEO:34.0122701;-118.2894811
X-APPLE-STRUCTURED-LOCATION;VALUE=URI;X-ADDRESS=EXPO Center /John C. Argue Swim Stadium 3980 Bill Robertson Lane Los Angeles CA 90037 United States;X-APPLE-RADIUS=500;X-TITLE=3980 Bill Robertson Lane:geo:-118.2894811,34.0122701
END:VEVENT
END:VCALENDAR