BEGIN:VCALENDAR
VERSION:2.0
PRODID:-//Exposition Park - ECPv6.15.20//NONSGML v1.0//EN
CALSCALE:GREGORIAN
METHOD:PUBLISH
X-WR-CALNAME:Exposition Park
X-ORIGINAL-URL:https://expositionpark.ca.gov
X-WR-CALDESC:Events for Exposition Park
REFRESH-INTERVAL;VALUE=DURATION:PT1H
X-Robots-Tag:noindex
X-PUBLISHED-TTL:PT1H
BEGIN:VTIMEZONE
TZID:America/Los_Angeles
BEGIN:DAYLIGHT
TZOFFSETFROM:-0800
TZOFFSETTO:-0700
TZNAME:PDT
DTSTART:20210314T100000
END:DAYLIGHT
BEGIN:STANDARD
TZOFFSETFROM:-0700
TZOFFSETTO:-0800
TZNAME:PST
DTSTART:20211107T090000
END:STANDARD
BEGIN:DAYLIGHT
TZOFFSETFROM:-0800
TZOFFSETTO:-0700
TZNAME:PDT
DTSTART:20220313T100000
END:DAYLIGHT
BEGIN:STANDARD
TZOFFSETFROM:-0700
TZOFFSETTO:-0800
TZNAME:PST
DTSTART:20221106T090000
END:STANDARD
BEGIN:DAYLIGHT
TZOFFSETFROM:-0800
TZOFFSETTO:-0700
TZNAME:PDT
DTSTART:20230312T100000
END:DAYLIGHT
BEGIN:STANDARD
TZOFFSETFROM:-0700
TZOFFSETTO:-0800
TZNAME:PST
DTSTART:20231105T090000
END:STANDARD
END:VTIMEZONE
BEGIN:VEVENT
DTSTART;TZID=America/Los_Angeles:20221119T080000
DTEND;TZID=America/Los_Angeles:20221119T170000
DTSTAMP:20260419T054921
CREATED:20221118T213255Z
LAST-MODIFIED:20221118T213255Z
UID:10054356-1668844800-1668877200@expositionpark.ca.gov
SUMMARY:Play LA Sport Banquet
DESCRIPTION:4-Vendors \n5 Staff
URL:https://expositionpark.ca.gov/event/play-la-sport-banquet/
LOCATION:Exposition Park Rose Garden: East Lawn\, Los Angeles\, CA\, United States
END:VEVENT
BEGIN:VEVENT
DTSTART;TZID=America/Los_Angeles:20221112T133000
DTEND;TZID=America/Los_Angeles:20221112T153000
DTSTAMP:20260419T054921
CREATED:20220921T171643Z
LAST-MODIFIED:20220921T171643Z
UID:10052603-1668259800-1668267000@expositionpark.ca.gov
SUMMARY:Picture Permit # 1
DESCRIPTION:
URL:https://expositionpark.ca.gov/event/picture-permit-1-23/
LOCATION:Exposition Park Rose Garden\, 701 State Dr\, Los Angeles\, 90037
END:VEVENT
BEGIN:VEVENT
DTSTART;TZID=America/Los_Angeles:20221030T130000
DTEND;TZID=America/Los_Angeles:20221030T150000
DTSTAMP:20260419T054921
CREATED:20221031T181942Z
LAST-MODIFIED:20221031T181942Z
UID:10054337-1667134800-1667142000@expositionpark.ca.gov
SUMMARY:Picture Permit #2
DESCRIPTION:
URL:https://expositionpark.ca.gov/event/picture-permit-2-3/
LOCATION:Exposition Park Rose Garden\, 701 State Dr\, Los Angeles\, 90037
END:VEVENT
BEGIN:VEVENT
DTSTART;TZID=America/Los_Angeles:20221030T110000
DTEND;TZID=America/Los_Angeles:20221030T140000
DTSTAMP:20260419T054921
CREATED:20221006T214145Z
LAST-MODIFIED:20221006T214145Z
UID:10054301-1667127600-1667138400@expositionpark.ca.gov
SUMMARY:Private Ceremony
DESCRIPTION:
URL:https://expositionpark.ca.gov/event/private-ceremony/
LOCATION:Rose Garden Gazebo (B)\, 701 State Dr.\, Los Angeles\, CA\, 90037\, United States
END:VEVENT
BEGIN:VEVENT
DTSTART;TZID=America/Los_Angeles:20221030T090000
DTEND;TZID=America/Los_Angeles:20221030T110000
DTSTAMP:20260419T054921
CREATED:20221031T181916Z
LAST-MODIFIED:20221031T181916Z
UID:10054336-1667120400-1667127600@expositionpark.ca.gov
SUMMARY:Picture Permit
DESCRIPTION:
URL:https://expositionpark.ca.gov/event/picture-permit-13/
LOCATION:Exposition Park Rose Garden\, 701 State Dr\, Los Angeles\, 90037
END:VEVENT
BEGIN:VEVENT
DTSTART;TZID=America/Los_Angeles:20221022T140000
DTEND;TZID=America/Los_Angeles:20221022T160000
DTSTAMP:20260419T054921
CREATED:20221010T185939Z
LAST-MODIFIED:20221010T185939Z
UID:10054316-1666447200-1666454400@expositionpark.ca.gov
SUMMARY:Picture Permit
DESCRIPTION:
URL:https://expositionpark.ca.gov/event/picture-permit-12/
LOCATION:Exposition Park Rose Garden\, 701 State Dr\, Los Angeles\, 90037
END:VEVENT
BEGIN:VEVENT
DTSTART;TZID=America/Los_Angeles:20221018T160000
DTEND;TZID=America/Los_Angeles:20221018T180000
DTSTAMP:20260419T054921
CREATED:20220921T171627Z
LAST-MODIFIED:20220921T171627Z
UID:10052601-1666108800-1666116000@expositionpark.ca.gov
SUMMARY:Picture Permit #1
DESCRIPTION:
URL:https://expositionpark.ca.gov/event/picture-permit-1-22/
LOCATION:Exposition Park Rose Garden\, 701 State Dr\, Los Angeles\, 90037
END:VEVENT
BEGIN:VEVENT
DTSTART;TZID=America/Los_Angeles:20221015T130000
DTEND;TZID=America/Los_Angeles:20221015T160000
DTSTAMP:20260419T054921
CREATED:20221006T214012Z
LAST-MODIFIED:20221006T214012Z
UID:10054298-1665838800-1665849600@expositionpark.ca.gov
SUMMARY:Private Event
DESCRIPTION:
URL:https://expositionpark.ca.gov/event/private-event-450/
LOCATION:Exposition Park Rose Garden: East Lawn\, Los Angeles\, CA\, United States
END:VEVENT
BEGIN:VEVENT
DTSTART;TZID=America/Los_Angeles:20221006T090000
DTEND;TZID=America/Los_Angeles:20221006T170000
DTSTAMP:20260419T054921
CREATED:20220913T161342Z
LAST-MODIFIED:20220913T161342Z
UID:10052571-1665046800-1665075600@expositionpark.ca.gov
SUMMARY:Picture Permit # 1
DESCRIPTION:Alice Kang \n10 People \n3-4 vehicles for drop off and pick up
URL:https://expositionpark.ca.gov/event/picture-permit-1-21/
LOCATION:Exposition Park Rose Garden\, 701 State Dr\, Los Angeles\, 90037
END:VEVENT
BEGIN:VEVENT
DTSTART;TZID=America/Los_Angeles:20220930T090000
DTEND;TZID=America/Los_Angeles:20220930T170000
DTSTAMP:20260419T054921
CREATED:20220908T195731Z
LAST-MODIFIED:20220908T195731Z
UID:10054260-1664528400-1664557200@expositionpark.ca.gov
SUMMARY:Picture Permit # 1
DESCRIPTION:10 People \nPhoto Shoot
URL:https://expositionpark.ca.gov/event/picture-permit-1-20/
LOCATION:Exposition Park Rose Garden\, 701 State Dr\, Los Angeles\, 90037
END:VEVENT
BEGIN:VEVENT
DTSTART;TZID=America/Los_Angeles:20220908T090000
DTEND;TZID=America/Los_Angeles:20220908T130000
DTSTAMP:20260419T054921
CREATED:20220802T012356Z
LAST-MODIFIED:20220802T012356Z
UID:10054212-1662627600-1662642000@expositionpark.ca.gov
SUMMARY:Wedding Event
DESCRIPTION:100 Guest \nNo Road use request
URL:https://expositionpark.ca.gov/event/wedding-event/
LOCATION:Exposition Park Rose Garden: West Lawn
END:VEVENT
BEGIN:VEVENT
DTSTART;TZID=America/Los_Angeles:20220904T140000
DTEND;TZID=America/Los_Angeles:20220904T170000
DTSTAMP:20260419T054921
CREATED:20220606T184437Z
LAST-MODIFIED:20220606T184437Z
UID:10052467-1662300000-1662310800@expositionpark.ca.gov
SUMMARY:Private Event
DESCRIPTION:
URL:https://expositionpark.ca.gov/event/private-event-385/
LOCATION:Exposition Park Rose Garden: East Lawn\, Los Angeles\, CA\, United States
END:VEVENT
BEGIN:VEVENT
DTSTART;TZID=America/Los_Angeles:20220825T133000
DTEND;TZID=America/Los_Angeles:20220825T153000
DTSTAMP:20260419T054921
CREATED:20220825T170240Z
LAST-MODIFIED:20220825T170240Z
UID:10054230-1661434200-1661441400@expositionpark.ca.gov
SUMMARY:Picture Permit # 1
DESCRIPTION:
URL:https://expositionpark.ca.gov/event/picture-permit-1-19/
LOCATION:Exposition Park Rose Garden\, 701 State Dr\, Los Angeles\, 90037
END:VEVENT
BEGIN:VEVENT
DTSTART;TZID=America/Los_Angeles:20220825T130000
DTEND;TZID=America/Los_Angeles:20220825T173000
DTSTAMP:20260419T054921
CREATED:20220804T224658Z
LAST-MODIFIED:20220804T224658Z
UID:10054215-1661432400-1661448600@expositionpark.ca.gov
SUMMARY:Private Event- Rose Garden
DESCRIPTION:100 People \n2 Staff
URL:https://expositionpark.ca.gov/event/private-event-rose-garden/
LOCATION:Exposition Park Rose Garden: West Lawn
END:VEVENT
BEGIN:VEVENT
DTSTART;TZID=America/Los_Angeles:20220820T100000
DTEND;TZID=America/Los_Angeles:20220820T120000
DTSTAMP:20260419T054921
CREATED:20220705T161958Z
LAST-MODIFIED:20220705T161958Z
UID:10054186-1660989600-1660996800@expositionpark.ca.gov
SUMMARY:Picture Permit # 1
DESCRIPTION:
URL:https://expositionpark.ca.gov/event/picture-permit-1-18/
LOCATION:Exposition Park Rose Garden\, 701 State Dr\, Los Angeles\, 90037
END:VEVENT
BEGIN:VEVENT
DTSTART;TZID=America/Los_Angeles:20220820T080000
DTEND;TZID=America/Los_Angeles:20220820T170000
DTSTAMP:20260419T054921
CREATED:20220630T215621Z
LAST-MODIFIED:20220630T215621Z
UID:10054181-1660982400-1661014800@expositionpark.ca.gov
SUMMARY:Executive Director Retirement Celebration
DESCRIPTION:
URL:https://expositionpark.ca.gov/event/executive-director-retirement-celebration/
LOCATION:EXPO Center\, 3980 Bill Robertson Lane\, Los Angeles\, CA\, 90037\, United States
GEO:34.0121136;-118.2900829
X-APPLE-STRUCTURED-LOCATION;VALUE=URI;X-ADDRESS=EXPO Center 3980 Bill Robertson Lane Los Angeles CA 90037 United States;X-APPLE-RADIUS=500;X-TITLE=3980 Bill Robertson Lane:geo:-118.2900829,34.0121136
END:VEVENT
BEGIN:VEVENT
DTSTART;TZID=America/Los_Angeles:20220812T130000
DTEND;TZID=America/Los_Angeles:20220812T160000
DTSTAMP:20260419T054921
CREATED:20220713T053447Z
LAST-MODIFIED:20220713T053447Z
UID:10052505-1660309200-1660320000@expositionpark.ca.gov
SUMMARY:Private Event- Wedding
DESCRIPTION:Road Request \n2 Vehicles
URL:https://expositionpark.ca.gov/event/private-event-wedding/
LOCATION:Exposition Park Rose Garden: East Lawn\, Los Angeles\, CA\, United States
END:VEVENT
BEGIN:VEVENT
DTSTART;TZID=America/Los_Angeles:20220806T140000
DTEND;TZID=America/Los_Angeles:20220806T170000
DTSTAMP:20260419T054921
CREATED:20220705T162042Z
LAST-MODIFIED:20220705T162042Z
UID:10054188-1659794400-1659805200@expositionpark.ca.gov
SUMMARY:Private Event: Ceremony
DESCRIPTION:No Road Request \n1 Staff
URL:https://expositionpark.ca.gov/event/private-event-ceremony-2/
LOCATION:Rose Garden Gazebo (D)\, 701 State Dr\, Los Angeles\, 90037
END:VEVENT
BEGIN:VEVENT
DTSTART;TZID=America/Los_Angeles:20220806T090000
DTEND;TZID=America/Los_Angeles:20220806T120000
DTSTAMP:20260419T054921
CREATED:20220802T012329Z
LAST-MODIFIED:20220802T012329Z
UID:10054211-1659776400-1659787200@expositionpark.ca.gov
SUMMARY:Private Event- Wedding Ceremony
DESCRIPTION:No Road Use Required \n1 Staff
URL:https://expositionpark.ca.gov/event/private-event-wedding-ceremony-2/
LOCATION:Rose Garden Gazebo (C)
END:VEVENT
BEGIN:VEVENT
DTSTART;TZID=America/Los_Angeles:20220730T143000
DTEND;TZID=America/Los_Angeles:20220730T183000
DTSTAMP:20260419T054921
CREATED:20220708T180533Z
LAST-MODIFIED:20220708T180533Z
UID:10052501-1659191400-1659205800@expositionpark.ca.gov
SUMMARY:Private Event: Ceremony
DESCRIPTION:Road Request
URL:https://expositionpark.ca.gov/event/private-event-ceremony-4/
LOCATION:Exposition Park Rose Garden: West Lawn
END:VEVENT
BEGIN:VEVENT
DTSTART;TZID=America/Los_Angeles:20220730T133000
DTEND;TZID=America/Los_Angeles:20220730T153000
DTSTAMP:20260419T054921
CREATED:20220801T221158Z
LAST-MODIFIED:20220801T221158Z
UID:10052511-1659187800-1659195000@expositionpark.ca.gov
SUMMARY:Picture Permit # 2
DESCRIPTION:10 People
URL:https://expositionpark.ca.gov/event/picture-permit-2-2/
LOCATION:Exposition Park Rose Garden\, 701 State Dr\, Los Angeles\, 90037
END:VEVENT
BEGIN:VEVENT
DTSTART;TZID=America/Los_Angeles:20220730T110000
DTEND;TZID=America/Los_Angeles:20220730T170000
DTSTAMP:20260419T054921
CREATED:20211217T220941Z
LAST-MODIFIED:20211217T220941Z
UID:10052263-1659178800-1659200400@expositionpark.ca.gov
SUMMARY:Private Event
DESCRIPTION:
URL:https://expositionpark.ca.gov/event/private-event-297/
LOCATION:Rose Garden East Lawn\, 701 State Dr.\, Los Angeles\, CA\, 90037\, United States
END:VEVENT
BEGIN:VEVENT
DTSTART;TZID=America/Los_Angeles:20220723T170000
DTEND;TZID=America/Los_Angeles:20220723T190000
DTSTAMP:20260419T054921
CREATED:20220714T163210Z
LAST-MODIFIED:20220714T163210Z
UID:10052507-1658595600-1658602800@expositionpark.ca.gov
SUMMARY:Picture Permit
DESCRIPTION:
URL:https://expositionpark.ca.gov/event/picture-permit-11/
LOCATION:Exposition Park Rose Garden\, 701 State Dr\, Los Angeles\, 90037
END:VEVENT
BEGIN:VEVENT
DTSTART;TZID=America/Los_Angeles:20220723T130000
DTEND;TZID=America/Los_Angeles:20220724T000000
DTSTAMP:20260419T054921
CREATED:20220622T175118Z
LAST-MODIFIED:20220622T175118Z
UID:10054171-1658581200-1658620800@expositionpark.ca.gov
SUMMARY:Private Event
DESCRIPTION:
URL:https://expositionpark.ca.gov/event/private-event-391/
LOCATION:Ahmanson Senior Citizen Center\, 3990\, Los Angeles\, CA\, 90037\, United States
END:VEVENT
BEGIN:VEVENT
DTSTART;TZID=America/Los_Angeles:20220721T160000
DTEND;TZID=America/Los_Angeles:20220721T220000
DTSTAMP:20260419T054921
CREATED:20220411T182837Z
LAST-MODIFIED:20220411T182837Z
UID:10054067-1658419200-1658440800@expositionpark.ca.gov
SUMMARY:Private Event
DESCRIPTION:
URL:https://expositionpark.ca.gov/event/private-event-326/
LOCATION:Exposition Park Rose Garden\, 701 State Dr\, Los Angeles\, 90037
END:VEVENT
BEGIN:VEVENT
DTSTART;TZID=America/Los_Angeles:20220716T160000
DTEND;TZID=America/Los_Angeles:20220716T220000
DTSTAMP:20260419T054921
CREATED:20220711T123001Z
LAST-MODIFIED:20220711T123001Z
UID:10052503-1657987200-1658008800@expositionpark.ca.gov
SUMMARY:Private Event: Ceremony
DESCRIPTION:Road Request \n2 Staff
URL:https://expositionpark.ca.gov/event/private-event-ceremony-5/
LOCATION:Exposition Park Rose Garden: West Lawn
END:VEVENT
BEGIN:VEVENT
DTSTART;TZID=America/Los_Angeles:20220715T150000
DTEND;TZID=America/Los_Angeles:20220715T180000
DTSTAMP:20260419T054921
CREATED:20220630T215401Z
LAST-MODIFIED:20220630T215401Z
UID:10054179-1657897200-1657908000@expositionpark.ca.gov
SUMMARY:Private Event: Ceremony
DESCRIPTION:No Road Request
URL:https://expositionpark.ca.gov/event/private-event-ceremony/
LOCATION:Rose Garden Gazebo (B)\, 701 State Dr.\, Los Angeles\, CA\, 90037\, United States
END:VEVENT
BEGIN:VEVENT
DTSTART;TZID=America/Los_Angeles:20220712T190000
DTEND;TZID=America/Los_Angeles:20220712T223000
DTSTAMP:20260419T054921
CREATED:20220706T204704Z
LAST-MODIFIED:20220706T204704Z
UID:10052499-1657652400-1657665000@expositionpark.ca.gov
SUMMARY:Tank Air Studio
DESCRIPTION:No Road Request
URL:https://expositionpark.ca.gov/event/tank-air-studio/
LOCATION:Exposition Park Rose Garden\, 701 State Dr\, Los Angeles\, 90037
END:VEVENT
BEGIN:VEVENT
DTSTART;TZID=America/Los_Angeles:20220709T113000
DTEND;TZID=America/Los_Angeles:20220709T133000
DTSTAMP:20260419T054921
CREATED:20220630T215443Z
LAST-MODIFIED:20220630T215443Z
UID:10054180-1657366200-1657373400@expositionpark.ca.gov
SUMMARY:Picture Permit # 1 Quinceñera
DESCRIPTION:10 People
URL:https://expositionpark.ca.gov/event/picture-permit-1-quincenera/
LOCATION:Exposition Park Rose Garden\, 701 State Dr\, Los Angeles\, 90037
END:VEVENT
BEGIN:VEVENT
DTSTART;TZID=America/Los_Angeles:20220626T160000
DTEND;TZID=America/Los_Angeles:20220626T190000
DTSTAMP:20260419T054921
CREATED:20210525T205125Z
LAST-MODIFIED:20210525T205125Z
UID:10053675-1656259200-1656270000@expositionpark.ca.gov
SUMMARY:Private Event
DESCRIPTION:
URL:https://expositionpark.ca.gov/event/private-event-234/
LOCATION:Rose Garden East Lawn\, 701 State Dr.\, Los Angeles\, CA\, 90037\, United States
END:VEVENT
END:VCALENDAR