BEGIN:VCALENDAR
VERSION:2.0
PRODID:-//Exposition Park - ECPv6.15.20//NONSGML v1.0//EN
CALSCALE:GREGORIAN
METHOD:PUBLISH
X-ORIGINAL-URL:https://expositionpark.ca.gov
X-WR-CALDESC:Events for Exposition Park
REFRESH-INTERVAL;VALUE=DURATION:PT1H
X-Robots-Tag:noindex
X-PUBLISHED-TTL:PT1H
BEGIN:VTIMEZONE
TZID:America/Los_Angeles
BEGIN:DAYLIGHT
TZOFFSETFROM:-0800
TZOFFSETTO:-0700
TZNAME:PDT
DTSTART:20220313T100000
END:DAYLIGHT
BEGIN:STANDARD
TZOFFSETFROM:-0700
TZOFFSETTO:-0800
TZNAME:PST
DTSTART:20221106T090000
END:STANDARD
BEGIN:DAYLIGHT
TZOFFSETFROM:-0800
TZOFFSETTO:-0700
TZNAME:PDT
DTSTART:20230312T100000
END:DAYLIGHT
BEGIN:STANDARD
TZOFFSETFROM:-0700
TZOFFSETTO:-0800
TZNAME:PST
DTSTART:20231105T090000
END:STANDARD
BEGIN:DAYLIGHT
TZOFFSETFROM:-0800
TZOFFSETTO:-0700
TZNAME:PDT
DTSTART:20240310T100000
END:DAYLIGHT
BEGIN:STANDARD
TZOFFSETFROM:-0700
TZOFFSETTO:-0800
TZNAME:PST
DTSTART:20241103T090000
END:STANDARD
END:VTIMEZONE
BEGIN:VEVENT
DTSTART;TZID=America/Los_Angeles:20230724T180000
DTEND;TZID=America/Los_Angeles:20230724T210000
DTSTAMP:20260420T184447
CREATED:20230627T235516Z
LAST-MODIFIED:20230627T235516Z
UID:10054646-1690221600-1690232400@expositionpark.ca.gov
SUMMARY:Expo Center Summer Basketball and Soccer
DESCRIPTION:
URL:https://expositionpark.ca.gov/event/expo-center-summer-basketball-and-soccer/2023-07-24/
LOCATION:EXPO Center/ John C Argue Swim Stadium\, 3980 Bill Robertson Lane\, Los Angeles\, CA\, 90037\, United States
GEO:34.0121136;-118.2900829
X-APPLE-STRUCTURED-LOCATION;VALUE=URI;X-ADDRESS=EXPO Center/ John C Argue Swim Stadium 3980 Bill Robertson Lane Los Angeles CA 90037 United States;X-APPLE-RADIUS=500;X-TITLE=3980 Bill Robertson Lane:geo:-118.2900829,34.0121136
END:VEVENT
BEGIN:VEVENT
DTSTART;TZID=America/Los_Angeles:20230724T070000
DTEND;TZID=America/Los_Angeles:20230724T180000
DTSTAMP:20260420T184447
CREATED:20230627T234708Z
LAST-MODIFIED:20230627T235320Z
UID:10054608-1690182000-1690221600@expositionpark.ca.gov
SUMMARY:Expo Center Summer Camp
DESCRIPTION:
URL:https://expositionpark.ca.gov/event/expo-center-summer-camp/2023-07-24/
LOCATION:EXPO Center /John C. Argue Swim Stadium\, 3980 Bill Robertson Lane\, Los Angeles\, CA\, 90037\, United States
GEO:34.0122701;-118.2894811
X-APPLE-STRUCTURED-LOCATION;VALUE=URI;X-ADDRESS=EXPO Center /John C. Argue Swim Stadium 3980 Bill Robertson Lane Los Angeles CA 90037 United States;X-APPLE-RADIUS=500;X-TITLE=3980 Bill Robertson Lane:geo:-118.2894811,34.0122701
END:VEVENT
BEGIN:VEVENT
DTSTART;TZID=America/Los_Angeles:20230722T180000
DTEND;TZID=America/Los_Angeles:20230722T210000
DTSTAMP:20260420T184447
CREATED:20230627T235516Z
LAST-MODIFIED:20230627T235516Z
UID:10054645-1690048800-1690059600@expositionpark.ca.gov
SUMMARY:Expo Center Summer Basketball and Soccer
DESCRIPTION:
URL:https://expositionpark.ca.gov/event/expo-center-summer-basketball-and-soccer/2023-07-22/
LOCATION:EXPO Center/ John C Argue Swim Stadium\, 3980 Bill Robertson Lane\, Los Angeles\, CA\, 90037\, United States
GEO:34.0121136;-118.2900829
X-APPLE-STRUCTURED-LOCATION;VALUE=URI;X-ADDRESS=EXPO Center/ John C Argue Swim Stadium 3980 Bill Robertson Lane Los Angeles CA 90037 United States;X-APPLE-RADIUS=500;X-TITLE=3980 Bill Robertson Lane:geo:-118.2900829,34.0121136
END:VEVENT
BEGIN:VEVENT
DTSTART;TZID=America/Los_Angeles:20230721T180000
DTEND;TZID=America/Los_Angeles:20230721T210000
DTSTAMP:20260420T184447
CREATED:20230627T235516Z
LAST-MODIFIED:20230627T235516Z
UID:10054644-1689962400-1689973200@expositionpark.ca.gov
SUMMARY:Expo Center Summer Basketball and Soccer
DESCRIPTION:
URL:https://expositionpark.ca.gov/event/expo-center-summer-basketball-and-soccer/2023-07-21/
LOCATION:EXPO Center/ John C Argue Swim Stadium\, 3980 Bill Robertson Lane\, Los Angeles\, CA\, 90037\, United States
GEO:34.0121136;-118.2900829
X-APPLE-STRUCTURED-LOCATION;VALUE=URI;X-ADDRESS=EXPO Center/ John C Argue Swim Stadium 3980 Bill Robertson Lane Los Angeles CA 90037 United States;X-APPLE-RADIUS=500;X-TITLE=3980 Bill Robertson Lane:geo:-118.2900829,34.0121136
END:VEVENT
BEGIN:VEVENT
DTSTART;TZID=America/Los_Angeles:20230721T140000
DTEND;TZID=America/Los_Angeles:20230722T010000
DTSTAMP:20260420T184447
CREATED:20230424T033838Z
LAST-MODIFIED:20230424T033838Z
UID:10054530-1689948000-1689987600@expositionpark.ca.gov
SUMMARY:Private Event
DESCRIPTION:
URL:https://expositionpark.ca.gov/event/private-event-521/
LOCATION:Exposition Park Rose Garden: East Lawn\, Los Angeles\, CA\, United States
END:VEVENT
BEGIN:VEVENT
DTSTART;TZID=America/Los_Angeles:20230721T070000
DTEND;TZID=America/Los_Angeles:20230721T180000
DTSTAMP:20260420T184447
CREATED:20230627T234708Z
LAST-MODIFIED:20230627T235320Z
UID:10054607-1689922800-1689962400@expositionpark.ca.gov
SUMMARY:Expo Center Summer Camp
DESCRIPTION:
URL:https://expositionpark.ca.gov/event/expo-center-summer-camp/2023-07-21/
LOCATION:EXPO Center /John C. Argue Swim Stadium\, 3980 Bill Robertson Lane\, Los Angeles\, CA\, 90037\, United States
GEO:34.0122701;-118.2894811
X-APPLE-STRUCTURED-LOCATION;VALUE=URI;X-ADDRESS=EXPO Center /John C. Argue Swim Stadium 3980 Bill Robertson Lane Los Angeles CA 90037 United States;X-APPLE-RADIUS=500;X-TITLE=3980 Bill Robertson Lane:geo:-118.2894811,34.0122701
END:VEVENT
BEGIN:VEVENT
DTSTART;TZID=America/Los_Angeles:20230720T180000
DTEND;TZID=America/Los_Angeles:20230720T210000
DTSTAMP:20260420T184447
CREATED:20230627T235516Z
LAST-MODIFIED:20230627T235516Z
UID:10054643-1689876000-1689886800@expositionpark.ca.gov
SUMMARY:Expo Center Summer Basketball and Soccer
DESCRIPTION:
URL:https://expositionpark.ca.gov/event/expo-center-summer-basketball-and-soccer/2023-07-20/
LOCATION:EXPO Center/ John C Argue Swim Stadium\, 3980 Bill Robertson Lane\, Los Angeles\, CA\, 90037\, United States
GEO:34.0121136;-118.2900829
X-APPLE-STRUCTURED-LOCATION;VALUE=URI;X-ADDRESS=EXPO Center/ John C Argue Swim Stadium 3980 Bill Robertson Lane Los Angeles CA 90037 United States;X-APPLE-RADIUS=500;X-TITLE=3980 Bill Robertson Lane:geo:-118.2900829,34.0121136
END:VEVENT
BEGIN:VEVENT
DTSTART;TZID=America/Los_Angeles:20230720T070000
DTEND;TZID=America/Los_Angeles:20230720T180000
DTSTAMP:20260420T184447
CREATED:20230627T234708Z
LAST-MODIFIED:20230627T235320Z
UID:10054606-1689836400-1689876000@expositionpark.ca.gov
SUMMARY:Expo Center Summer Camp
DESCRIPTION:
URL:https://expositionpark.ca.gov/event/expo-center-summer-camp/2023-07-20/
LOCATION:EXPO Center /John C. Argue Swim Stadium\, 3980 Bill Robertson Lane\, Los Angeles\, CA\, 90037\, United States
GEO:34.0122701;-118.2894811
X-APPLE-STRUCTURED-LOCATION;VALUE=URI;X-ADDRESS=EXPO Center /John C. Argue Swim Stadium 3980 Bill Robertson Lane Los Angeles CA 90037 United States;X-APPLE-RADIUS=500;X-TITLE=3980 Bill Robertson Lane:geo:-118.2894811,34.0122701
END:VEVENT
BEGIN:VEVENT
DTSTART;TZID=America/Los_Angeles:20230719T180000
DTEND;TZID=America/Los_Angeles:20230719T210000
DTSTAMP:20260420T184447
CREATED:20230627T235516Z
LAST-MODIFIED:20230627T235516Z
UID:10054642-1689789600-1689800400@expositionpark.ca.gov
SUMMARY:Expo Center Summer Basketball and Soccer
DESCRIPTION:
URL:https://expositionpark.ca.gov/event/expo-center-summer-basketball-and-soccer/2023-07-19/
LOCATION:EXPO Center/ John C Argue Swim Stadium\, 3980 Bill Robertson Lane\, Los Angeles\, CA\, 90037\, United States
GEO:34.0121136;-118.2900829
X-APPLE-STRUCTURED-LOCATION;VALUE=URI;X-ADDRESS=EXPO Center/ John C Argue Swim Stadium 3980 Bill Robertson Lane Los Angeles CA 90037 United States;X-APPLE-RADIUS=500;X-TITLE=3980 Bill Robertson Lane:geo:-118.2900829,34.0121136
END:VEVENT
BEGIN:VEVENT
DTSTART;TZID=America/Los_Angeles:20230719T070000
DTEND;TZID=America/Los_Angeles:20230719T180000
DTSTAMP:20260420T184447
CREATED:20230627T234708Z
LAST-MODIFIED:20230627T235320Z
UID:10054605-1689750000-1689789600@expositionpark.ca.gov
SUMMARY:Expo Center Summer Camp
DESCRIPTION:
URL:https://expositionpark.ca.gov/event/expo-center-summer-camp/2023-07-19/
LOCATION:EXPO Center /John C. Argue Swim Stadium\, 3980 Bill Robertson Lane\, Los Angeles\, CA\, 90037\, United States
GEO:34.0122701;-118.2894811
X-APPLE-STRUCTURED-LOCATION;VALUE=URI;X-ADDRESS=EXPO Center /John C. Argue Swim Stadium 3980 Bill Robertson Lane Los Angeles CA 90037 United States;X-APPLE-RADIUS=500;X-TITLE=3980 Bill Robertson Lane:geo:-118.2894811,34.0122701
END:VEVENT
BEGIN:VEVENT
DTSTART;TZID=America/Los_Angeles:20230718T180000
DTEND;TZID=America/Los_Angeles:20230718T210000
DTSTAMP:20260420T184447
CREATED:20230627T235516Z
LAST-MODIFIED:20230627T235516Z
UID:10054641-1689703200-1689714000@expositionpark.ca.gov
SUMMARY:Expo Center Summer Basketball and Soccer
DESCRIPTION:
URL:https://expositionpark.ca.gov/event/expo-center-summer-basketball-and-soccer/2023-07-18/
LOCATION:EXPO Center/ John C Argue Swim Stadium\, 3980 Bill Robertson Lane\, Los Angeles\, CA\, 90037\, United States
GEO:34.0121136;-118.2900829
X-APPLE-STRUCTURED-LOCATION;VALUE=URI;X-ADDRESS=EXPO Center/ John C Argue Swim Stadium 3980 Bill Robertson Lane Los Angeles CA 90037 United States;X-APPLE-RADIUS=500;X-TITLE=3980 Bill Robertson Lane:geo:-118.2900829,34.0121136
END:VEVENT
BEGIN:VEVENT
DTSTART;TZID=America/Los_Angeles:20230718T070000
DTEND;TZID=America/Los_Angeles:20230718T180000
DTSTAMP:20260420T184447
CREATED:20230627T234708Z
LAST-MODIFIED:20230627T235320Z
UID:10054604-1689663600-1689703200@expositionpark.ca.gov
SUMMARY:Expo Center Summer Camp
DESCRIPTION:
URL:https://expositionpark.ca.gov/event/expo-center-summer-camp/2023-07-18/
LOCATION:EXPO Center /John C. Argue Swim Stadium\, 3980 Bill Robertson Lane\, Los Angeles\, CA\, 90037\, United States
GEO:34.0122701;-118.2894811
X-APPLE-STRUCTURED-LOCATION;VALUE=URI;X-ADDRESS=EXPO Center /John C. Argue Swim Stadium 3980 Bill Robertson Lane Los Angeles CA 90037 United States;X-APPLE-RADIUS=500;X-TITLE=3980 Bill Robertson Lane:geo:-118.2894811,34.0122701
END:VEVENT
BEGIN:VEVENT
DTSTART;TZID=America/Los_Angeles:20230717T180000
DTEND;TZID=America/Los_Angeles:20230717T210000
DTSTAMP:20260420T184447
CREATED:20230627T235516Z
LAST-MODIFIED:20230627T235516Z
UID:10054640-1689616800-1689627600@expositionpark.ca.gov
SUMMARY:Expo Center Summer Basketball and Soccer
DESCRIPTION:
URL:https://expositionpark.ca.gov/event/expo-center-summer-basketball-and-soccer/2023-07-17/
LOCATION:EXPO Center/ John C Argue Swim Stadium\, 3980 Bill Robertson Lane\, Los Angeles\, CA\, 90037\, United States
GEO:34.0121136;-118.2900829
X-APPLE-STRUCTURED-LOCATION;VALUE=URI;X-ADDRESS=EXPO Center/ John C Argue Swim Stadium 3980 Bill Robertson Lane Los Angeles CA 90037 United States;X-APPLE-RADIUS=500;X-TITLE=3980 Bill Robertson Lane:geo:-118.2900829,34.0121136
END:VEVENT
BEGIN:VEVENT
DTSTART;TZID=America/Los_Angeles:20230717T070000
DTEND;TZID=America/Los_Angeles:20230717T180000
DTSTAMP:20260420T184447
CREATED:20230627T234708Z
LAST-MODIFIED:20230627T235320Z
UID:10054603-1689577200-1689616800@expositionpark.ca.gov
SUMMARY:Expo Center Summer Camp
DESCRIPTION:
URL:https://expositionpark.ca.gov/event/expo-center-summer-camp/2023-07-17/
LOCATION:EXPO Center /John C. Argue Swim Stadium\, 3980 Bill Robertson Lane\, Los Angeles\, CA\, 90037\, United States
GEO:34.0122701;-118.2894811
X-APPLE-STRUCTURED-LOCATION;VALUE=URI;X-ADDRESS=EXPO Center /John C. Argue Swim Stadium 3980 Bill Robertson Lane Los Angeles CA 90037 United States;X-APPLE-RADIUS=500;X-TITLE=3980 Bill Robertson Lane:geo:-118.2894811,34.0122701
END:VEVENT
BEGIN:VEVENT
DTSTART;TZID=America/Los_Angeles:20230715T180000
DTEND;TZID=America/Los_Angeles:20230715T210000
DTSTAMP:20260420T184447
CREATED:20230627T235516Z
LAST-MODIFIED:20230627T235516Z
UID:10054639-1689444000-1689454800@expositionpark.ca.gov
SUMMARY:Expo Center Summer Basketball and Soccer
DESCRIPTION:
URL:https://expositionpark.ca.gov/event/expo-center-summer-basketball-and-soccer/2023-07-15/
LOCATION:EXPO Center/ John C Argue Swim Stadium\, 3980 Bill Robertson Lane\, Los Angeles\, CA\, 90037\, United States
GEO:34.0121136;-118.2900829
X-APPLE-STRUCTURED-LOCATION;VALUE=URI;X-ADDRESS=EXPO Center/ John C Argue Swim Stadium 3980 Bill Robertson Lane Los Angeles CA 90037 United States;X-APPLE-RADIUS=500;X-TITLE=3980 Bill Robertson Lane:geo:-118.2900829,34.0121136
END:VEVENT
BEGIN:VEVENT
DTSTART;TZID=America/Los_Angeles:20230715T080000
DTEND;TZID=America/Los_Angeles:20230715T210000
DTSTAMP:20260420T184447
CREATED:20230412T182526Z
LAST-MODIFIED:20230412T182526Z
UID:10052836-1689408000-1689454800@expositionpark.ca.gov
SUMMARY:Private Event
DESCRIPTION:
URL:https://expositionpark.ca.gov/event/private-event-519/
LOCATION:Exposition Park Rose Garden: West Lawn
END:VEVENT
BEGIN:VEVENT
DTSTART;TZID=America/Los_Angeles:20230714T180000
DTEND;TZID=America/Los_Angeles:20230714T210000
DTSTAMP:20260420T184447
CREATED:20230627T235516Z
LAST-MODIFIED:20230627T235516Z
UID:10054638-1689357600-1689368400@expositionpark.ca.gov
SUMMARY:Expo Center Summer Basketball and Soccer
DESCRIPTION:
URL:https://expositionpark.ca.gov/event/expo-center-summer-basketball-and-soccer/2023-07-14/
LOCATION:EXPO Center/ John C Argue Swim Stadium\, 3980 Bill Robertson Lane\, Los Angeles\, CA\, 90037\, United States
GEO:34.0121136;-118.2900829
X-APPLE-STRUCTURED-LOCATION;VALUE=URI;X-ADDRESS=EXPO Center/ John C Argue Swim Stadium 3980 Bill Robertson Lane Los Angeles CA 90037 United States;X-APPLE-RADIUS=500;X-TITLE=3980 Bill Robertson Lane:geo:-118.2900829,34.0121136
END:VEVENT
BEGIN:VEVENT
DTSTART;TZID=America/Los_Angeles:20230714T070000
DTEND;TZID=America/Los_Angeles:20230714T180000
DTSTAMP:20260420T184447
CREATED:20230627T234708Z
LAST-MODIFIED:20230627T235320Z
UID:10054602-1689318000-1689357600@expositionpark.ca.gov
SUMMARY:Expo Center Summer Camp
DESCRIPTION:
URL:https://expositionpark.ca.gov/event/expo-center-summer-camp/2023-07-14/
LOCATION:EXPO Center /John C. Argue Swim Stadium\, 3980 Bill Robertson Lane\, Los Angeles\, CA\, 90037\, United States
GEO:34.0122701;-118.2894811
X-APPLE-STRUCTURED-LOCATION;VALUE=URI;X-ADDRESS=EXPO Center /John C. Argue Swim Stadium 3980 Bill Robertson Lane Los Angeles CA 90037 United States;X-APPLE-RADIUS=500;X-TITLE=3980 Bill Robertson Lane:geo:-118.2894811,34.0122701
END:VEVENT
BEGIN:VEVENT
DTSTART;TZID=America/Los_Angeles:20230713T180000
DTEND;TZID=America/Los_Angeles:20230713T210000
DTSTAMP:20260420T184447
CREATED:20230627T235516Z
LAST-MODIFIED:20230627T235516Z
UID:10054637-1689271200-1689282000@expositionpark.ca.gov
SUMMARY:Expo Center Summer Basketball and Soccer
DESCRIPTION:
URL:https://expositionpark.ca.gov/event/expo-center-summer-basketball-and-soccer/2023-07-13/
LOCATION:EXPO Center/ John C Argue Swim Stadium\, 3980 Bill Robertson Lane\, Los Angeles\, CA\, 90037\, United States
GEO:34.0121136;-118.2900829
X-APPLE-STRUCTURED-LOCATION;VALUE=URI;X-ADDRESS=EXPO Center/ John C Argue Swim Stadium 3980 Bill Robertson Lane Los Angeles CA 90037 United States;X-APPLE-RADIUS=500;X-TITLE=3980 Bill Robertson Lane:geo:-118.2900829,34.0121136
END:VEVENT
BEGIN:VEVENT
DTSTART;TZID=America/Los_Angeles:20230713T070000
DTEND;TZID=America/Los_Angeles:20230713T180000
DTSTAMP:20260420T184447
CREATED:20230627T234708Z
LAST-MODIFIED:20230627T235320Z
UID:10054601-1689231600-1689271200@expositionpark.ca.gov
SUMMARY:Expo Center Summer Camp
DESCRIPTION:
URL:https://expositionpark.ca.gov/event/expo-center-summer-camp/2023-07-13/
LOCATION:EXPO Center /John C. Argue Swim Stadium\, 3980 Bill Robertson Lane\, Los Angeles\, CA\, 90037\, United States
GEO:34.0122701;-118.2894811
X-APPLE-STRUCTURED-LOCATION;VALUE=URI;X-ADDRESS=EXPO Center /John C. Argue Swim Stadium 3980 Bill Robertson Lane Los Angeles CA 90037 United States;X-APPLE-RADIUS=500;X-TITLE=3980 Bill Robertson Lane:geo:-118.2894811,34.0122701
END:VEVENT
BEGIN:VEVENT
DTSTART;TZID=America/Los_Angeles:20230712T180000
DTEND;TZID=America/Los_Angeles:20230712T210000
DTSTAMP:20260420T184447
CREATED:20230627T235516Z
LAST-MODIFIED:20230627T235516Z
UID:10054636-1689184800-1689195600@expositionpark.ca.gov
SUMMARY:Expo Center Summer Basketball and Soccer
DESCRIPTION:
URL:https://expositionpark.ca.gov/event/expo-center-summer-basketball-and-soccer/2023-07-12/
LOCATION:EXPO Center/ John C Argue Swim Stadium\, 3980 Bill Robertson Lane\, Los Angeles\, CA\, 90037\, United States
GEO:34.0121136;-118.2900829
X-APPLE-STRUCTURED-LOCATION;VALUE=URI;X-ADDRESS=EXPO Center/ John C Argue Swim Stadium 3980 Bill Robertson Lane Los Angeles CA 90037 United States;X-APPLE-RADIUS=500;X-TITLE=3980 Bill Robertson Lane:geo:-118.2900829,34.0121136
END:VEVENT
BEGIN:VEVENT
DTSTART;TZID=America/Los_Angeles:20230712T070000
DTEND;TZID=America/Los_Angeles:20230712T180000
DTSTAMP:20260420T184447
CREATED:20230627T234708Z
LAST-MODIFIED:20230627T235320Z
UID:10054600-1689145200-1689184800@expositionpark.ca.gov
SUMMARY:Expo Center Summer Camp
DESCRIPTION:
URL:https://expositionpark.ca.gov/event/expo-center-summer-camp/2023-07-12/
LOCATION:EXPO Center /John C. Argue Swim Stadium\, 3980 Bill Robertson Lane\, Los Angeles\, CA\, 90037\, United States
GEO:34.0122701;-118.2894811
X-APPLE-STRUCTURED-LOCATION;VALUE=URI;X-ADDRESS=EXPO Center /John C. Argue Swim Stadium 3980 Bill Robertson Lane Los Angeles CA 90037 United States;X-APPLE-RADIUS=500;X-TITLE=3980 Bill Robertson Lane:geo:-118.2894811,34.0122701
END:VEVENT
BEGIN:VEVENT
DTSTART;TZID=America/Los_Angeles:20230711T180000
DTEND;TZID=America/Los_Angeles:20230711T210000
DTSTAMP:20260420T184447
CREATED:20230627T235516Z
LAST-MODIFIED:20230627T235516Z
UID:10054635-1689098400-1689109200@expositionpark.ca.gov
SUMMARY:Expo Center Summer Basketball and Soccer
DESCRIPTION:
URL:https://expositionpark.ca.gov/event/expo-center-summer-basketball-and-soccer/2023-07-11/
LOCATION:EXPO Center/ John C Argue Swim Stadium\, 3980 Bill Robertson Lane\, Los Angeles\, CA\, 90037\, United States
GEO:34.0121136;-118.2900829
X-APPLE-STRUCTURED-LOCATION;VALUE=URI;X-ADDRESS=EXPO Center/ John C Argue Swim Stadium 3980 Bill Robertson Lane Los Angeles CA 90037 United States;X-APPLE-RADIUS=500;X-TITLE=3980 Bill Robertson Lane:geo:-118.2900829,34.0121136
END:VEVENT
BEGIN:VEVENT
DTSTART;TZID=America/Los_Angeles:20230711T070000
DTEND;TZID=America/Los_Angeles:20230711T180000
DTSTAMP:20260420T184447
CREATED:20230627T234708Z
LAST-MODIFIED:20230627T235320Z
UID:10054599-1689058800-1689098400@expositionpark.ca.gov
SUMMARY:Expo Center Summer Camp
DESCRIPTION:
URL:https://expositionpark.ca.gov/event/expo-center-summer-camp/2023-07-11/
LOCATION:EXPO Center /John C. Argue Swim Stadium\, 3980 Bill Robertson Lane\, Los Angeles\, CA\, 90037\, United States
GEO:34.0122701;-118.2894811
X-APPLE-STRUCTURED-LOCATION;VALUE=URI;X-ADDRESS=EXPO Center /John C. Argue Swim Stadium 3980 Bill Robertson Lane Los Angeles CA 90037 United States;X-APPLE-RADIUS=500;X-TITLE=3980 Bill Robertson Lane:geo:-118.2894811,34.0122701
END:VEVENT
BEGIN:VEVENT
DTSTART;TZID=America/Los_Angeles:20230710T180000
DTEND;TZID=America/Los_Angeles:20230710T210000
DTSTAMP:20260420T184447
CREATED:20230627T235516Z
LAST-MODIFIED:20230627T235516Z
UID:10054634-1689012000-1689022800@expositionpark.ca.gov
SUMMARY:Expo Center Summer Basketball and Soccer
DESCRIPTION:
URL:https://expositionpark.ca.gov/event/expo-center-summer-basketball-and-soccer/2023-07-10/
LOCATION:EXPO Center/ John C Argue Swim Stadium\, 3980 Bill Robertson Lane\, Los Angeles\, CA\, 90037\, United States
GEO:34.0121136;-118.2900829
X-APPLE-STRUCTURED-LOCATION;VALUE=URI;X-ADDRESS=EXPO Center/ John C Argue Swim Stadium 3980 Bill Robertson Lane Los Angeles CA 90037 United States;X-APPLE-RADIUS=500;X-TITLE=3980 Bill Robertson Lane:geo:-118.2900829,34.0121136
END:VEVENT
BEGIN:VEVENT
DTSTART;TZID=America/Los_Angeles:20230710T070000
DTEND;TZID=America/Los_Angeles:20230710T180000
DTSTAMP:20260420T184447
CREATED:20230627T234708Z
LAST-MODIFIED:20230627T235320Z
UID:10054598-1688972400-1689012000@expositionpark.ca.gov
SUMMARY:Expo Center Summer Camp
DESCRIPTION:
URL:https://expositionpark.ca.gov/event/expo-center-summer-camp/2023-07-10/
LOCATION:EXPO Center /John C. Argue Swim Stadium\, 3980 Bill Robertson Lane\, Los Angeles\, CA\, 90037\, United States
GEO:34.0122701;-118.2894811
X-APPLE-STRUCTURED-LOCATION;VALUE=URI;X-ADDRESS=EXPO Center /John C. Argue Swim Stadium 3980 Bill Robertson Lane Los Angeles CA 90037 United States;X-APPLE-RADIUS=500;X-TITLE=3980 Bill Robertson Lane:geo:-118.2894811,34.0122701
END:VEVENT
BEGIN:VEVENT
DTSTART;TZID=America/Los_Angeles:20230708T180000
DTEND;TZID=America/Los_Angeles:20230708T210000
DTSTAMP:20260420T184447
CREATED:20230627T235516Z
LAST-MODIFIED:20230627T235516Z
UID:10054633-1688839200-1688850000@expositionpark.ca.gov
SUMMARY:Expo Center Summer Basketball and Soccer
DESCRIPTION:
URL:https://expositionpark.ca.gov/event/expo-center-summer-basketball-and-soccer/2023-07-08/
LOCATION:EXPO Center/ John C Argue Swim Stadium\, 3980 Bill Robertson Lane\, Los Angeles\, CA\, 90037\, United States
GEO:34.0121136;-118.2900829
X-APPLE-STRUCTURED-LOCATION;VALUE=URI;X-ADDRESS=EXPO Center/ John C Argue Swim Stadium 3980 Bill Robertson Lane Los Angeles CA 90037 United States;X-APPLE-RADIUS=500;X-TITLE=3980 Bill Robertson Lane:geo:-118.2900829,34.0121136
END:VEVENT
BEGIN:VEVENT
DTSTART;TZID=America/Los_Angeles:20230707T180000
DTEND;TZID=America/Los_Angeles:20230707T210000
DTSTAMP:20260420T184447
CREATED:20230627T235516Z
LAST-MODIFIED:20230627T235516Z
UID:10054632-1688752800-1688763600@expositionpark.ca.gov
SUMMARY:Expo Center Summer Basketball and Soccer
DESCRIPTION:
URL:https://expositionpark.ca.gov/event/expo-center-summer-basketball-and-soccer/2023-07-07/
LOCATION:EXPO Center/ John C Argue Swim Stadium\, 3980 Bill Robertson Lane\, Los Angeles\, CA\, 90037\, United States
GEO:34.0121136;-118.2900829
X-APPLE-STRUCTURED-LOCATION;VALUE=URI;X-ADDRESS=EXPO Center/ John C Argue Swim Stadium 3980 Bill Robertson Lane Los Angeles CA 90037 United States;X-APPLE-RADIUS=500;X-TITLE=3980 Bill Robertson Lane:geo:-118.2900829,34.0121136
END:VEVENT
BEGIN:VEVENT
DTSTART;TZID=America/Los_Angeles:20230707T070000
DTEND;TZID=America/Los_Angeles:20230707T180000
DTSTAMP:20260420T184447
CREATED:20230627T234708Z
LAST-MODIFIED:20230627T235320Z
UID:10054597-1688713200-1688752800@expositionpark.ca.gov
SUMMARY:Expo Center Summer Camp
DESCRIPTION:
URL:https://expositionpark.ca.gov/event/expo-center-summer-camp/2023-07-07/
LOCATION:EXPO Center /John C. Argue Swim Stadium\, 3980 Bill Robertson Lane\, Los Angeles\, CA\, 90037\, United States
GEO:34.0122701;-118.2894811
X-APPLE-STRUCTURED-LOCATION;VALUE=URI;X-ADDRESS=EXPO Center /John C. Argue Swim Stadium 3980 Bill Robertson Lane Los Angeles CA 90037 United States;X-APPLE-RADIUS=500;X-TITLE=3980 Bill Robertson Lane:geo:-118.2894811,34.0122701
END:VEVENT
BEGIN:VEVENT
DTSTART;TZID=America/Los_Angeles:20230706T180000
DTEND;TZID=America/Los_Angeles:20230706T210000
DTSTAMP:20260420T184447
CREATED:20230627T235516Z
LAST-MODIFIED:20230627T235516Z
UID:10054631-1688666400-1688677200@expositionpark.ca.gov
SUMMARY:Expo Center Summer Basketball and Soccer
DESCRIPTION:
URL:https://expositionpark.ca.gov/event/expo-center-summer-basketball-and-soccer/2023-07-06/
LOCATION:EXPO Center/ John C Argue Swim Stadium\, 3980 Bill Robertson Lane\, Los Angeles\, CA\, 90037\, United States
GEO:34.0121136;-118.2900829
X-APPLE-STRUCTURED-LOCATION;VALUE=URI;X-ADDRESS=EXPO Center/ John C Argue Swim Stadium 3980 Bill Robertson Lane Los Angeles CA 90037 United States;X-APPLE-RADIUS=500;X-TITLE=3980 Bill Robertson Lane:geo:-118.2900829,34.0121136
END:VEVENT
END:VCALENDAR