BEGIN:VCALENDAR
VERSION:2.0
PRODID:-//Exposition Park - ECPv6.15.20//NONSGML v1.0//EN
CALSCALE:GREGORIAN
METHOD:PUBLISH
X-WR-CALNAME:Exposition Park
X-ORIGINAL-URL:https://expositionpark.ca.gov
X-WR-CALDESC:Events for Exposition Park
REFRESH-INTERVAL;VALUE=DURATION:PT1H
X-Robots-Tag:noindex
X-PUBLISHED-TTL:PT1H
BEGIN:VTIMEZONE
TZID:America/Los_Angeles
BEGIN:DAYLIGHT
TZOFFSETFROM:-0800
TZOFFSETTO:-0700
TZNAME:PDT
DTSTART:20200308T100000
END:DAYLIGHT
BEGIN:STANDARD
TZOFFSETFROM:-0700
TZOFFSETTO:-0800
TZNAME:PST
DTSTART:20201101T090000
END:STANDARD
BEGIN:DAYLIGHT
TZOFFSETFROM:-0800
TZOFFSETTO:-0700
TZNAME:PDT
DTSTART:20210314T100000
END:DAYLIGHT
BEGIN:STANDARD
TZOFFSETFROM:-0700
TZOFFSETTO:-0800
TZNAME:PST
DTSTART:20211107T090000
END:STANDARD
BEGIN:DAYLIGHT
TZOFFSETFROM:-0800
TZOFFSETTO:-0700
TZNAME:PDT
DTSTART:20220313T100000
END:DAYLIGHT
BEGIN:STANDARD
TZOFFSETFROM:-0700
TZOFFSETTO:-0800
TZNAME:PST
DTSTART:20221106T090000
END:STANDARD
BEGIN:DAYLIGHT
TZOFFSETFROM:-0800
TZOFFSETTO:-0700
TZNAME:PDT
DTSTART:20230312T100000
END:DAYLIGHT
BEGIN:STANDARD
TZOFFSETFROM:-0700
TZOFFSETTO:-0800
TZNAME:PST
DTSTART:20231105T090000
END:STANDARD
END:VTIMEZONE
BEGIN:VEVENT
DTSTART;TZID=America/Los_Angeles:20220626T123000
DTEND;TZID=America/Los_Angeles:20220626T173000
DTSTAMP:20260421T021425
CREATED:20210927T204651Z
LAST-MODIFIED:20210927T204651Z
UID:10053871-1656246600-1656264600@expositionpark.ca.gov
SUMMARY:Private Event
DESCRIPTION:
URL:https://expositionpark.ca.gov/event/private-event-265/
LOCATION:Exposition Park Rose Garden\, 701 State Dr\, Los Angeles\, 90037
END:VEVENT
BEGIN:VEVENT
DTSTART;TZID=America/Los_Angeles:20220621T140000
DTEND;TZID=America/Los_Angeles:20220621T160000
DTSTAMP:20260421T021425
CREATED:20220616T163214Z
LAST-MODIFIED:20220616T163214Z
UID:10054163-1655820000-1655827200@expositionpark.ca.gov
SUMMARY:Picture Permit
DESCRIPTION:Final Time to be Determined. \nNo Road Request
URL:https://expositionpark.ca.gov/event/picture-permit-9/
LOCATION:Exposition Park Rose Garden\, 701 State Dr\, Los Angeles\, 90037
END:VEVENT
BEGIN:VEVENT
DTSTART;TZID=America/Los_Angeles:20220620T120000
DTEND;TZID=America/Los_Angeles:20220620T150000
DTSTAMP:20260421T021425
CREATED:20220616T163000Z
LAST-MODIFIED:20220616T163000Z
UID:10054161-1655726400-1655737200@expositionpark.ca.gov
SUMMARY:Private Event: Youth Development
DESCRIPTION:1 Expo Staff assigned \n20 Folding Chairs \nNo Road Request \n\n6/14/22
URL:https://expositionpark.ca.gov/event/private-event-youth-development/
LOCATION:Rose Garden Gazebo (D)\, 701 State Dr\, Los Angeles\, 90037
END:VEVENT
BEGIN:VEVENT
DTSTART;TZID=America/Los_Angeles:20220618T080000
DTEND;TZID=America/Los_Angeles:20220618T170000
DTSTAMP:20260421T021425
CREATED:20220614T163238Z
LAST-MODIFIED:20220614T163238Z
UID:10054157-1655539200-1655571600@expositionpark.ca.gov
SUMMARY:Picture Permit
DESCRIPTION:
URL:https://expositionpark.ca.gov/event/picture-permit-8/
LOCATION:Exposition Park Rose Garden\, 701 State Dr\, Los Angeles\, 90037
END:VEVENT
BEGIN:VEVENT
DTSTART;TZID=America/Los_Angeles:20220618T080000
DTEND;TZID=America/Los_Angeles:20220618T130000
DTSTAMP:20260421T021425
CREATED:20220531T230022Z
LAST-MODIFIED:20220531T230022Z
UID:10054140-1655539200-1655557200@expositionpark.ca.gov
SUMMARY:Fathers day Breakfast
DESCRIPTION:
URL:https://expositionpark.ca.gov/event/fathers-day-breakfast/
LOCATION:Exposition Park Rose Garden: East Lawn\, Los Angeles\, CA\, United States
END:VEVENT
BEGIN:VEVENT
DTSTART;TZID=America/Los_Angeles:20220617T173000
DTEND;TZID=America/Los_Angeles:20220617T193000
DTSTAMP:20260421T021425
CREATED:20220614T163159Z
LAST-MODIFIED:20220614T163159Z
UID:10054156-1655487000-1655494200@expositionpark.ca.gov
SUMMARY:Picture Permit #1
DESCRIPTION:
URL:https://expositionpark.ca.gov/event/picture-permit-1-17/
LOCATION:Exposition Park Rose Garden\, 701 State Dr\, Los Angeles\, 90037
END:VEVENT
BEGIN:VEVENT
DTSTART;TZID=America/Los_Angeles:20220611T150000
DTEND;TZID=America/Los_Angeles:20220612T010000
DTSTAMP:20260421T021425
CREATED:20220226T010812Z
LAST-MODIFIED:20220226T010812Z
UID:10054024-1654959600-1654995600@expositionpark.ca.gov
SUMMARY:Private Event
DESCRIPTION:
URL:https://expositionpark.ca.gov/event/private-event-313/
LOCATION:EXPO Center/ Senior  Ballroom\, 3990 Bill Robertson Lane\, Los Angeles\, CA\, 90037\, United States
END:VEVENT
BEGIN:VEVENT
DTSTART;TZID=America/Los_Angeles:20220603T080000
DTEND;TZID=America/Los_Angeles:20220603T120000
DTSTAMP:20260421T021425
CREATED:20220309T214716Z
LAST-MODIFIED:20220309T214716Z
UID:10054036-1654243200-1654257600@expositionpark.ca.gov
SUMMARY:Parsons Preschool Graduation
DESCRIPTION:
URL:https://expositionpark.ca.gov/event/parsons-preschool-graduation/
LOCATION:EXPO Center
END:VEVENT
BEGIN:VEVENT
DTSTART;TZID=America/Los_Angeles:20220529T140000
DTEND;TZID=America/Los_Angeles:20220529T160000
DTSTAMP:20260421T021425
CREATED:20220526T165004Z
LAST-MODIFIED:20220526T165004Z
UID:10052446-1653832800-1653840000@expositionpark.ca.gov
SUMMARY:Picture Permit
DESCRIPTION:
URL:https://expositionpark.ca.gov/event/picture-permit-7/
LOCATION:Exposition Park Rose Garden\, 701 State Dr\, Los Angeles\, 90037
END:VEVENT
BEGIN:VEVENT
DTSTART;TZID=America/Los_Angeles:20220526T110000
DTEND;TZID=America/Los_Angeles:20220526T180000
DTSTAMP:20260421T021425
CREATED:20220527T190107Z
LAST-MODIFIED:20220527T190107Z
UID:10054131-1653562800-1653588000@expositionpark.ca.gov
SUMMARY:Private Event
DESCRIPTION:
URL:https://expositionpark.ca.gov/event/private-event-374/
LOCATION:Exposition Park Rose Garden: East Lawn\, Los Angeles\, CA\, United States
END:VEVENT
BEGIN:VEVENT
DTSTART;TZID=America/Los_Angeles:20220514T080000
DTEND;TZID=America/Los_Angeles:20220514T130000
DTSTAMP:20260421T021425
CREATED:20220321T175723Z
LAST-MODIFIED:20220321T175723Z
UID:10052353-1652515200-1652533200@expositionpark.ca.gov
SUMMARY:Play L.A. Summer Launch Day
DESCRIPTION:
URL:https://expositionpark.ca.gov/event/play-l-a-summer-launch-day/
LOCATION:Soboroff Sports Field/ EXPO Center\, 3980 S. Bill Robertson Lane\, Los Angeles\, 90037
END:VEVENT
BEGIN:VEVENT
DTSTART;TZID=America/Los_Angeles:20220513T120000
DTEND;TZID=America/Los_Angeles:20220513T220000
DTSTAMP:20260421T021425
CREATED:20220215T190047Z
LAST-MODIFIED:20220215T190047Z
UID:10052325-1652443200-1652479200@expositionpark.ca.gov
SUMMARY:Private Event
DESCRIPTION:
URL:https://expositionpark.ca.gov/event/private-event-309/
LOCATION:Exposition Park Rose Garden\, 701 State Dr\, Los Angeles\, 90037
END:VEVENT
BEGIN:VEVENT
DTSTART;TZID=America/Los_Angeles:20220409T110000
DTEND;TZID=America/Los_Angeles:20220409T150000
DTSTAMP:20260421T021425
CREATED:20220211T012733Z
LAST-MODIFIED:20220211T012733Z
UID:10054010-1649502000-1649516400@expositionpark.ca.gov
SUMMARY:Private Event
DESCRIPTION:
URL:https://expositionpark.ca.gov/event/private-event-307/
LOCATION:Exposition Park Rose Garden\, 701 State Dr\, Los Angeles\, 90037
END:VEVENT
BEGIN:VEVENT
DTSTART;TZID=America/Los_Angeles:20220408T120000
DTEND;TZID=America/Los_Angeles:20220408T150000
DTSTAMP:20260421T021425
CREATED:20220411T175153Z
LAST-MODIFIED:20220411T175153Z
UID:10054064-1649419200-1649430000@expositionpark.ca.gov
SUMMARY:Private Event
DESCRIPTION:
URL:https://expositionpark.ca.gov/event/private-event-322/
LOCATION:Rose Garden Gazebo (D)\, 701 State Dr\, Los Angeles\, 90037
END:VEVENT
BEGIN:VEVENT
DTSTART;TZID=America/Los_Angeles:20220402T110000
DTEND;TZID=America/Los_Angeles:20220402T140000
DTSTAMP:20260421T021425
CREATED:20220122T033122Z
LAST-MODIFIED:20220122T033122Z
UID:10052305-1648897200-1648908000@expositionpark.ca.gov
SUMMARY:Private Event
DESCRIPTION:
URL:https://expositionpark.ca.gov/event/private-event-304/
LOCATION:Rose Garden East Lawn\, 701 State Dr.\, Los Angeles\, CA\, 90037\, United States
END:VEVENT
BEGIN:VEVENT
DTSTART;TZID=America/Los_Angeles:20220203T133000
DTEND;TZID=America/Los_Angeles:20220203T170000
DTSTAMP:20260421T021425
CREATED:20210920T205722Z
LAST-MODIFIED:20210920T205722Z
UID:10052174-1643895000-1643907600@expositionpark.ca.gov
SUMMARY:USC MAE High School Soccer
DESCRIPTION:
URL:https://expositionpark.ca.gov/event/usc-mae-high-school-soccer-5/
LOCATION:Soboroff Playfield\, 3980 S. Bill Robertson Lane\, Los Angeles\, CA\, 90037\, United States
END:VEVENT
BEGIN:VEVENT
DTSTART;TZID=America/Los_Angeles:20220201T133000
DTEND;TZID=America/Los_Angeles:20220201T170000
DTSTAMP:20260421T021425
CREATED:20210920T205653Z
LAST-MODIFIED:20210920T205653Z
UID:10052172-1643722200-1643734800@expositionpark.ca.gov
SUMMARY:USC MAE High School Soccer
DESCRIPTION:
URL:https://expositionpark.ca.gov/event/usc-mae-high-school-soccer-4/
LOCATION:Soboroff Playfield\, 3980 S. Bill Robertson Lane\, Los Angeles\, CA\, 90037\, United States
END:VEVENT
BEGIN:VEVENT
DTSTART;TZID=America/Los_Angeles:20220120T133000
DTEND;TZID=America/Los_Angeles:20220120T170000
DTSTAMP:20260421T021425
CREATED:20210920T205606Z
LAST-MODIFIED:20210920T205606Z
UID:10052170-1642685400-1642698000@expositionpark.ca.gov
SUMMARY:USC MAE High School Soccer
DESCRIPTION:
URL:https://expositionpark.ca.gov/event/usc-mae-high-school-soccer-3/
LOCATION:Soboroff Playfield\, 3980 S. Bill Robertson Lane\, Los Angeles\, CA\, 90037\, United States
END:VEVENT
BEGIN:VEVENT
DTSTART;TZID=America/Los_Angeles:20220111T133000
DTEND;TZID=America/Los_Angeles:20220111T170000
DTSTAMP:20260421T021425
CREATED:20210920T205538Z
LAST-MODIFIED:20210920T205538Z
UID:10053865-1641907800-1641920400@expositionpark.ca.gov
SUMMARY:USC MAE High School Soccer
DESCRIPTION:
URL:https://expositionpark.ca.gov/event/usc-mae-high-school-soccer-2/
LOCATION:Soboroff Playfield\, 3980 S. Bill Robertson Lane\, Los Angeles\, CA\, 90037\, United States
END:VEVENT
BEGIN:VEVENT
DTSTART;TZID=America/Los_Angeles:20220107T080000
DTEND;TZID=America/Los_Angeles:20220107T180000
DTSTAMP:20260421T021425
CREATED:20210729T234315Z
LAST-MODIFIED:20210729T234315Z
UID:10053820-1641542400-1641578400@expositionpark.ca.gov
SUMMARY:Winter Day Camp
DESCRIPTION:
URL:https://expositionpark.ca.gov/event/winter-day-camp/2022-01-07/
LOCATION:EXPO Center\, 3980 Bill Robertson Lane\, Los Angeles\, CA\, 90037\, United States
GEO:34.0121136;-118.2900829
X-APPLE-STRUCTURED-LOCATION;VALUE=URI;X-ADDRESS=EXPO Center 3980 Bill Robertson Lane Los Angeles CA 90037 United States;X-APPLE-RADIUS=500;X-TITLE=3980 Bill Robertson Lane:geo:-118.2900829,34.0121136
END:VEVENT
BEGIN:VEVENT
DTSTART;TZID=America/Los_Angeles:20211217T133000
DTEND;TZID=America/Los_Angeles:20211217T170000
DTSTAMP:20260421T021425
CREATED:20210920T205512Z
LAST-MODIFIED:20210920T205512Z
UID:10053864-1639747800-1639760400@expositionpark.ca.gov
SUMMARY:USC MAE High School Soccer
DESCRIPTION:
URL:https://expositionpark.ca.gov/event/usc-mae-high-school-soccer/
LOCATION:Soboroff Playfield\, 3980 S. Bill Robertson Lane\, Los Angeles\, CA\, 90037\, United States
END:VEVENT
BEGIN:VEVENT
DTSTART;TZID=America/Los_Angeles:20211126T090000
DTEND;TZID=America/Los_Angeles:20211126T110000
DTSTAMP:20260421T021425
CREATED:20211115T220350Z
LAST-MODIFIED:20211115T220350Z
UID:10053913-1637917200-1637924400@expositionpark.ca.gov
SUMMARY:Orthopedic High School Soccer
DESCRIPTION:
URL:https://expositionpark.ca.gov/event/orthopedic-high-school-soccer/
LOCATION:Soboroff Playfield\, 3980 S. Bill Robertson Lane\, Los Angeles\, CA\, 90037\, United States
END:VEVENT
BEGIN:VEVENT
DTSTART;TZID=America/Los_Angeles:20211123T140000
DTEND;TZID=America/Los_Angeles:20211123T170000
DTSTAMP:20260421T021425
CREATED:20211101T155702Z
LAST-MODIFIED:20211101T155702Z
UID:10053897-1637676000-1637686800@expositionpark.ca.gov
SUMMARY:Private Event
DESCRIPTION:
URL:https://expositionpark.ca.gov/event/private-event-278/
LOCATION:Rose Garden Gazebo (C)
END:VEVENT
BEGIN:VEVENT
DTSTART;TZID=America/Los_Angeles:20211122T180000
DTEND;TZID=America/Los_Angeles:20211122T210000
DTSTAMP:20260421T021425
CREATED:20210609T175922Z
LAST-MODIFIED:20210706T202755Z
UID:10051993-1637604000-1637614800@expositionpark.ca.gov
SUMMARY:Expo Youth Soccer Classes
DESCRIPTION:
URL:https://expositionpark.ca.gov/event/expo-youth-soccer-classes/2021-11-22/
LOCATION:Soboroff Playfield\, 3980 S. Bill Robertson Lane\, Los Angeles\, CA\, 90037\, United States
END:VEVENT
BEGIN:VEVENT
DTSTART;TZID=America/Los_Angeles:20211113T200000
DTEND;TZID=America/Los_Angeles:20211114T010000
DTSTAMP:20260421T021425
CREATED:20211101T155554Z
LAST-MODIFIED:20211101T155554Z
UID:10053896-1636833600-1636851600@expositionpark.ca.gov
SUMMARY:Private Event
DESCRIPTION:
URL:https://expositionpark.ca.gov/event/private-event-277/
LOCATION:EXPO Center/ Senior  Ballroom\, 3990 Bill Robertson Lane\, Los Angeles\, CA\, 90037\, United States
END:VEVENT
BEGIN:VEVENT
DTSTART;TZID=America/Los_Angeles:20211031T090000
DTEND;TZID=America/Los_Angeles:20211031T140000
DTSTAMP:20260421T021425
CREATED:20210927T203912Z
LAST-MODIFIED:20210927T203912Z
UID:10052188-1635670800-1635688800@expositionpark.ca.gov
SUMMARY:Private Event
DESCRIPTION:
URL:https://expositionpark.ca.gov/event/private-event-263/
LOCATION:Rose Garden East Lawn\, 701 State Dr.\, Los Angeles\, CA\, 90037\, United States
END:VEVENT
BEGIN:VEVENT
DTSTART;TZID=America/Los_Angeles:20211030T130000
DTEND;TZID=America/Los_Angeles:20211030T160000
DTSTAMP:20260421T021425
CREATED:20210811T214105Z
LAST-MODIFIED:20210811T214105Z
UID:10052135-1635598800-1635609600@expositionpark.ca.gov
SUMMARY:Private Event
DESCRIPTION:
URL:https://expositionpark.ca.gov/event/private-event-226/
END:VEVENT
BEGIN:VEVENT
DTSTART;TZID=America/Los_Angeles:20211018T080000
DTEND;TZID=America/Los_Angeles:20211219T170000
DTSTAMP:20260421T021425
CREATED:20211026T200650Z
LAST-MODIFIED:20211026T200650Z
UID:10052208-1634544000-1639933200@expositionpark.ca.gov
SUMMARY:Vermont Sports Soccer League
DESCRIPTION:
URL:https://expositionpark.ca.gov/event/vermont-sports-soccer-league/
LOCATION:Soboroff Playfield\, 3980 S. Bill Robertson Lane\, Los Angeles\, CA\, 90037\, United States
END:VEVENT
BEGIN:VEVENT
DTSTART;TZID=America/Los_Angeles:20211003T140000
DTEND;TZID=America/Los_Angeles:20211003T170000
DTSTAMP:20260421T021425
CREATED:20210927T204243Z
LAST-MODIFIED:20210927T204243Z
UID:10053868-1633269600-1633280400@expositionpark.ca.gov
SUMMARY:Private Event
DESCRIPTION:
URL:https://expositionpark.ca.gov/event/private-event-264/
LOCATION:Rose Garden Gazebo (B)\, 701 State Dr.\, Los Angeles\, CA\, 90037\, United States
END:VEVENT
BEGIN:VEVENT
DTSTART;TZID=America/Los_Angeles:20211002T150000
DTEND;TZID=America/Los_Angeles:20211002T190000
DTSTAMP:20260421T021425
CREATED:20210921T020415Z
LAST-MODIFIED:20210921T020415Z
UID:10052182-1633186800-1633201200@expositionpark.ca.gov
SUMMARY:Private Event
DESCRIPTION:
URL:https://expositionpark.ca.gov/event/private-event-261/
LOCATION:Rose Garden Gazebo (B)\, 701 State Dr.\, Los Angeles\, CA\, 90037\, United States
END:VEVENT
END:VCALENDAR