BEGIN:VCALENDAR
VERSION:2.0
PRODID:-//Exposition Park - ECPv6.15.20//NONSGML v1.0//EN
CALSCALE:GREGORIAN
METHOD:PUBLISH
X-ORIGINAL-URL:https://expositionpark.ca.gov
X-WR-CALDESC:Events for Exposition Park
REFRESH-INTERVAL;VALUE=DURATION:PT1H
X-Robots-Tag:noindex
X-PUBLISHED-TTL:PT1H
BEGIN:VTIMEZONE
TZID:America/Los_Angeles
BEGIN:DAYLIGHT
TZOFFSETFROM:-0800
TZOFFSETTO:-0700
TZNAME:PDT
DTSTART:20220313T100000
END:DAYLIGHT
BEGIN:STANDARD
TZOFFSETFROM:-0700
TZOFFSETTO:-0800
TZNAME:PST
DTSTART:20221106T090000
END:STANDARD
BEGIN:DAYLIGHT
TZOFFSETFROM:-0800
TZOFFSETTO:-0700
TZNAME:PDT
DTSTART:20230312T100000
END:DAYLIGHT
BEGIN:STANDARD
TZOFFSETFROM:-0700
TZOFFSETTO:-0800
TZNAME:PST
DTSTART:20231105T090000
END:STANDARD
BEGIN:DAYLIGHT
TZOFFSETFROM:-0800
TZOFFSETTO:-0700
TZNAME:PDT
DTSTART:20240310T100000
END:DAYLIGHT
BEGIN:STANDARD
TZOFFSETFROM:-0700
TZOFFSETTO:-0800
TZNAME:PST
DTSTART:20241103T090000
END:STANDARD
END:VTIMEZONE
BEGIN:VEVENT
DTSTART;TZID=America/Los_Angeles:20230630T070000
DTEND;TZID=America/Los_Angeles:20230630T180000
DTSTAMP:20260423T020749
CREATED:20230627T234708Z
LAST-MODIFIED:20230627T235320Z
UID:10054592-1688108400-1688148000@expositionpark.ca.gov
SUMMARY:Expo Center Summer Camp
DESCRIPTION:
URL:https://expositionpark.ca.gov/event/expo-center-summer-camp/2023-06-30/
LOCATION:EXPO Center /John C. Argue Swim Stadium\, 3980 Bill Robertson Lane\, Los Angeles\, CA\, 90037\, United States
GEO:34.0122701;-118.2894811
X-APPLE-STRUCTURED-LOCATION;VALUE=URI;X-ADDRESS=EXPO Center /John C. Argue Swim Stadium 3980 Bill Robertson Lane Los Angeles CA 90037 United States;X-APPLE-RADIUS=500;X-TITLE=3980 Bill Robertson Lane:geo:-118.2894811,34.0122701
END:VEVENT
BEGIN:VEVENT
DTSTART;TZID=America/Los_Angeles:20230629T180000
DTEND;TZID=America/Los_Angeles:20230629T210000
DTSTAMP:20260423T020749
CREATED:20230627T235516Z
LAST-MODIFIED:20230627T235516Z
UID:10054625-1688061600-1688072400@expositionpark.ca.gov
SUMMARY:Expo Center Summer Basketball and Soccer
DESCRIPTION:
URL:https://expositionpark.ca.gov/event/expo-center-summer-basketball-and-soccer/2023-06-29/
LOCATION:EXPO Center/ John C Argue Swim Stadium\, 3980 Bill Robertson Lane\, Los Angeles\, CA\, 90037\, United States
GEO:34.0121136;-118.2900829
X-APPLE-STRUCTURED-LOCATION;VALUE=URI;X-ADDRESS=EXPO Center/ John C Argue Swim Stadium 3980 Bill Robertson Lane Los Angeles CA 90037 United States;X-APPLE-RADIUS=500;X-TITLE=3980 Bill Robertson Lane:geo:-118.2900829,34.0121136
END:VEVENT
BEGIN:VEVENT
DTSTART;TZID=America/Los_Angeles:20230629T070000
DTEND;TZID=America/Los_Angeles:20230629T180000
DTSTAMP:20260423T020749
CREATED:20230627T234708Z
LAST-MODIFIED:20230627T235320Z
UID:10054591-1688022000-1688061600@expositionpark.ca.gov
SUMMARY:Expo Center Summer Camp
DESCRIPTION:
URL:https://expositionpark.ca.gov/event/expo-center-summer-camp/2023-06-29/
LOCATION:EXPO Center /John C. Argue Swim Stadium\, 3980 Bill Robertson Lane\, Los Angeles\, CA\, 90037\, United States
GEO:34.0122701;-118.2894811
X-APPLE-STRUCTURED-LOCATION;VALUE=URI;X-ADDRESS=EXPO Center /John C. Argue Swim Stadium 3980 Bill Robertson Lane Los Angeles CA 90037 United States;X-APPLE-RADIUS=500;X-TITLE=3980 Bill Robertson Lane:geo:-118.2894811,34.0122701
END:VEVENT
BEGIN:VEVENT
DTSTART;TZID=America/Los_Angeles:20230628T180000
DTEND;TZID=America/Los_Angeles:20230628T210000
DTSTAMP:20260423T020749
CREATED:20230627T235516Z
LAST-MODIFIED:20230627T235516Z
UID:10054624-1687975200-1687986000@expositionpark.ca.gov
SUMMARY:Expo Center Summer Basketball and Soccer
DESCRIPTION:
URL:https://expositionpark.ca.gov/event/expo-center-summer-basketball-and-soccer/2023-06-28/
LOCATION:EXPO Center/ John C Argue Swim Stadium\, 3980 Bill Robertson Lane\, Los Angeles\, CA\, 90037\, United States
GEO:34.0121136;-118.2900829
X-APPLE-STRUCTURED-LOCATION;VALUE=URI;X-ADDRESS=EXPO Center/ John C Argue Swim Stadium 3980 Bill Robertson Lane Los Angeles CA 90037 United States;X-APPLE-RADIUS=500;X-TITLE=3980 Bill Robertson Lane:geo:-118.2900829,34.0121136
END:VEVENT
BEGIN:VEVENT
DTSTART;TZID=America/Los_Angeles:20230628T070000
DTEND;TZID=America/Los_Angeles:20230628T180000
DTSTAMP:20260423T020749
CREATED:20230627T234708Z
LAST-MODIFIED:20230627T235320Z
UID:10054590-1687935600-1687975200@expositionpark.ca.gov
SUMMARY:Expo Center Summer Camp
DESCRIPTION:
URL:https://expositionpark.ca.gov/event/expo-center-summer-camp/2023-06-28/
LOCATION:EXPO Center /John C. Argue Swim Stadium\, 3980 Bill Robertson Lane\, Los Angeles\, CA\, 90037\, United States
GEO:34.0122701;-118.2894811
X-APPLE-STRUCTURED-LOCATION;VALUE=URI;X-ADDRESS=EXPO Center /John C. Argue Swim Stadium 3980 Bill Robertson Lane Los Angeles CA 90037 United States;X-APPLE-RADIUS=500;X-TITLE=3980 Bill Robertson Lane:geo:-118.2894811,34.0122701
END:VEVENT
BEGIN:VEVENT
DTSTART;TZID=America/Los_Angeles:20230627T180000
DTEND;TZID=America/Los_Angeles:20230627T210000
DTSTAMP:20260423T020749
CREATED:20230627T235516Z
LAST-MODIFIED:20230627T235516Z
UID:10054623-1687888800-1687899600@expositionpark.ca.gov
SUMMARY:Expo Center Summer Basketball and Soccer
DESCRIPTION:
URL:https://expositionpark.ca.gov/event/expo-center-summer-basketball-and-soccer/2023-06-27/
LOCATION:EXPO Center/ John C Argue Swim Stadium\, 3980 Bill Robertson Lane\, Los Angeles\, CA\, 90037\, United States
GEO:34.0121136;-118.2900829
X-APPLE-STRUCTURED-LOCATION;VALUE=URI;X-ADDRESS=EXPO Center/ John C Argue Swim Stadium 3980 Bill Robertson Lane Los Angeles CA 90037 United States;X-APPLE-RADIUS=500;X-TITLE=3980 Bill Robertson Lane:geo:-118.2900829,34.0121136
END:VEVENT
BEGIN:VEVENT
DTSTART;TZID=America/Los_Angeles:20230627T070000
DTEND;TZID=America/Los_Angeles:20230627T180000
DTSTAMP:20260423T020749
CREATED:20230627T234708Z
LAST-MODIFIED:20230627T235320Z
UID:10054589-1687849200-1687888800@expositionpark.ca.gov
SUMMARY:Expo Center Summer Camp
DESCRIPTION:
URL:https://expositionpark.ca.gov/event/expo-center-summer-camp/2023-06-27/
LOCATION:EXPO Center /John C. Argue Swim Stadium\, 3980 Bill Robertson Lane\, Los Angeles\, CA\, 90037\, United States
GEO:34.0122701;-118.2894811
X-APPLE-STRUCTURED-LOCATION;VALUE=URI;X-ADDRESS=EXPO Center /John C. Argue Swim Stadium 3980 Bill Robertson Lane Los Angeles CA 90037 United States;X-APPLE-RADIUS=500;X-TITLE=3980 Bill Robertson Lane:geo:-118.2894811,34.0122701
END:VEVENT
BEGIN:VEVENT
DTSTART;TZID=America/Los_Angeles:20230626T070000
DTEND;TZID=America/Los_Angeles:20230626T180000
DTSTAMP:20260423T020749
CREATED:20230627T234708Z
LAST-MODIFIED:20230627T235320Z
UID:10054588-1687762800-1687802400@expositionpark.ca.gov
SUMMARY:Expo Center Summer Camp
DESCRIPTION:
URL:https://expositionpark.ca.gov/event/expo-center-summer-camp/2023-06-26/
LOCATION:EXPO Center /John C. Argue Swim Stadium\, 3980 Bill Robertson Lane\, Los Angeles\, CA\, 90037\, United States
GEO:34.0122701;-118.2894811
X-APPLE-STRUCTURED-LOCATION;VALUE=URI;X-ADDRESS=EXPO Center /John C. Argue Swim Stadium 3980 Bill Robertson Lane Los Angeles CA 90037 United States;X-APPLE-RADIUS=500;X-TITLE=3980 Bill Robertson Lane:geo:-118.2894811,34.0122701
END:VEVENT
BEGIN:VEVENT
DTSTART;TZID=America/Los_Angeles:20230625T070000
DTEND;TZID=America/Los_Angeles:20230625T180000
DTSTAMP:20260423T020749
CREATED:20230313T175745Z
LAST-MODIFIED:20230313T175745Z
UID:10054486-1687676400-1687716000@expositionpark.ca.gov
SUMMARY:Tournament
DESCRIPTION:
URL:https://expositionpark.ca.gov/event/tournament/
LOCATION:EXPO Center\, 3980 Bill Robertson Lane\, Los Angeles\, CA\, 90037\, United States
GEO:34.0121136;-118.2900829
X-APPLE-STRUCTURED-LOCATION;VALUE=URI;X-ADDRESS=EXPO Center 3980 Bill Robertson Lane Los Angeles CA 90037 United States;X-APPLE-RADIUS=500;X-TITLE=3980 Bill Robertson Lane:geo:-118.2900829,34.0121136
END:VEVENT
BEGIN:VEVENT
DTSTART;TZID=America/Los_Angeles:20230623T070000
DTEND;TZID=America/Los_Angeles:20230623T180000
DTSTAMP:20260423T020749
CREATED:20230627T234708Z
LAST-MODIFIED:20230627T235320Z
UID:10054587-1687503600-1687543200@expositionpark.ca.gov
SUMMARY:Expo Center Summer Camp
DESCRIPTION:
URL:https://expositionpark.ca.gov/event/expo-center-summer-camp/2023-06-23/
LOCATION:EXPO Center /John C. Argue Swim Stadium\, 3980 Bill Robertson Lane\, Los Angeles\, CA\, 90037\, United States
GEO:34.0122701;-118.2894811
X-APPLE-STRUCTURED-LOCATION;VALUE=URI;X-ADDRESS=EXPO Center /John C. Argue Swim Stadium 3980 Bill Robertson Lane Los Angeles CA 90037 United States;X-APPLE-RADIUS=500;X-TITLE=3980 Bill Robertson Lane:geo:-118.2894811,34.0122701
END:VEVENT
BEGIN:VEVENT
DTSTART;TZID=America/Los_Angeles:20230622T070000
DTEND;TZID=America/Los_Angeles:20230622T180000
DTSTAMP:20260423T020749
CREATED:20230627T234708Z
LAST-MODIFIED:20230627T235320Z
UID:10054586-1687417200-1687456800@expositionpark.ca.gov
SUMMARY:Expo Center Summer Camp
DESCRIPTION:
URL:https://expositionpark.ca.gov/event/expo-center-summer-camp/2023-06-22/
LOCATION:EXPO Center /John C. Argue Swim Stadium\, 3980 Bill Robertson Lane\, Los Angeles\, CA\, 90037\, United States
GEO:34.0122701;-118.2894811
X-APPLE-STRUCTURED-LOCATION;VALUE=URI;X-ADDRESS=EXPO Center /John C. Argue Swim Stadium 3980 Bill Robertson Lane Los Angeles CA 90037 United States;X-APPLE-RADIUS=500;X-TITLE=3980 Bill Robertson Lane:geo:-118.2894811,34.0122701
END:VEVENT
BEGIN:VEVENT
DTSTART;TZID=America/Los_Angeles:20230621T070000
DTEND;TZID=America/Los_Angeles:20230621T180000
DTSTAMP:20260423T020749
CREATED:20230627T234708Z
LAST-MODIFIED:20230627T235320Z
UID:10054585-1687330800-1687370400@expositionpark.ca.gov
SUMMARY:Expo Center Summer Camp
DESCRIPTION:
URL:https://expositionpark.ca.gov/event/expo-center-summer-camp/2023-06-21/
LOCATION:EXPO Center /John C. Argue Swim Stadium\, 3980 Bill Robertson Lane\, Los Angeles\, CA\, 90037\, United States
GEO:34.0122701;-118.2894811
X-APPLE-STRUCTURED-LOCATION;VALUE=URI;X-ADDRESS=EXPO Center /John C. Argue Swim Stadium 3980 Bill Robertson Lane Los Angeles CA 90037 United States;X-APPLE-RADIUS=500;X-TITLE=3980 Bill Robertson Lane:geo:-118.2894811,34.0122701
END:VEVENT
BEGIN:VEVENT
DTSTART;TZID=America/Los_Angeles:20230620T070000
DTEND;TZID=America/Los_Angeles:20230620T180000
DTSTAMP:20260423T020749
CREATED:20230627T234708Z
LAST-MODIFIED:20230627T235320Z
UID:10054584-1687244400-1687284000@expositionpark.ca.gov
SUMMARY:Expo Center Summer Camp
DESCRIPTION:
URL:https://expositionpark.ca.gov/event/expo-center-summer-camp/2023-06-20/
LOCATION:EXPO Center /John C. Argue Swim Stadium\, 3980 Bill Robertson Lane\, Los Angeles\, CA\, 90037\, United States
GEO:34.0122701;-118.2894811
X-APPLE-STRUCTURED-LOCATION;VALUE=URI;X-ADDRESS=EXPO Center /John C. Argue Swim Stadium 3980 Bill Robertson Lane Los Angeles CA 90037 United States;X-APPLE-RADIUS=500;X-TITLE=3980 Bill Robertson Lane:geo:-118.2894811,34.0122701
END:VEVENT
BEGIN:VEVENT
DTSTART;TZID=America/Los_Angeles:20230619T070000
DTEND;TZID=America/Los_Angeles:20230619T180000
DTSTAMP:20260423T020749
CREATED:20230627T234708Z
LAST-MODIFIED:20230627T235320Z
UID:10054583-1687158000-1687197600@expositionpark.ca.gov
SUMMARY:Expo Center Summer Camp
DESCRIPTION:
URL:https://expositionpark.ca.gov/event/expo-center-summer-camp/2023-06-19/
LOCATION:EXPO Center /John C. Argue Swim Stadium\, 3980 Bill Robertson Lane\, Los Angeles\, CA\, 90037\, United States
GEO:34.0122701;-118.2894811
X-APPLE-STRUCTURED-LOCATION;VALUE=URI;X-ADDRESS=EXPO Center /John C. Argue Swim Stadium 3980 Bill Robertson Lane Los Angeles CA 90037 United States;X-APPLE-RADIUS=500;X-TITLE=3980 Bill Robertson Lane:geo:-118.2894811,34.0122701
END:VEVENT
BEGIN:VEVENT
DTSTART;TZID=America/Los_Angeles:20230616T070000
DTEND;TZID=America/Los_Angeles:20230616T180000
DTSTAMP:20260423T020749
CREATED:20230627T234708Z
LAST-MODIFIED:20230627T235320Z
UID:10054582-1686898800-1686938400@expositionpark.ca.gov
SUMMARY:Expo Center Summer Camp
DESCRIPTION:
URL:https://expositionpark.ca.gov/event/expo-center-summer-camp/2023-06-16/
LOCATION:EXPO Center /John C. Argue Swim Stadium\, 3980 Bill Robertson Lane\, Los Angeles\, CA\, 90037\, United States
GEO:34.0122701;-118.2894811
X-APPLE-STRUCTURED-LOCATION;VALUE=URI;X-ADDRESS=EXPO Center /John C. Argue Swim Stadium 3980 Bill Robertson Lane Los Angeles CA 90037 United States;X-APPLE-RADIUS=500;X-TITLE=3980 Bill Robertson Lane:geo:-118.2894811,34.0122701
END:VEVENT
BEGIN:VEVENT
DTSTART;TZID=America/Los_Angeles:20230615T070000
DTEND;TZID=America/Los_Angeles:20230615T180000
DTSTAMP:20260423T020749
CREATED:20230627T234708Z
LAST-MODIFIED:20230627T235320Z
UID:10054581-1686812400-1686852000@expositionpark.ca.gov
SUMMARY:Expo Center Summer Camp
DESCRIPTION:
URL:https://expositionpark.ca.gov/event/expo-center-summer-camp/2023-06-15/
LOCATION:EXPO Center /John C. Argue Swim Stadium\, 3980 Bill Robertson Lane\, Los Angeles\, CA\, 90037\, United States
GEO:34.0122701;-118.2894811
X-APPLE-STRUCTURED-LOCATION;VALUE=URI;X-ADDRESS=EXPO Center /John C. Argue Swim Stadium 3980 Bill Robertson Lane Los Angeles CA 90037 United States;X-APPLE-RADIUS=500;X-TITLE=3980 Bill Robertson Lane:geo:-118.2894811,34.0122701
END:VEVENT
BEGIN:VEVENT
DTSTART;TZID=America/Los_Angeles:20230614T070000
DTEND;TZID=America/Los_Angeles:20230614T180000
DTSTAMP:20260423T020749
CREATED:20230627T234708Z
LAST-MODIFIED:20230627T235320Z
UID:10054580-1686726000-1686765600@expositionpark.ca.gov
SUMMARY:Expo Center Summer Camp
DESCRIPTION:
URL:https://expositionpark.ca.gov/event/expo-center-summer-camp/2023-06-14/
LOCATION:EXPO Center /John C. Argue Swim Stadium\, 3980 Bill Robertson Lane\, Los Angeles\, CA\, 90037\, United States
GEO:34.0122701;-118.2894811
X-APPLE-STRUCTURED-LOCATION;VALUE=URI;X-ADDRESS=EXPO Center /John C. Argue Swim Stadium 3980 Bill Robertson Lane Los Angeles CA 90037 United States;X-APPLE-RADIUS=500;X-TITLE=3980 Bill Robertson Lane:geo:-118.2894811,34.0122701
END:VEVENT
BEGIN:VEVENT
DTSTART;TZID=America/Los_Angeles:20230613T070000
DTEND;TZID=America/Los_Angeles:20230613T180000
DTSTAMP:20260423T020749
CREATED:20230627T234708Z
LAST-MODIFIED:20230627T235320Z
UID:10054579-1686639600-1686679200@expositionpark.ca.gov
SUMMARY:Expo Center Summer Camp
DESCRIPTION:
URL:https://expositionpark.ca.gov/event/expo-center-summer-camp/2023-06-13/
LOCATION:EXPO Center /John C. Argue Swim Stadium\, 3980 Bill Robertson Lane\, Los Angeles\, CA\, 90037\, United States
GEO:34.0122701;-118.2894811
X-APPLE-STRUCTURED-LOCATION;VALUE=URI;X-ADDRESS=EXPO Center /John C. Argue Swim Stadium 3980 Bill Robertson Lane Los Angeles CA 90037 United States;X-APPLE-RADIUS=500;X-TITLE=3980 Bill Robertson Lane:geo:-118.2894811,34.0122701
END:VEVENT
BEGIN:VEVENT
DTSTART;TZID=America/Los_Angeles:20230612T070000
DTEND;TZID=America/Los_Angeles:20230612T180000
DTSTAMP:20260423T020749
CREATED:20230627T234708Z
LAST-MODIFIED:20230627T235320Z
UID:10054578-1686553200-1686592800@expositionpark.ca.gov
SUMMARY:Expo Center Summer Camp
DESCRIPTION:
URL:https://expositionpark.ca.gov/event/expo-center-summer-camp/2023-06-12/
LOCATION:EXPO Center /John C. Argue Swim Stadium\, 3980 Bill Robertson Lane\, Los Angeles\, CA\, 90037\, United States
GEO:34.0122701;-118.2894811
X-APPLE-STRUCTURED-LOCATION;VALUE=URI;X-ADDRESS=EXPO Center /John C. Argue Swim Stadium 3980 Bill Robertson Lane Los Angeles CA 90037 United States;X-APPLE-RADIUS=500;X-TITLE=3980 Bill Robertson Lane:geo:-118.2894811,34.0122701
END:VEVENT
BEGIN:VEVENT
DTSTART;TZID=America/Los_Angeles:20230609T100000
DTEND;TZID=America/Los_Angeles:20230610T030000
DTSTAMP:20260423T020749
CREATED:20230202T224133Z
LAST-MODIFIED:20230202T224133Z
UID:10052737-1686304800-1686366000@expositionpark.ca.gov
SUMMARY:Angel Flight West
DESCRIPTION:Endeavor Awards
URL:https://expositionpark.ca.gov/event/angel-flight-west-2/
LOCATION:Exposition Park Rose Garden\, 701 State Dr\, Los Angeles\, 90037
END:VEVENT
BEGIN:VEVENT
DTSTART;TZID=America/Los_Angeles:20230604T130000
DTEND;TZID=America/Los_Angeles:20230604T163000
DTSTAMP:20260423T020749
CREATED:20230127T012811Z
LAST-MODIFIED:20230127T012811Z
UID:10054417-1685883600-1685896200@expositionpark.ca.gov
SUMMARY:Wedding Ceremony
DESCRIPTION:
URL:https://expositionpark.ca.gov/event/wedding-ceremony-6/
LOCATION:Exposition Park Rose Garden: East Lawn\, Los Angeles\, CA\, United States
END:VEVENT
BEGIN:VEVENT
DTSTART;TZID=America/Los_Angeles:20230604T060000
DTEND;TZID=America/Los_Angeles:20230604T173000
DTSTAMP:20260423T020749
CREATED:20230530T191946Z
LAST-MODIFIED:20230530T191946Z
UID:10054562-1685858400-1685899800@expositionpark.ca.gov
SUMMARY:Black Star Soccer
DESCRIPTION:
URL:https://expositionpark.ca.gov/event/black-star-soccer/
LOCATION:Soboroff Sports Field/ EXPO Center\, 3980 S. Bill Robertson Lane\, Los Angeles\, 90037
END:VEVENT
BEGIN:VEVENT
DTSTART;TZID=America/Los_Angeles:20230603T090000
DTEND;TZID=America/Los_Angeles:20230603T140000
DTSTAMP:20260423T020749
CREATED:20230524T164820Z
LAST-MODIFIED:20230524T164839Z
UID:10052868-1685782800-1685800800@expositionpark.ca.gov
SUMMARY:Memorial\, Private Event
DESCRIPTION:
URL:https://expositionpark.ca.gov/event/memorial-private-event/
LOCATION:Exposition Park Rose Garden / Fountain\, 701 State Drive\, Los Angeles\, 90037
END:VEVENT
BEGIN:VEVENT
DTSTART;TZID=America/Los_Angeles:20230528T080000
DTEND;TZID=America/Los_Angeles:20230528T160000
DTSTAMP:20260423T020749
CREATED:20230302T230212Z
LAST-MODIFIED:20230302T230212Z
UID:10054463-1685260800-1685289600@expositionpark.ca.gov
SUMMARY:Private Event
DESCRIPTION:
URL:https://expositionpark.ca.gov/event/private-event-503/
LOCATION:Exposition Park Rose Garden: East Lawn\, Los Angeles\, CA\, United States
END:VEVENT
BEGIN:VEVENT
DTSTART;TZID=America/Los_Angeles:20230527T160000
DTEND;TZID=America/Los_Angeles:20230527T190000
DTSTAMP:20260423T020749
CREATED:20230417T175758Z
LAST-MODIFIED:20230417T175758Z
UID:10052845-1685203200-1685214000@expositionpark.ca.gov
SUMMARY:Photography Permit
DESCRIPTION:
URL:https://expositionpark.ca.gov/event/photography-permit-3/
LOCATION:Exposition Park Rose Garden\, 701 State Dr\, Los Angeles\, 90037
END:VEVENT
BEGIN:VEVENT
DTSTART;TZID=America/Los_Angeles:20230527T140000
DTEND;TZID=America/Los_Angeles:20230527T180000
DTSTAMP:20260423T020749
CREATED:20230307T011513Z
LAST-MODIFIED:20230307T011513Z
UID:10054466-1685196000-1685210400@expositionpark.ca.gov
SUMMARY:Wedding Ceremony
DESCRIPTION:
URL:https://expositionpark.ca.gov/event/wedding-ceremony-9/
LOCATION:Rose Garden Gazebo (B)\, 701 State Dr.\, Los Angeles\, CA\, 90037\, United States
END:VEVENT
BEGIN:VEVENT
DTSTART;TZID=America/Los_Angeles:20230519T133000
DTEND;TZID=America/Los_Angeles:20230519T153000
DTSTAMP:20260423T020749
CREATED:20230424T033729Z
LAST-MODIFIED:20230424T033729Z
UID:10054529-1684503000-1684510200@expositionpark.ca.gov
SUMMARY:Photo Permit
DESCRIPTION:
URL:https://expositionpark.ca.gov/event/photo-permit/
LOCATION:Exposition Park Rose Garden\, 701 State Dr\, Los Angeles\, 90037
END:VEVENT
BEGIN:VEVENT
DTSTART;TZID=America/Los_Angeles:20230513T080000
DTEND;TZID=America/Los_Angeles:20230513T170000
DTSTAMP:20260423T020749
CREATED:20230417T175508Z
LAST-MODIFIED:20230417T175508Z
UID:10052840-1683964800-1683997200@expositionpark.ca.gov
SUMMARY:9th District
DESCRIPTION:Mother’s Day Luncheon
URL:https://expositionpark.ca.gov/event/9th-district/
LOCATION:Exposition Park Rose Garden: East Lawn\, Los Angeles\, CA\, United States
END:VEVENT
BEGIN:VEVENT
DTSTART;TZID=America/Los_Angeles:20230506T110000
DTEND;TZID=America/Los_Angeles:20230506T140000
DTSTAMP:20260423T020749
CREATED:20230307T011443Z
LAST-MODIFIED:20230307T011443Z
UID:10054465-1683370800-1683381600@expositionpark.ca.gov
SUMMARY:Private Quince Ceremony
DESCRIPTION:
URL:https://expositionpark.ca.gov/event/private-quince-ceremony/
LOCATION:Exposition Park Rose Garden: Gazebo “A” and West Lawn\, 701 State Drive\, Los Angeles\, CA\, 90037\, United States
END:VEVENT
BEGIN:VEVENT
DTSTART;TZID=America/Los_Angeles:20230422T140000
DTEND;TZID=America/Los_Angeles:20230422T190000
DTSTAMP:20260423T020749
CREATED:20230127T013124Z
LAST-MODIFIED:20230127T013124Z
UID:10054419-1682172000-1682190000@expositionpark.ca.gov
SUMMARY:Wedding Ceremony
DESCRIPTION:
URL:https://expositionpark.ca.gov/event/wedding-ceremony-7/
LOCATION:Exposition Park Rose Garden: East Lawn\, Los Angeles\, CA\, United States
END:VEVENT
END:VCALENDAR