BEGIN:VCALENDAR
VERSION:2.0
PRODID:-//Exposition Park - ECPv6.15.20//NONSGML v1.0//EN
CALSCALE:GREGORIAN
METHOD:PUBLISH
X-WR-CALNAME:Exposition Park
X-ORIGINAL-URL:https://expositionpark.ca.gov
X-WR-CALDESC:Events for Exposition Park
REFRESH-INTERVAL;VALUE=DURATION:PT1H
X-Robots-Tag:noindex
X-PUBLISHED-TTL:PT1H
BEGIN:VTIMEZONE
TZID:America/Los_Angeles
BEGIN:DAYLIGHT
TZOFFSETFROM:-0800
TZOFFSETTO:-0700
TZNAME:PDT
DTSTART:20250309T100000
END:DAYLIGHT
BEGIN:STANDARD
TZOFFSETFROM:-0700
TZOFFSETTO:-0800
TZNAME:PST
DTSTART:20251102T090000
END:STANDARD
BEGIN:DAYLIGHT
TZOFFSETFROM:-0800
TZOFFSETTO:-0700
TZNAME:PDT
DTSTART:20260308T100000
END:DAYLIGHT
BEGIN:STANDARD
TZOFFSETFROM:-0700
TZOFFSETTO:-0800
TZNAME:PST
DTSTART:20261101T090000
END:STANDARD
BEGIN:DAYLIGHT
TZOFFSETFROM:-0800
TZOFFSETTO:-0700
TZNAME:PDT
DTSTART:20270314T100000
END:DAYLIGHT
BEGIN:STANDARD
TZOFFSETFROM:-0700
TZOFFSETTO:-0800
TZNAME:PST
DTSTART:20271107T090000
END:STANDARD
BEGIN:DAYLIGHT
TZOFFSETFROM:-0800
TZOFFSETTO:-0700
TZNAME:PDT
DTSTART:20280312T100000
END:DAYLIGHT
BEGIN:STANDARD
TZOFFSETFROM:-0700
TZOFFSETTO:-0800
TZNAME:PST
DTSTART:20281105T090000
END:STANDARD
END:VTIMEZONE
BEGIN:VEVENT
DTSTART;VALUE=DATE:20261108
DTEND;VALUE=DATE:20261109
DTSTAMP:20260423T213127
CREATED:20260213T012414Z
LAST-MODIFIED:20260213T012414Z
UID:10056375-1794096000-1794182399@expositionpark.ca.gov
SUMMARY:Additional Museum Priority Event - Donor Event
DESCRIPTION:
URL:https://expositionpark.ca.gov/event/additional-museum-priority-event-donor-event/
LOCATION:California Science Center\, 700 Exposition Park Drive\, Los Angeles\, CA\, 90037\, United States
GEO:34.0157877;-118.2862095
X-APPLE-STRUCTURED-LOCATION;VALUE=URI;X-ADDRESS=California Science Center 700 Exposition Park Drive Los Angeles CA 90037 United States;X-APPLE-RADIUS=500;X-TITLE=700 Exposition Park Drive:geo:-118.2862095,34.0157877
END:VEVENT
BEGIN:VEVENT
DTSTART;VALUE=DATE:20261113
DTEND;VALUE=DATE:20261114
DTSTAMP:20260423T213127
CREATED:20260213T012418Z
LAST-MODIFIED:20260213T012418Z
UID:10056376-1794528000-1794614399@expositionpark.ca.gov
SUMMARY:Additional Museum Priority Event - Donor Event
DESCRIPTION:
URL:https://expositionpark.ca.gov/event/additional-museum-priority-event-donor-event-2/
LOCATION:California Science Center\, 700 Exposition Park Drive\, Los Angeles\, CA\, 90037\, United States
GEO:34.0157877;-118.2862095
X-APPLE-STRUCTURED-LOCATION;VALUE=URI;X-ADDRESS=California Science Center 700 Exposition Park Drive Los Angeles CA 90037 United States;X-APPLE-RADIUS=500;X-TITLE=700 Exposition Park Drive:geo:-118.2862095,34.0157877
END:VEVENT
BEGIN:VEVENT
DTSTART;VALUE=DATE:20261212
DTEND;VALUE=DATE:20261213
DTSTAMP:20260423T213127
CREATED:20260213T012421Z
LAST-MODIFIED:20260213T012421Z
UID:10056377-1797033600-1797119999@expositionpark.ca.gov
SUMMARY:Additional Museum Priority Event - Holiday Event
DESCRIPTION:
URL:https://expositionpark.ca.gov/event/additional-museum-priority-event-holiday-event/
LOCATION:California Science Center\, 700 Exposition Park Drive\, Los Angeles\, CA\, 90037\, United States
GEO:34.0157877;-118.2862095
X-APPLE-STRUCTURED-LOCATION;VALUE=URI;X-ADDRESS=California Science Center 700 Exposition Park Drive Los Angeles CA 90037 United States;X-APPLE-RADIUS=500;X-TITLE=700 Exposition Park Drive:geo:-118.2862095,34.0157877
END:VEVENT
BEGIN:VEVENT
DTSTART;TZID=America/Los_Angeles:20270206T190000
DTEND;TZID=America/Los_Angeles:20270206T230000
DTSTAMP:20260423T213127
CREATED:20260113T181740Z
LAST-MODIFIED:20260113T181740Z
UID:10056276-1801940400-1801954800@expositionpark.ca.gov
SUMMARY:High School Winter Formal
DESCRIPTION:
URL:https://expositionpark.ca.gov/event/high-school-winter-formal-7/
LOCATION:Wallis Annenberg Building
END:VEVENT
BEGIN:VEVENT
DTSTART;TZID=America/Los_Angeles:20270403T190000
DTEND;TZID=America/Los_Angeles:20270403T230000
DTSTAMP:20260423T213127
CREATED:20251201T222148Z
LAST-MODIFIED:20251201T222148Z
UID:10056223-1806778800-1806793200@expositionpark.ca.gov
SUMMARY:High School Prom
DESCRIPTION:
URL:https://expositionpark.ca.gov/event/high-school-prom-116/
LOCATION:Wallis Annenberg Building
CATEGORIES:Prom
END:VEVENT
BEGIN:VEVENT
DTSTART;TZID=America/Los_Angeles:20270410T190000
DTEND;TZID=America/Los_Angeles:20270410T230000
DTSTAMP:20260423T213127
CREATED:20251201T222109Z
LAST-MODIFIED:20251201T222109Z
UID:10056205-1807383600-1807398000@expositionpark.ca.gov
SUMMARY:High School Prom
DESCRIPTION:
URL:https://expositionpark.ca.gov/event/high-school-prom-115/
LOCATION:Wallis Annenberg Building
CATEGORIES:Prom
END:VEVENT
BEGIN:VEVENT
DTSTART;TZID=America/Los_Angeles:20270424T190000
DTEND;TZID=America/Los_Angeles:20270424T230000
DTSTAMP:20260423T213127
CREATED:20251201T221946Z
LAST-MODIFIED:20251201T221946Z
UID:10056206-1808593200-1808607600@expositionpark.ca.gov
SUMMARY:High School Prom
DESCRIPTION:
URL:https://expositionpark.ca.gov/event/high-school-prom-114/
LOCATION:Wallis Annenberg Building
CATEGORIES:Prom
END:VEVENT
BEGIN:VEVENT
DTSTART;TZID=America/Los_Angeles:20270501T190000
DTEND;TZID=America/Los_Angeles:20270501T230000
DTSTAMP:20260423T213127
CREATED:20251201T221903Z
LAST-MODIFIED:20251201T221903Z
UID:10056207-1809198000-1809212400@expositionpark.ca.gov
SUMMARY:High School Prom
DESCRIPTION:
URL:https://expositionpark.ca.gov/event/high-school-prom-113/
LOCATION:Wallis Annenberg Building
CATEGORIES:Prom
END:VEVENT
BEGIN:VEVENT
DTSTART;TZID=America/Los_Angeles:20270515T190000
DTEND;TZID=America/Los_Angeles:20270515T230000
DTSTAMP:20260423T213127
CREATED:20251201T221750Z
LAST-MODIFIED:20251201T221750Z
UID:10056208-1810407600-1810422000@expositionpark.ca.gov
SUMMARY:High School Prom
DESCRIPTION:
URL:https://expositionpark.ca.gov/event/high-school-prom-112/
LOCATION:Wallis Annenberg Building
CATEGORIES:Prom
END:VEVENT
BEGIN:VEVENT
DTSTART;TZID=America/Los_Angeles:20270522T190000
DTEND;TZID=America/Los_Angeles:20270522T230000
DTSTAMP:20260423T213127
CREATED:20260112T174437Z
LAST-MODIFIED:20260112T174437Z
UID:10056275-1811012400-1811026800@expositionpark.ca.gov
SUMMARY:High School Prom
DESCRIPTION:
URL:https://expositionpark.ca.gov/event/high-school-prom-118/
LOCATION:Wallis Annenberg Building
CATEGORIES:Prom
END:VEVENT
END:VCALENDAR