BEGIN:VCALENDAR
VERSION:2.0
PRODID:-//Exposition Park - ECPv6.15.20//NONSGML v1.0//EN
CALSCALE:GREGORIAN
METHOD:PUBLISH
X-ORIGINAL-URL:https://expositionpark.ca.gov
X-WR-CALDESC:Events for Exposition Park
REFRESH-INTERVAL;VALUE=DURATION:PT1H
X-Robots-Tag:noindex
X-PUBLISHED-TTL:PT1H
BEGIN:VTIMEZONE
TZID:America/Los_Angeles
BEGIN:DAYLIGHT
TZOFFSETFROM:-0800
TZOFFSETTO:-0700
TZNAME:PDT
DTSTART:20230312T100000
END:DAYLIGHT
BEGIN:STANDARD
TZOFFSETFROM:-0700
TZOFFSETTO:-0800
TZNAME:PST
DTSTART:20231105T090000
END:STANDARD
BEGIN:DAYLIGHT
TZOFFSETFROM:-0800
TZOFFSETTO:-0700
TZNAME:PDT
DTSTART:20240310T100000
END:DAYLIGHT
BEGIN:STANDARD
TZOFFSETFROM:-0700
TZOFFSETTO:-0800
TZNAME:PST
DTSTART:20241103T090000
END:STANDARD
BEGIN:DAYLIGHT
TZOFFSETFROM:-0800
TZOFFSETTO:-0700
TZNAME:PDT
DTSTART:20250309T100000
END:DAYLIGHT
BEGIN:STANDARD
TZOFFSETFROM:-0700
TZOFFSETTO:-0800
TZNAME:PST
DTSTART:20251102T090000
END:STANDARD
END:VTIMEZONE
BEGIN:VEVENT
DTSTART;TZID=America/Los_Angeles:20241214T190000
DTEND;TZID=America/Los_Angeles:20241214T230000
DTSTAMP:20260422T162826
CREATED:20240614T164346Z
LAST-MODIFIED:20240614T164346Z
UID:10055037-1734202800-1734217200@expositionpark.ca.gov
SUMMARY:Private Holiday Party
DESCRIPTION:
URL:https://expositionpark.ca.gov/event/private-holiday-party-11/
LOCATION:CSC – Disney Court\, 700 Exposition Park Drive\, Los Angeles\, CA\, 90037\, United States
END:VEVENT
BEGIN:VEVENT
DTSTART;TZID=America/Los_Angeles:20241214T190000
DTEND;TZID=America/Los_Angeles:20241214T220000
DTSTAMP:20260422T162826
CREATED:20241210T195608Z
LAST-MODIFIED:20241210T195608Z
UID:10053553-1734202800-1734213600@expositionpark.ca.gov
SUMMARY:Holiday Party
DESCRIPTION:
URL:https://expositionpark.ca.gov/event/holiday-party-12/
LOCATION:CSC-Ecosystems\, CA\, United States
END:VEVENT
BEGIN:VEVENT
DTSTART;TZID=America/Los_Angeles:20241213T190000
DTEND;TZID=America/Los_Angeles:20241213T230000
DTSTAMP:20260422T162826
CREATED:20240708T233858Z
LAST-MODIFIED:20240708T233858Z
UID:10055061-1734116400-1734130800@expositionpark.ca.gov
SUMMARY:Private Holiday Party
DESCRIPTION:
URL:https://expositionpark.ca.gov/event/private-holiday-party-14/
LOCATION:CSC-Ecosystems\, CA\, United States
END:VEVENT
BEGIN:VEVENT
DTSTART;TZID=America/Los_Angeles:20241213T153000
DTEND;TZID=America/Los_Angeles:20241213T213000
DTSTAMP:20260422T162826
CREATED:20241021T174156Z
LAST-MODIFIED:20241021T174156Z
UID:10055218-1734103800-1734125400@expositionpark.ca.gov
SUMMARY:Holiday Party
DESCRIPTION:
URL:https://expositionpark.ca.gov/event/holiday-party-10/
LOCATION:CSC – Loker Conference Center & Disney Court\, CA\, United States
END:VEVENT
BEGIN:VEVENT
DTSTART;TZID=America/Los_Angeles:20241212T203000
DTEND;TZID=America/Los_Angeles:20241212T223000
DTSTAMP:20260422T162826
CREATED:20241014T202949Z
LAST-MODIFIED:20241014T202949Z
UID:10055216-1734035400-1734042600@expositionpark.ca.gov
SUMMARY:Private Holiday Party
DESCRIPTION:
URL:https://expositionpark.ca.gov/event/private-holiday-party-16/
LOCATION:CSC-Ecosystems\, CA\, United States
END:VEVENT
BEGIN:VEVENT
DTSTART;TZID=America/Los_Angeles:20241211T090000
DTEND;TZID=America/Los_Angeles:20241211T160000
DTSTAMP:20260422T162826
CREATED:20241123T003957Z
LAST-MODIFIED:20241123T003957Z
UID:10053541-1733907600-1733932800@expositionpark.ca.gov
SUMMARY:Private Event
DESCRIPTION:
URL:https://expositionpark.ca.gov/event/private-event-688/
LOCATION:CSC-Loker Conference Center\, 700 Exposition Park Drive\, Los Angeles\, CA\, 90037\, United States
END:VEVENT
BEGIN:VEVENT
DTSTART;TZID=America/Los_Angeles:20241123T103000
DTEND;TZID=America/Los_Angeles:20241123T130000
DTSTAMP:20260422T162826
CREATED:20241114T172659Z
LAST-MODIFIED:20241114T172659Z
UID:10055259-1732357800-1732366800@expositionpark.ca.gov
SUMMARY:Private Event
DESCRIPTION:
URL:https://expositionpark.ca.gov/event/private-event-685/
LOCATION:CSC-Loker Conference Center\, 700 Exposition Park Drive\, Los Angeles\, CA\, 90037\, United States
END:VEVENT
BEGIN:VEVENT
DTSTART;TZID=America/Los_Angeles:20241114T190000
DTEND;TZID=America/Los_Angeles:20241114T220000
DTSTAMP:20260422T162826
CREATED:20241106T205744Z
LAST-MODIFIED:20241106T205744Z
UID:10055253-1731610800-1731621600@expositionpark.ca.gov
SUMMARY:Private Screening
DESCRIPTION:
URL:https://expositionpark.ca.gov/event/private-screening-9/
LOCATION:IMAX Theater\, 700 Exposition Park Drive\, Los Angeles\, CA\, 90037\, United States
GEO:34.0157877;-118.2862095
X-APPLE-STRUCTURED-LOCATION;VALUE=URI;X-ADDRESS=IMAX Theater 700 Exposition Park Drive Los Angeles CA 90037 United States;X-APPLE-RADIUS=500;X-TITLE=700 Exposition Park Drive:geo:-118.2862095,34.0157877
END:VEVENT
BEGIN:VEVENT
DTSTART;TZID=America/Los_Angeles:20241108T080000
DTEND;TZID=America/Los_Angeles:20241108T170000
DTSTAMP:20260422T162826
CREATED:20240309T003727Z
LAST-MODIFIED:20240309T003727Z
UID:10053131-1731052800-1731085200@expositionpark.ca.gov
SUMMARY:Private Meeting
DESCRIPTION:
URL:https://expositionpark.ca.gov/event/private-meeting-16/
LOCATION:WAB-Muses Room\, 700 Expo Park Drive\, LA\, CA\, 90037\, United States
GEO:34.0157877;-118.2862095
X-APPLE-STRUCTURED-LOCATION;VALUE=URI;X-ADDRESS=WAB-Muses Room 700 Expo Park Drive LA CA 90037 United States;X-APPLE-RADIUS=500;X-TITLE=700 Expo Park Drive:geo:-118.2862095,34.0157877
END:VEVENT
BEGIN:VEVENT
DTSTART;TZID=America/Los_Angeles:20241027T100000
DTEND;TZID=America/Los_Angeles:20241027T140000
DTSTAMP:20260422T162826
CREATED:20240926T165220Z
LAST-MODIFIED:20240926T165220Z
UID:10055195-1730023200-1730037600@expositionpark.ca.gov
SUMMARY:Private Event
DESCRIPTION:
URL:https://expositionpark.ca.gov/event/private-event-675/
LOCATION:CSC-Loker Conference Center\, 700 Exposition Park Drive\, Los Angeles\, CA\, 90037\, United States
END:VEVENT
BEGIN:VEVENT
DTSTART;TZID=America/Los_Angeles:20241025T080000
DTEND;TZID=America/Los_Angeles:20241025T170000
DTSTAMP:20260422T162826
CREATED:20241018T203533Z
LAST-MODIFIED:20241018T203533Z
UID:10055217-1729843200-1729875600@expositionpark.ca.gov
SUMMARY:Private Meeting
DESCRIPTION:
URL:https://expositionpark.ca.gov/event/private-meeting-21/
LOCATION:CSC-Loker Conference Center\, 700 Exposition Park Drive\, Los Angeles\, CA\, 90037\, United States
END:VEVENT
BEGIN:VEVENT
DTSTART;TZID=America/Los_Angeles:20241017T173000
DTEND;TZID=America/Los_Angeles:20241017T213000
DTSTAMP:20260422T162826
CREATED:20240708T233942Z
LAST-MODIFIED:20240708T233942Z
UID:10055063-1729186200-1729200600@expositionpark.ca.gov
SUMMARY:Private Nonprofit Gala
DESCRIPTION:
URL:https://expositionpark.ca.gov/event/private-nonprofit-gala/
LOCATION:Wallis Annenberg Building
END:VEVENT
BEGIN:VEVENT
DTSTART;TZID=America/Los_Angeles:20241005T103000
DTEND;TZID=America/Los_Angeles:20241005T163000
DTSTAMP:20260422T162826
CREATED:20240926T165329Z
LAST-MODIFIED:20240926T165329Z
UID:10055196-1728124200-1728145800@expositionpark.ca.gov
SUMMARY:Private Reception
DESCRIPTION:
URL:https://expositionpark.ca.gov/event/private-reception-12/
LOCATION:CSC-Loker Conference Center\, 700 Exposition Park Drive\, Los Angeles\, CA\, 90037\, United States
END:VEVENT
BEGIN:VEVENT
DTSTART;TZID=America/Los_Angeles:20241003T180000
DTEND;TZID=America/Los_Angeles:20241003T210000
DTSTAMP:20260422T162826
CREATED:20240904T172415Z
LAST-MODIFIED:20240904T172415Z
UID:10055176-1727978400-1727989200@expositionpark.ca.gov
SUMMARY:Private Salon
DESCRIPTION:
URL:https://expositionpark.ca.gov/event/private-salon/
LOCATION:CSC – Disney Court\, 700 Exposition Park Drive\, Los Angeles\, CA\, 90037\, United States
END:VEVENT
BEGIN:VEVENT
DTSTART;TZID=America/Los_Angeles:20240926T080000
DTEND;TZID=America/Los_Angeles:20240926T150000
DTSTAMP:20260422T162826
CREATED:20240827T194558Z
LAST-MODIFIED:20240827T194558Z
UID:10055153-1727337600-1727362800@expositionpark.ca.gov
SUMMARY:Private Meeting
DESCRIPTION:
URL:https://expositionpark.ca.gov/event/private-meeting-18/
LOCATION:CSC-Loker Conference Center\, 700 Exposition Park Drive\, Los Angeles\, CA\, 90037\, United States
END:VEVENT
BEGIN:VEVENT
DTSTART;TZID=America/Los_Angeles:20240920T110000
DTEND;TZID=America/Los_Angeles:20240920T160000
DTSTAMP:20260422T162826
CREATED:20240905T202315Z
LAST-MODIFIED:20240905T202315Z
UID:10055178-1726830000-1726848000@expositionpark.ca.gov
SUMMARY:Private Conference
DESCRIPTION:
URL:https://expositionpark.ca.gov/event/private-conference-3/
LOCATION:WAB-Muses Room\, 700 Expo Park Drive\, LA\, CA\, 90037\, United States
GEO:34.0157877;-118.2862095
X-APPLE-STRUCTURED-LOCATION;VALUE=URI;X-ADDRESS=WAB-Muses Room 700 Expo Park Drive LA CA 90037 United States;X-APPLE-RADIUS=500;X-TITLE=700 Expo Park Drive:geo:-118.2862095,34.0157877
END:VEVENT
BEGIN:VEVENT
DTSTART;TZID=America/Los_Angeles:20240914T180000
DTEND;TZID=America/Los_Angeles:20240914T220000
DTSTAMP:20260422T162826
CREATED:20240226T191642Z
LAST-MODIFIED:20240226T191642Z
UID:10053109-1726336800-1726351200@expositionpark.ca.gov
SUMMARY:Private Tasting
DESCRIPTION:
URL:https://expositionpark.ca.gov/event/private-tasting/
LOCATION:Wallis Annenberg Building
END:VEVENT
BEGIN:VEVENT
DTSTART;TZID=America/Los_Angeles:20240906T180000
DTEND;TZID=America/Los_Angeles:20240906T210000
DTSTAMP:20260422T162826
CREATED:20240126T224936Z
LAST-MODIFIED:20240126T224936Z
UID:10053083-1725645600-1725656400@expositionpark.ca.gov
SUMMARY:Nonprofit Gala
DESCRIPTION:
URL:https://expositionpark.ca.gov/event/nonprofit-gala-3/
LOCATION:Wallis Annenberg Building
END:VEVENT
BEGIN:VEVENT
DTSTART;TZID=America/Los_Angeles:20240906T080000
DTEND;TZID=America/Los_Angeles:20240906T210000
DTSTAMP:20260422T162826
CREATED:20240408T213502Z
LAST-MODIFIED:20240408T213502Z
UID:10054929-1725609600-1725656400@expositionpark.ca.gov
SUMMARY:Private Meeting
DESCRIPTION:
URL:https://expositionpark.ca.gov/event/private-meeting-17/
LOCATION:CSC – Loker Conference Center & Disney Court\, CA\, United States
END:VEVENT
BEGIN:VEVENT
DTSTART;TZID=America/Los_Angeles:20240829T190000
DTEND;TZID=America/Los_Angeles:20240829T220000
DTSTAMP:20260422T162826
CREATED:20240528T163044Z
LAST-MODIFIED:20240528T163044Z
UID:10055032-1724958000-1724968800@expositionpark.ca.gov
SUMMARY:Private Reception
DESCRIPTION:
URL:https://expositionpark.ca.gov/event/private-reception-11/
LOCATION:Wallis Annenberg Building
END:VEVENT
BEGIN:VEVENT
DTSTART;TZID=America/Los_Angeles:20240828T183000
DTEND;TZID=America/Los_Angeles:20240828T213000
DTSTAMP:20260422T162826
CREATED:20240827T194644Z
LAST-MODIFIED:20240827T194644Z
UID:10055154-1724869800-1724880600@expositionpark.ca.gov
SUMMARY:Private Screening
DESCRIPTION:
URL:https://expositionpark.ca.gov/event/private-screening-8/
LOCATION:IMAX Theater\, 700 Exposition Park Drive\, Los Angeles\, CA\, 90037\, United States
GEO:34.0157877;-118.2862095
X-APPLE-STRUCTURED-LOCATION;VALUE=URI;X-ADDRESS=IMAX Theater 700 Exposition Park Drive Los Angeles CA 90037 United States;X-APPLE-RADIUS=500;X-TITLE=700 Exposition Park Drive:geo:-118.2862095,34.0157877
END:VEVENT
BEGIN:VEVENT
DTSTART;TZID=America/Los_Angeles:20240814T160000
DTEND;TZID=America/Los_Angeles:20240814T193000
DTSTAMP:20260422T162826
CREATED:20240717T212550Z
LAST-MODIFIED:20240717T212550Z
UID:10055072-1723651200-1723663800@expositionpark.ca.gov
SUMMARY:Internal Event
DESCRIPTION:
URL:https://expositionpark.ca.gov/event/internal-event-3/
LOCATION:CSC – Samuel Oschin Pavilion
END:VEVENT
BEGIN:VEVENT
DTSTART;TZID=America/Los_Angeles:20240810T173000
DTEND;TZID=America/Los_Angeles:20240810T200000
DTSTAMP:20260422T162826
CREATED:20240719T214611Z
LAST-MODIFIED:20240719T214611Z
UID:10055076-1723311000-1723320000@expositionpark.ca.gov
SUMMARY:Private Screening
DESCRIPTION:
URL:https://expositionpark.ca.gov/event/private-screening-7/
LOCATION:CSC – Lorsch Family Pavilion & IMAX Theater\, 700 Exposition Park Drive\, Los Angeles\, CA\, 90037\, United States
END:VEVENT
BEGIN:VEVENT
DTSTART;TZID=America/Los_Angeles:20240805T073000
DTEND;TZID=America/Los_Angeles:20240806T150000
DTSTAMP:20260422T162826
CREATED:20240620T215051Z
LAST-MODIFIED:20240620T215051Z
UID:10055038-1722843000-1722956400@expositionpark.ca.gov
SUMMARY:Private Symposium
DESCRIPTION:
URL:https://expositionpark.ca.gov/event/private-symposium/
LOCATION:CSC – Loker Conference Center & Event Pavilion\, 400 Exposition Park Drive\, Los Angeles\, 90037\, United States
END:VEVENT
BEGIN:VEVENT
DTSTART;TZID=America/Los_Angeles:20240725T090000
DTEND;TZID=America/Los_Angeles:20240725T133000
DTSTAMP:20260422T162826
CREATED:20240708T233604Z
LAST-MODIFIED:20240708T233604Z
UID:10055059-1721898000-1721914200@expositionpark.ca.gov
SUMMARY:Private Event
DESCRIPTION:
URL:https://expositionpark.ca.gov/event/private-event-650/
LOCATION:WAB-Muses Room\, 700 Expo Park Drive\, LA\, CA\, 90037\, United States
GEO:34.0157877;-118.2862095
X-APPLE-STRUCTURED-LOCATION;VALUE=URI;X-ADDRESS=WAB-Muses Room 700 Expo Park Drive LA CA 90037 United States;X-APPLE-RADIUS=500;X-TITLE=700 Expo Park Drive:geo:-118.2862095,34.0157877
END:VEVENT
BEGIN:VEVENT
DTSTART;TZID=America/Los_Angeles:20240713T190000
DTEND;TZID=America/Los_Angeles:20240713T230000
DTSTAMP:20260422T162826
CREATED:20240425T001449Z
LAST-MODIFIED:20240425T001449Z
UID:10054959-1720897200-1720911600@expositionpark.ca.gov
SUMMARY:Special Event
DESCRIPTION:
URL:https://expositionpark.ca.gov/event/special-event/
LOCATION:CSC – Howard F. Ahmanson Building\, 700 Exposition Park Drive\, Los Angeles\, CA\, 90037\, United States
END:VEVENT
BEGIN:VEVENT
DTSTART;TZID=America/Los_Angeles:20240627T110000
DTEND;TZID=America/Los_Angeles:20240627T140000
DTSTAMP:20260422T162826
CREATED:20240502T002002Z
LAST-MODIFIED:20240502T002002Z
UID:10054967-1719486000-1719496800@expositionpark.ca.gov
SUMMARY:Private Nonprofit Event
DESCRIPTION:
URL:https://expositionpark.ca.gov/event/private-nonprofit-event-24/
LOCATION:CSC-Loker Conference Center\, 700 Exposition Park Drive\, Los Angeles\, CA\, 90037\, United States
END:VEVENT
BEGIN:VEVENT
DTSTART;TZID=America/Los_Angeles:20240622T190000
DTEND;TZID=America/Los_Angeles:20240622T220000
DTSTAMP:20260422T162826
CREATED:20231219T002600Z
LAST-MODIFIED:20231219T002600Z
UID:10054805-1719082800-1719093600@expositionpark.ca.gov
SUMMARY:Private Nonprofit Event
DESCRIPTION:
URL:https://expositionpark.ca.gov/event/private-nonprofit-event-23/
LOCATION:Wallis Annenberg Building
END:VEVENT
BEGIN:VEVENT
DTSTART;TZID=America/Los_Angeles:20240615T200000
DTEND;TZID=America/Los_Angeles:20240615T235900
DTSTAMP:20260422T162826
CREATED:20240410T235216Z
LAST-MODIFIED:20240410T235216Z
UID:10054943-1718481600-1718495940@expositionpark.ca.gov
SUMMARY:Private Reception
DESCRIPTION:
URL:https://expositionpark.ca.gov/event/private-reception-9/
LOCATION:CSC – Disney Court\, 700 Exposition Park Drive\, Los Angeles\, CA\, 90037\, United States
END:VEVENT
BEGIN:VEVENT
DTSTART;TZID=America/Los_Angeles:20240610T110000
DTEND;TZID=America/Los_Angeles:20240610T140000
DTSTAMP:20260422T162826
CREATED:20240412T173256Z
LAST-MODIFIED:20240412T173256Z
UID:10054944-1718017200-1718028000@expositionpark.ca.gov
SUMMARY:High School Graduation
DESCRIPTION:
URL:https://expositionpark.ca.gov/event/high-school-graduation/
LOCATION:CSC-Loker Conference Center\, 700 Exposition Park Drive\, Los Angeles\, CA\, 90037\, United States
END:VEVENT
END:VCALENDAR