BEGIN:VCALENDAR
VERSION:2.0
PRODID:-//Exposition Park - ECPv6.15.20//NONSGML v1.0//EN
CALSCALE:GREGORIAN
METHOD:PUBLISH
X-ORIGINAL-URL:https://expositionpark.ca.gov
X-WR-CALDESC:Events for Exposition Park
REFRESH-INTERVAL;VALUE=DURATION:PT1H
X-Robots-Tag:noindex
X-PUBLISHED-TTL:PT1H
BEGIN:VTIMEZONE
TZID:America/Los_Angeles
BEGIN:DAYLIGHT
TZOFFSETFROM:-0800
TZOFFSETTO:-0700
TZNAME:PDT
DTSTART:20150308T100000
END:DAYLIGHT
BEGIN:STANDARD
TZOFFSETFROM:-0700
TZOFFSETTO:-0800
TZNAME:PST
DTSTART:20151101T090000
END:STANDARD
BEGIN:DAYLIGHT
TZOFFSETFROM:-0800
TZOFFSETTO:-0700
TZNAME:PDT
DTSTART:20160313T100000
END:DAYLIGHT
BEGIN:STANDARD
TZOFFSETFROM:-0700
TZOFFSETTO:-0800
TZNAME:PST
DTSTART:20161106T090000
END:STANDARD
BEGIN:DAYLIGHT
TZOFFSETFROM:-0800
TZOFFSETTO:-0700
TZNAME:PDT
DTSTART:20170312T100000
END:DAYLIGHT
BEGIN:STANDARD
TZOFFSETFROM:-0700
TZOFFSETTO:-0800
TZNAME:PST
DTSTART:20171105T090000
END:STANDARD
BEGIN:DAYLIGHT
TZOFFSETFROM:-0800
TZOFFSETTO:-0700
TZNAME:PDT
DTSTART:20180311T100000
END:DAYLIGHT
BEGIN:STANDARD
TZOFFSETFROM:-0700
TZOFFSETTO:-0800
TZNAME:PST
DTSTART:20181104T090000
END:STANDARD
BEGIN:DAYLIGHT
TZOFFSETFROM:-0800
TZOFFSETTO:-0700
TZNAME:PDT
DTSTART:20190310T100000
END:DAYLIGHT
BEGIN:STANDARD
TZOFFSETFROM:-0700
TZOFFSETTO:-0800
TZNAME:PST
DTSTART:20191103T090000
END:STANDARD
END:VTIMEZONE
BEGIN:VEVENT
DTSTART;TZID=America/Los_Angeles:20180630T190000
DTEND;TZID=America/Los_Angeles:20180630T230000
DTSTAMP:20260421T220050
CREATED:20180604T235400Z
LAST-MODIFIED:20180604T235400Z
UID:10052064-1530385200-1530399600@expositionpark.ca.gov
SUMMARY:Corporate Dinner
DESCRIPTION:
URL:https://expositionpark.ca.gov/event/corporate-dinner/
LOCATION:CSC – Samuel Oschin Pavilion
ORGANIZER;CN="Special Events":MAILTO:specialevents@nhm.org
END:VEVENT
BEGIN:VEVENT
DTSTART;TZID=America/Los_Angeles:20180628T180000
DTEND;TZID=America/Los_Angeles:20180628T210000
DTSTAMP:20260421T220050
CREATED:20180604T231307Z
LAST-MODIFIED:20180604T231307Z
UID:10050767-1530208800-1530219600@expositionpark.ca.gov
SUMMARY:Corporate Reception
DESCRIPTION:
URL:https://expositionpark.ca.gov/event/corporate-reception/
LOCATION:California Science Center\, 700 Exposition Park Drive\, Los Angeles\, CA\, 90037\, United States
ORGANIZER;CN="Special Events":MAILTO:specialevents@nhm.org
GEO:34.0157877;-118.2862095
X-APPLE-STRUCTURED-LOCATION;VALUE=URI;X-ADDRESS=California Science Center 700 Exposition Park Drive Los Angeles CA 90037 United States;X-APPLE-RADIUS=500;X-TITLE=700 Exposition Park Drive:geo:-118.2862095,34.0157877
END:VEVENT
BEGIN:VEVENT
DTSTART;TZID=America/Los_Angeles:20180609T190000
DTEND;TZID=America/Los_Angeles:20180609T233000
DTSTAMP:20260421T220050
CREATED:20180615T171612Z
LAST-MODIFIED:20180615T171612Z
UID:10052136-1528570800-1528587000@expositionpark.ca.gov
SUMMARY:Prom
DESCRIPTION:
URL:https://expositionpark.ca.gov/event/prom-58/
LOCATION:Wallis Annenberg Building
ORGANIZER;CN="Special Events":MAILTO:specialevents@nhm.org
END:VEVENT
BEGIN:VEVENT
DTSTART;TZID=America/Los_Angeles:20180609T190000
DTEND;TZID=America/Los_Angeles:20180609T230000
DTSTAMP:20260421T220050
CREATED:20180615T171713Z
LAST-MODIFIED:20180615T171713Z
UID:10052138-1528570800-1528585200@expositionpark.ca.gov
SUMMARY:Prom
DESCRIPTION:
URL:https://expositionpark.ca.gov/event/prom-59/
LOCATION:CSC – Samuel Oschin Pavilion
ORGANIZER;CN="Special Events":MAILTO:specialevents@nhm.org
END:VEVENT
BEGIN:VEVENT
DTSTART;TZID=America/Los_Angeles:20180605T090000
DTEND;TZID=America/Los_Angeles:20180605T150000
DTSTAMP:20260421T220050
CREATED:20180604T231006Z
LAST-MODIFIED:20180604T231006Z
UID:10050761-1528189200-1528210800@expositionpark.ca.gov
SUMMARY:Corporate Board Retreat
DESCRIPTION:
URL:https://expositionpark.ca.gov/event/corporate-board-retreat/
LOCATION:WAB-Muses Room\, 700 Expo Park Drive\, LA\, CA\, 90037\, United States
ORGANIZER;CN="Special Events":MAILTO:specialevents@nhm.org
GEO:34.0157877;-118.2862095
X-APPLE-STRUCTURED-LOCATION;VALUE=URI;X-ADDRESS=WAB-Muses Room 700 Expo Park Drive LA CA 90037 United States;X-APPLE-RADIUS=500;X-TITLE=700 Expo Park Drive:geo:-118.2862095,34.0157877
END:VEVENT
BEGIN:VEVENT
DTSTART;VALUE=DATE:20180601
DTEND;VALUE=DATE:20180602
DTSTAMP:20260421T220050
CREATED:20160120T000826Z
LAST-MODIFIED:20181016T204214Z
UID:10043622-1527811200-1527897599@expositionpark.ca.gov
SUMMARY:Museum Significant Event - First Fridays
DESCRIPTION:Parking: Car Park\, Lot 3\nAttendees: 3\,000
URL:https://expositionpark.ca.gov/event/first-fridays-10/
LOCATION:Natural History Museum\, 900 Exposition Blvd\, Los Angeles\, CA\, 90037\, United States
ORGANIZER;CN="Special Events":MAILTO:specialevents@nhm.org
GEO:34.0170769;-118.2886818
X-APPLE-STRUCTURED-LOCATION;VALUE=URI;X-ADDRESS=Natural History Museum 900 Exposition Blvd Los Angeles CA 90037 United States;X-APPLE-RADIUS=500;X-TITLE=900 Exposition Blvd:geo:-118.2886818,34.0170769
END:VEVENT
BEGIN:VEVENT
DTSTART;VALUE=DATE:20180519
DTEND;VALUE=DATE:20180521
DTSTAMP:20260421T220050
CREATED:20160120T000826Z
LAST-MODIFIED:20181016T205528Z
UID:10043621-1526688000-1526860799@expositionpark.ca.gov
SUMMARY:Bug Fair - Significant Museum Event
DESCRIPTION:Parking: Car Park\, Lot 3\nAttendees: 8\,000
URL:https://expositionpark.ca.gov/event/bug-fair-4/
LOCATION:Natural History Museum\, 900 Exposition Blvd\, Los Angeles\, CA\, 90037\, United States
ORGANIZER;CN="Special Events":MAILTO:specialevents@nhm.org
GEO:34.0170769;-118.2886818
X-APPLE-STRUCTURED-LOCATION;VALUE=URI;X-ADDRESS=Natural History Museum 900 Exposition Blvd Los Angeles CA 90037 United States;X-APPLE-RADIUS=500;X-TITLE=900 Exposition Blvd:geo:-118.2886818,34.0170769
END:VEVENT
BEGIN:VEVENT
DTSTART;TZID=America/Los_Angeles:20180504T170000
DTEND;TZID=America/Los_Angeles:20180504T220000
DTSTAMP:20260421T220050
CREATED:20160120T000826Z
LAST-MODIFIED:20181016T205550Z
UID:10043620-1525453200-1525471200@expositionpark.ca.gov
SUMMARY:First Fridays
DESCRIPTION:Parking: Car Park\, Lot 3  Attendees: 2\,000
URL:https://expositionpark.ca.gov/event/first-fridays-9/
LOCATION:Natural History Museum\, 900 Exposition Blvd\, Los Angeles\, CA\, 90037\, United States
ORGANIZER;CN="Special Events":MAILTO:specialevents@nhm.org
GEO:34.0170769;-118.2886818
X-APPLE-STRUCTURED-LOCATION;VALUE=URI;X-ADDRESS=Natural History Museum 900 Exposition Blvd Los Angeles CA 90037 United States;X-APPLE-RADIUS=500;X-TITLE=900 Exposition Blvd:geo:-118.2886818,34.0170769
END:VEVENT
BEGIN:VEVENT
DTSTART;TZID=America/Los_Angeles:20180406T170000
DTEND;TZID=America/Los_Angeles:20180406T220000
DTSTAMP:20260421T220050
CREATED:20160120T000826Z
LAST-MODIFIED:20181016T205617Z
UID:10043619-1523034000-1523052000@expositionpark.ca.gov
SUMMARY:First Fridays
DESCRIPTION:Parking: Car Park\, Lot 3  Attendees: 2\,000
URL:https://expositionpark.ca.gov/event/first-fridays-8/
LOCATION:Natural History Museum\, 900 Exposition Blvd\, Los Angeles\, CA\, 90037\, United States
ORGANIZER;CN="Special Events":MAILTO:specialevents@nhm.org
GEO:34.0170769;-118.2886818
X-APPLE-STRUCTURED-LOCATION;VALUE=URI;X-ADDRESS=Natural History Museum 900 Exposition Blvd Los Angeles CA 90037 United States;X-APPLE-RADIUS=500;X-TITLE=900 Exposition Blvd:geo:-118.2886818,34.0170769
END:VEVENT
BEGIN:VEVENT
DTSTART;TZID=America/Los_Angeles:20180302T180000
DTEND;TZID=America/Los_Angeles:20180302T230000
DTSTAMP:20260421T220050
CREATED:20160120T000826Z
LAST-MODIFIED:20181016T205331Z
UID:10043618-1520013600-1520031600@expositionpark.ca.gov
SUMMARY:First Fridays
DESCRIPTION:Parking: Car Park\, Lot 3  Attendees: 2\,000
URL:https://expositionpark.ca.gov/event/first-fridays-7/
LOCATION:Natural History Museum\, 900 Exposition Blvd\, Los Angeles\, CA\, 90037\, United States
ORGANIZER;CN="Special Events":MAILTO:specialevents@nhm.org
GEO:34.0170769;-118.2886818
X-APPLE-STRUCTURED-LOCATION;VALUE=URI;X-ADDRESS=Natural History Museum 900 Exposition Blvd Los Angeles CA 90037 United States;X-APPLE-RADIUS=500;X-TITLE=900 Exposition Blvd:geo:-118.2886818,34.0170769
END:VEVENT
BEGIN:VEVENT
DTSTART;TZID=America/Los_Angeles:20180202T180000
DTEND;TZID=America/Los_Angeles:20180202T230000
DTSTAMP:20260421T220050
CREATED:20160120T000826Z
LAST-MODIFIED:20181016T205638Z
UID:10043617-1517594400-1517612400@expositionpark.ca.gov
SUMMARY:First Fridays
DESCRIPTION:Parking: Car Park\, Lot 3  Attendees: 2\,000
URL:https://expositionpark.ca.gov/event/first-fridays-6/
LOCATION:Natural History Museum\, 900 Exposition Blvd\, Los Angeles\, CA\, 90037\, United States
ORGANIZER;CN="Special Events":MAILTO:specialevents@nhm.org
GEO:34.0170769;-118.2886818
X-APPLE-STRUCTURED-LOCATION;VALUE=URI;X-ADDRESS=Natural History Museum 900 Exposition Blvd Los Angeles CA 90037 United States;X-APPLE-RADIUS=500;X-TITLE=900 Exposition Blvd:geo:-118.2886818,34.0170769
END:VEVENT
BEGIN:VEVENT
DTSTART;TZID=America/Los_Angeles:20171012T160000
DTEND;TZID=America/Los_Angeles:20171012T160000
DTSTAMP:20260421T220050
CREATED:20170720T220945Z
LAST-MODIFIED:20170720T220945Z
UID:10047699-1507824000-1507824000@expositionpark.ca.gov
SUMMARY:Private Event
DESCRIPTION:
URL:https://expositionpark.ca.gov/event/private-event-82/
LOCATION:Natural History Museum of Los Angeles County\, 900 Exposition Blvd.\, Los Angeles\, CA\, 90007\, United States
ORGANIZER;CN="Special Events":MAILTO:specialevents@nhm.org
GEO:34.0170769;-118.2886818
X-APPLE-STRUCTURED-LOCATION;VALUE=URI;X-ADDRESS=Natural History Museum of Los Angeles County 900 Exposition Blvd. Los Angeles CA 90007 United States;X-APPLE-RADIUS=500;X-TITLE=900 Exposition Blvd.:geo:-118.2886818,34.0170769
END:VEVENT
BEGIN:VEVENT
DTSTART;TZID=America/Los_Angeles:20170919T160000
DTEND;TZID=America/Los_Angeles:20170919T235900
DTSTAMP:20260421T220050
CREATED:20170802T223137Z
LAST-MODIFIED:20170802T223137Z
UID:10051292-1505836800-1505865540@expositionpark.ca.gov
SUMMARY:Private Event
DESCRIPTION:
URL:https://expositionpark.ca.gov/event/private-event-87/
LOCATION:Natural History Museum of Los Angeles County\, 900 Exposition Blvd.\, Los Angeles\, CA\, 90007\, United States
ORGANIZER;CN="Special Events":MAILTO:specialevents@nhm.org
GEO:34.0170769;-118.2886818
X-APPLE-STRUCTURED-LOCATION;VALUE=URI;X-ADDRESS=Natural History Museum of Los Angeles County 900 Exposition Blvd. Los Angeles CA 90007 United States;X-APPLE-RADIUS=500;X-TITLE=900 Exposition Blvd.:geo:-118.2886818,34.0170769
END:VEVENT
BEGIN:VEVENT
DTSTART;VALUE=DATE:20170520
DTEND;VALUE=DATE:20170522
DTSTAMP:20260421T220050
CREATED:20160120T000825Z
LAST-MODIFIED:20181016T205849Z
UID:10043616-1495238400-1495411199@expositionpark.ca.gov
SUMMARY:Bug Fair - Significant Museum Event
DESCRIPTION:Parking: NHM Car Park\, Lot 3\nAttendees: 8\,000
URL:https://expositionpark.ca.gov/event/bug-fair-3/
LOCATION:Natural History Museum\, 900 Exposition Blvd\, Los Angeles\, CA\, 90037\, United States
ORGANIZER;CN="Special Events":MAILTO:specialevents@nhm.org
GEO:34.0170769;-118.2886818
X-APPLE-STRUCTURED-LOCATION;VALUE=URI;X-ADDRESS=Natural History Museum 900 Exposition Blvd Los Angeles CA 90037 United States;X-APPLE-RADIUS=500;X-TITLE=900 Exposition Blvd:geo:-118.2886818,34.0170769
END:VEVENT
BEGIN:VEVENT
DTSTART;TZID=America/Los_Angeles:20170505T170000
DTEND;TZID=America/Los_Angeles:20170505T220000
DTSTAMP:20260421T220050
CREATED:20160120T000824Z
LAST-MODIFIED:20181016T205904Z
UID:10043614-1494003600-1494021600@expositionpark.ca.gov
SUMMARY:First Fridays
DESCRIPTION:Parking: NHM Car Park\, Lot 3  Attendees: 2\,000
URL:https://expositionpark.ca.gov/event/first-fridays-4/
LOCATION:Natural History Museum\, 900 Exposition Blvd\, Los Angeles\, CA\, 90037\, United States
ORGANIZER;CN="Special Events":MAILTO:specialevents@nhm.org
GEO:34.0170769;-118.2886818
X-APPLE-STRUCTURED-LOCATION;VALUE=URI;X-ADDRESS=Natural History Museum 900 Exposition Blvd Los Angeles CA 90037 United States;X-APPLE-RADIUS=500;X-TITLE=900 Exposition Blvd:geo:-118.2886818,34.0170769
END:VEVENT
BEGIN:VEVENT
DTSTART;TZID=America/Los_Angeles:20170407T170000
DTEND;TZID=America/Los_Angeles:20170407T220000
DTSTAMP:20260421T220050
CREATED:20160120T000824Z
LAST-MODIFIED:20181016T205920Z
UID:10043613-1491584400-1491602400@expositionpark.ca.gov
SUMMARY:First Fridays
DESCRIPTION:Parking: NHM Car Park\, Lot 3  Attendees: 2\,000
URL:https://expositionpark.ca.gov/event/first-fridays-3/
LOCATION:Natural History Museum\, 900 Exposition Blvd\, Los Angeles\, CA\, 90037\, United States
ORGANIZER;CN="Special Events":MAILTO:specialevents@nhm.org
GEO:34.0170769;-118.2886818
X-APPLE-STRUCTURED-LOCATION;VALUE=URI;X-ADDRESS=Natural History Museum 900 Exposition Blvd Los Angeles CA 90037 United States;X-APPLE-RADIUS=500;X-TITLE=900 Exposition Blvd:geo:-118.2886818,34.0170769
END:VEVENT
BEGIN:VEVENT
DTSTART;TZID=America/Los_Angeles:20170303T180000
DTEND;TZID=America/Los_Angeles:20170303T230000
DTSTAMP:20260421T220050
CREATED:20160120T000824Z
LAST-MODIFIED:20181016T205936Z
UID:10043612-1488564000-1488582000@expositionpark.ca.gov
SUMMARY:First Fridays
DESCRIPTION:Parking: NHM Car Park\, Lot 3  Attendees: 2\,000
URL:https://expositionpark.ca.gov/event/first-fridays-2/
LOCATION:Natural History Museum\, 900 Exposition Blvd\, Los Angeles\, CA\, 90037\, United States
ORGANIZER;CN="Special Events":MAILTO:specialevents@nhm.org
GEO:34.0170769;-118.2886818
X-APPLE-STRUCTURED-LOCATION;VALUE=URI;X-ADDRESS=Natural History Museum 900 Exposition Blvd Los Angeles CA 90037 United States;X-APPLE-RADIUS=500;X-TITLE=900 Exposition Blvd:geo:-118.2886818,34.0170769
END:VEVENT
BEGIN:VEVENT
DTSTART;TZID=America/Los_Angeles:20170203T180000
DTEND;TZID=America/Los_Angeles:20170203T230000
DTSTAMP:20260421T220050
CREATED:20160120T000824Z
LAST-MODIFIED:20181016T205951Z
UID:10043611-1486144800-1486162800@expositionpark.ca.gov
SUMMARY:First Fridays
DESCRIPTION:Parking: Lot 3\, NHM Car Park  Attendees: 2\,000
URL:https://expositionpark.ca.gov/event/first-fridays/
LOCATION:Natural History Museum\, 900 Exposition Blvd\, Los Angeles\, CA\, 90037\, United States
ORGANIZER;CN="Special Events":MAILTO:specialevents@nhm.org
GEO:34.0170769;-118.2886818
X-APPLE-STRUCTURED-LOCATION;VALUE=URI;X-ADDRESS=Natural History Museum 900 Exposition Blvd Los Angeles CA 90037 United States;X-APPLE-RADIUS=500;X-TITLE=900 Exposition Blvd:geo:-118.2886818,34.0170769
END:VEVENT
BEGIN:VEVENT
DTSTART;TZID=America/Los_Angeles:20161230T210000
DTEND;TZID=America/Los_Angeles:20161230T223000
DTSTAMP:20260421T220050
CREATED:20160822T180507Z
LAST-MODIFIED:20160824T232941Z
UID:10044393-1483131600-1483137000@expositionpark.ca.gov
SUMMARY:San Pedro Soccer League
DESCRIPTION:
URL:https://expositionpark.ca.gov/event/san-pedro-soccer-league/2016-12-30/
LOCATION:EXPO Center\, 3980 Bill Robertson Lane\, Los Angeles\, CA\, 90037\, United States
ORGANIZER;CN="Special Events":MAILTO:specialevents@nhm.org
GEO:34.0121136;-118.2900829
X-APPLE-STRUCTURED-LOCATION;VALUE=URI;X-ADDRESS=EXPO Center 3980 Bill Robertson Lane Los Angeles CA 90037 United States;X-APPLE-RADIUS=500;X-TITLE=3980 Bill Robertson Lane:geo:-118.2900829,34.0121136
END:VEVENT
BEGIN:VEVENT
DTSTART;TZID=America/Los_Angeles:20161223T210000
DTEND;TZID=America/Los_Angeles:20161223T223000
DTSTAMP:20260421T220050
CREATED:20160822T180507Z
LAST-MODIFIED:20160824T232941Z
UID:10044392-1482526800-1482532200@expositionpark.ca.gov
SUMMARY:San Pedro Soccer League
DESCRIPTION:
URL:https://expositionpark.ca.gov/event/san-pedro-soccer-league/2016-12-23/
LOCATION:EXPO Center\, 3980 Bill Robertson Lane\, Los Angeles\, CA\, 90037\, United States
ORGANIZER;CN="Special Events":MAILTO:specialevents@nhm.org
GEO:34.0121136;-118.2900829
X-APPLE-STRUCTURED-LOCATION;VALUE=URI;X-ADDRESS=EXPO Center 3980 Bill Robertson Lane Los Angeles CA 90037 United States;X-APPLE-RADIUS=500;X-TITLE=3980 Bill Robertson Lane:geo:-118.2900829,34.0121136
END:VEVENT
BEGIN:VEVENT
DTSTART;TZID=America/Los_Angeles:20161218T173000
DTEND;TZID=America/Los_Angeles:20161218T223000
DTSTAMP:20260421T220050
CREATED:20160822T181547Z
LAST-MODIFIED:20160822T183747Z
UID:10044418-1482082200-1482100200@expositionpark.ca.gov
SUMMARY:San Pedro Soccer League
DESCRIPTION:
URL:https://expositionpark.ca.gov/event/san-pedro-sports-club/2016-12-18/
LOCATION:EXPO Center\, 3980 Bill Robertson Lane\, Los Angeles\, CA\, 90037\, United States
ORGANIZER;CN="Special Events":MAILTO:specialevents@nhm.org
GEO:34.0121136;-118.2900829
X-APPLE-STRUCTURED-LOCATION;VALUE=URI;X-ADDRESS=EXPO Center 3980 Bill Robertson Lane Los Angeles CA 90037 United States;X-APPLE-RADIUS=500;X-TITLE=3980 Bill Robertson Lane:geo:-118.2900829,34.0121136
END:VEVENT
BEGIN:VEVENT
DTSTART;TZID=America/Los_Angeles:20161217T130000
DTEND;TZID=America/Los_Angeles:20161217T210000
DTSTAMP:20260421T220050
CREATED:20160822T175704Z
LAST-MODIFIED:20160822T175704Z
UID:10044366-1481979600-1482008400@expositionpark.ca.gov
SUMMARY:Vermont Sports Club
DESCRIPTION:
URL:https://expositionpark.ca.gov/event/vermont-sports-club-3/
LOCATION:EXPO Center\, 3980 Bill Robertson Lane\, Los Angeles\, CA\, 90037\, United States
ORGANIZER;CN="Special Events":MAILTO:specialevents@nhm.org
GEO:34.0121136;-118.2900829
X-APPLE-STRUCTURED-LOCATION;VALUE=URI;X-ADDRESS=EXPO Center 3980 Bill Robertson Lane Los Angeles CA 90037 United States;X-APPLE-RADIUS=500;X-TITLE=3980 Bill Robertson Lane:geo:-118.2900829,34.0121136
END:VEVENT
BEGIN:VEVENT
DTSTART;TZID=America/Los_Angeles:20161217T100000
DTEND;TZID=America/Los_Angeles:20161217T170000
DTSTAMP:20260421T220050
CREATED:20160718T172029Z
LAST-MODIFIED:20160718T172043Z
UID:10044197-1481968800-1481994000@expositionpark.ca.gov
SUMMARY:Winter Holiday Festival
DESCRIPTION:
URL:https://expositionpark.ca.gov/event/winter-holiday-festival-2/
LOCATION:EXPO Center/ John C Argue Swim Stadium\, 3980 Bill Robertson Lane\, Los Angeles\, CA\, 90037\, United States
ORGANIZER;CN="Special Events":MAILTO:specialevents@nhm.org
GEO:34.0121136;-118.2900829
X-APPLE-STRUCTURED-LOCATION;VALUE=URI;X-ADDRESS=EXPO Center/ John C Argue Swim Stadium 3980 Bill Robertson Lane Los Angeles CA 90037 United States;X-APPLE-RADIUS=500;X-TITLE=3980 Bill Robertson Lane:geo:-118.2900829,34.0121136
END:VEVENT
BEGIN:VEVENT
DTSTART;TZID=America/Los_Angeles:20161216T210000
DTEND;TZID=America/Los_Angeles:20161216T223000
DTSTAMP:20260421T220050
CREATED:20160822T180507Z
LAST-MODIFIED:20160824T232941Z
UID:10044391-1481922000-1481927400@expositionpark.ca.gov
SUMMARY:San Pedro Soccer League
DESCRIPTION:
URL:https://expositionpark.ca.gov/event/san-pedro-soccer-league/2016-12-16/
LOCATION:EXPO Center\, 3980 Bill Robertson Lane\, Los Angeles\, CA\, 90037\, United States
ORGANIZER;CN="Special Events":MAILTO:specialevents@nhm.org
GEO:34.0121136;-118.2900829
X-APPLE-STRUCTURED-LOCATION;VALUE=URI;X-ADDRESS=EXPO Center 3980 Bill Robertson Lane Los Angeles CA 90037 United States;X-APPLE-RADIUS=500;X-TITLE=3980 Bill Robertson Lane:geo:-118.2900829,34.0121136
END:VEVENT
BEGIN:VEVENT
DTSTART;TZID=America/Los_Angeles:20161215T180000
DTEND;TZID=America/Los_Angeles:20161215T210000
DTSTAMP:20260421T220050
CREATED:20160822T174752Z
LAST-MODIFIED:20160822T174752Z
UID:10044346-1481824800-1481835600@expositionpark.ca.gov
SUMMARY:Vermont Sports Club
DESCRIPTION:
URL:https://expositionpark.ca.gov/event/vermont-sports-club/2016-12-15/
LOCATION:EXPO Center\, 3980 Bill Robertson Lane\, Los Angeles\, CA\, 90037\, United States
ORGANIZER;CN="Special Events":MAILTO:specialevents@nhm.org
GEO:34.0121136;-118.2900829
X-APPLE-STRUCTURED-LOCATION;VALUE=URI;X-ADDRESS=EXPO Center 3980 Bill Robertson Lane Los Angeles CA 90037 United States;X-APPLE-RADIUS=500;X-TITLE=3980 Bill Robertson Lane:geo:-118.2900829,34.0121136
END:VEVENT
BEGIN:VEVENT
DTSTART;TZID=America/Los_Angeles:20161213T180000
DTEND;TZID=America/Los_Angeles:20161213T210000
DTSTAMP:20260421T220050
CREATED:20160822T175333Z
LAST-MODIFIED:20160822T184252Z
UID:10044364-1481652000-1481662800@expositionpark.ca.gov
SUMMARY:Vermont Sports Club
DESCRIPTION:
URL:https://expositionpark.ca.gov/event/vermont-sports-club-2/2016-12-13/
LOCATION:EXPO Center\, 3980 Bill Robertson Lane\, Los Angeles\, CA\, 90037\, United States
ORGANIZER;CN="Special Events":MAILTO:specialevents@nhm.org
GEO:34.0121136;-118.2900829
X-APPLE-STRUCTURED-LOCATION;VALUE=URI;X-ADDRESS=EXPO Center 3980 Bill Robertson Lane Los Angeles CA 90037 United States;X-APPLE-RADIUS=500;X-TITLE=3980 Bill Robertson Lane:geo:-118.2900829,34.0121136
END:VEVENT
BEGIN:VEVENT
DTSTART;TZID=America/Los_Angeles:20161211T173000
DTEND;TZID=America/Los_Angeles:20161211T223000
DTSTAMP:20260421T220050
CREATED:20160822T181547Z
LAST-MODIFIED:20160822T183747Z
UID:10044417-1481477400-1481495400@expositionpark.ca.gov
SUMMARY:San Pedro Soccer League
DESCRIPTION:
URL:https://expositionpark.ca.gov/event/san-pedro-sports-club/2016-12-11/
LOCATION:EXPO Center\, 3980 Bill Robertson Lane\, Los Angeles\, CA\, 90037\, United States
ORGANIZER;CN="Special Events":MAILTO:specialevents@nhm.org
GEO:34.0121136;-118.2900829
X-APPLE-STRUCTURED-LOCATION;VALUE=URI;X-ADDRESS=EXPO Center 3980 Bill Robertson Lane Los Angeles CA 90037 United States;X-APPLE-RADIUS=500;X-TITLE=3980 Bill Robertson Lane:geo:-118.2900829,34.0121136
END:VEVENT
BEGIN:VEVENT
DTSTART;TZID=America/Los_Angeles:20161209T210000
DTEND;TZID=America/Los_Angeles:20161209T223000
DTSTAMP:20260421T220050
CREATED:20160822T180507Z
LAST-MODIFIED:20160824T232941Z
UID:10044390-1481317200-1481322600@expositionpark.ca.gov
SUMMARY:San Pedro Soccer League
DESCRIPTION:
URL:https://expositionpark.ca.gov/event/san-pedro-soccer-league/2016-12-09/
LOCATION:EXPO Center\, 3980 Bill Robertson Lane\, Los Angeles\, CA\, 90037\, United States
ORGANIZER;CN="Special Events":MAILTO:specialevents@nhm.org
GEO:34.0121136;-118.2900829
X-APPLE-STRUCTURED-LOCATION;VALUE=URI;X-ADDRESS=EXPO Center 3980 Bill Robertson Lane Los Angeles CA 90037 United States;X-APPLE-RADIUS=500;X-TITLE=3980 Bill Robertson Lane:geo:-118.2900829,34.0121136
END:VEVENT
BEGIN:VEVENT
DTSTART;TZID=America/Los_Angeles:20161208T180000
DTEND;TZID=America/Los_Angeles:20161208T210000
DTSTAMP:20260421T220050
CREATED:20160822T174752Z
LAST-MODIFIED:20160822T174752Z
UID:10044345-1481220000-1481230800@expositionpark.ca.gov
SUMMARY:Vermont Sports Club
DESCRIPTION:
URL:https://expositionpark.ca.gov/event/vermont-sports-club/2016-12-08/
LOCATION:EXPO Center\, 3980 Bill Robertson Lane\, Los Angeles\, CA\, 90037\, United States
ORGANIZER;CN="Special Events":MAILTO:specialevents@nhm.org
GEO:34.0121136;-118.2900829
X-APPLE-STRUCTURED-LOCATION;VALUE=URI;X-ADDRESS=EXPO Center 3980 Bill Robertson Lane Los Angeles CA 90037 United States;X-APPLE-RADIUS=500;X-TITLE=3980 Bill Robertson Lane:geo:-118.2900829,34.0121136
END:VEVENT
BEGIN:VEVENT
DTSTART;TZID=America/Los_Angeles:20161206T180000
DTEND;TZID=America/Los_Angeles:20161206T210000
DTSTAMP:20260421T220050
CREATED:20160822T175333Z
LAST-MODIFIED:20160822T184252Z
UID:10044363-1481047200-1481058000@expositionpark.ca.gov
SUMMARY:Vermont Sports Club
DESCRIPTION:
URL:https://expositionpark.ca.gov/event/vermont-sports-club-2/2016-12-06/
LOCATION:EXPO Center\, 3980 Bill Robertson Lane\, Los Angeles\, CA\, 90037\, United States
ORGANIZER;CN="Special Events":MAILTO:specialevents@nhm.org
GEO:34.0121136;-118.2900829
X-APPLE-STRUCTURED-LOCATION;VALUE=URI;X-ADDRESS=EXPO Center 3980 Bill Robertson Lane Los Angeles CA 90037 United States;X-APPLE-RADIUS=500;X-TITLE=3980 Bill Robertson Lane:geo:-118.2900829,34.0121136
END:VEVENT
END:VCALENDAR