BEGIN:VCALENDAR
VERSION:2.0
PRODID:-//Exposition Park - ECPv6.15.20//NONSGML v1.0//EN
CALSCALE:GREGORIAN
METHOD:PUBLISH
X-WR-CALNAME:Exposition Park
X-ORIGINAL-URL:https://expositionpark.ca.gov
X-WR-CALDESC:Events for Exposition Park
REFRESH-INTERVAL;VALUE=DURATION:PT1H
X-Robots-Tag:noindex
X-PUBLISHED-TTL:PT1H
BEGIN:VTIMEZONE
TZID:America/Los_Angeles
BEGIN:DAYLIGHT
TZOFFSETFROM:-0800
TZOFFSETTO:-0700
TZNAME:PDT
DTSTART:20150308T100000
END:DAYLIGHT
BEGIN:STANDARD
TZOFFSETFROM:-0700
TZOFFSETTO:-0800
TZNAME:PST
DTSTART:20151101T090000
END:STANDARD
BEGIN:DAYLIGHT
TZOFFSETFROM:-0800
TZOFFSETTO:-0700
TZNAME:PDT
DTSTART:20160313T100000
END:DAYLIGHT
BEGIN:STANDARD
TZOFFSETFROM:-0700
TZOFFSETTO:-0800
TZNAME:PST
DTSTART:20161106T090000
END:STANDARD
BEGIN:DAYLIGHT
TZOFFSETFROM:-0800
TZOFFSETTO:-0700
TZNAME:PDT
DTSTART:20170312T100000
END:DAYLIGHT
BEGIN:STANDARD
TZOFFSETFROM:-0700
TZOFFSETTO:-0800
TZNAME:PST
DTSTART:20171105T090000
END:STANDARD
BEGIN:DAYLIGHT
TZOFFSETFROM:-0800
TZOFFSETTO:-0700
TZNAME:PDT
DTSTART:20180311T100000
END:DAYLIGHT
BEGIN:STANDARD
TZOFFSETFROM:-0700
TZOFFSETTO:-0800
TZNAME:PST
DTSTART:20181104T090000
END:STANDARD
END:VTIMEZONE
BEGIN:VEVENT
DTSTART;TZID=America/Los_Angeles:20170505T170000
DTEND;TZID=America/Los_Angeles:20170505T220000
DTSTAMP:20260422T154659
CREATED:20160120T000824Z
LAST-MODIFIED:20181016T205904Z
UID:10043614-1494003600-1494021600@expositionpark.ca.gov
SUMMARY:First Fridays
DESCRIPTION:Parking: NHM Car Park\, Lot 3  Attendees: 2\,000
URL:https://expositionpark.ca.gov/event/first-fridays-4/
LOCATION:Natural History Museum\, 900 Exposition Blvd\, Los Angeles\, CA\, 90037\, United States
ORGANIZER;CN="Special Events":MAILTO:specialevents@nhm.org
GEO:34.0170769;-118.2886818
X-APPLE-STRUCTURED-LOCATION;VALUE=URI;X-ADDRESS=Natural History Museum 900 Exposition Blvd Los Angeles CA 90037 United States;X-APPLE-RADIUS=500;X-TITLE=900 Exposition Blvd:geo:-118.2886818,34.0170769
END:VEVENT
BEGIN:VEVENT
DTSTART;TZID=America/Los_Angeles:20170407T170000
DTEND;TZID=America/Los_Angeles:20170407T220000
DTSTAMP:20260422T154659
CREATED:20160120T000824Z
LAST-MODIFIED:20181016T205920Z
UID:10043613-1491584400-1491602400@expositionpark.ca.gov
SUMMARY:First Fridays
DESCRIPTION:Parking: NHM Car Park\, Lot 3  Attendees: 2\,000
URL:https://expositionpark.ca.gov/event/first-fridays-3/
LOCATION:Natural History Museum\, 900 Exposition Blvd\, Los Angeles\, CA\, 90037\, United States
ORGANIZER;CN="Special Events":MAILTO:specialevents@nhm.org
GEO:34.0170769;-118.2886818
X-APPLE-STRUCTURED-LOCATION;VALUE=URI;X-ADDRESS=Natural History Museum 900 Exposition Blvd Los Angeles CA 90037 United States;X-APPLE-RADIUS=500;X-TITLE=900 Exposition Blvd:geo:-118.2886818,34.0170769
END:VEVENT
BEGIN:VEVENT
DTSTART;TZID=America/Los_Angeles:20170303T180000
DTEND;TZID=America/Los_Angeles:20170303T230000
DTSTAMP:20260422T154659
CREATED:20160120T000824Z
LAST-MODIFIED:20181016T205936Z
UID:10043612-1488564000-1488582000@expositionpark.ca.gov
SUMMARY:First Fridays
DESCRIPTION:Parking: NHM Car Park\, Lot 3  Attendees: 2\,000
URL:https://expositionpark.ca.gov/event/first-fridays-2/
LOCATION:Natural History Museum\, 900 Exposition Blvd\, Los Angeles\, CA\, 90037\, United States
ORGANIZER;CN="Special Events":MAILTO:specialevents@nhm.org
GEO:34.0170769;-118.2886818
X-APPLE-STRUCTURED-LOCATION;VALUE=URI;X-ADDRESS=Natural History Museum 900 Exposition Blvd Los Angeles CA 90037 United States;X-APPLE-RADIUS=500;X-TITLE=900 Exposition Blvd:geo:-118.2886818,34.0170769
END:VEVENT
BEGIN:VEVENT
DTSTART;TZID=America/Los_Angeles:20170203T180000
DTEND;TZID=America/Los_Angeles:20170203T230000
DTSTAMP:20260422T154659
CREATED:20160120T000824Z
LAST-MODIFIED:20181016T205951Z
UID:10043611-1486144800-1486162800@expositionpark.ca.gov
SUMMARY:First Fridays
DESCRIPTION:Parking: Lot 3\, NHM Car Park  Attendees: 2\,000
URL:https://expositionpark.ca.gov/event/first-fridays/
LOCATION:Natural History Museum\, 900 Exposition Blvd\, Los Angeles\, CA\, 90037\, United States
ORGANIZER;CN="Special Events":MAILTO:specialevents@nhm.org
GEO:34.0170769;-118.2886818
X-APPLE-STRUCTURED-LOCATION;VALUE=URI;X-ADDRESS=Natural History Museum 900 Exposition Blvd Los Angeles CA 90037 United States;X-APPLE-RADIUS=500;X-TITLE=900 Exposition Blvd:geo:-118.2886818,34.0170769
END:VEVENT
BEGIN:VEVENT
DTSTART;TZID=America/Los_Angeles:20161230T210000
DTEND;TZID=America/Los_Angeles:20161230T223000
DTSTAMP:20260422T154659
CREATED:20160822T180507Z
LAST-MODIFIED:20160824T232941Z
UID:10044393-1483131600-1483137000@expositionpark.ca.gov
SUMMARY:San Pedro Soccer League
DESCRIPTION:
URL:https://expositionpark.ca.gov/event/san-pedro-soccer-league/2016-12-30/
LOCATION:EXPO Center\, 3980 Bill Robertson Lane\, Los Angeles\, CA\, 90037\, United States
ORGANIZER;CN="Special Events":MAILTO:specialevents@nhm.org
GEO:34.0121136;-118.2900829
X-APPLE-STRUCTURED-LOCATION;VALUE=URI;X-ADDRESS=EXPO Center 3980 Bill Robertson Lane Los Angeles CA 90037 United States;X-APPLE-RADIUS=500;X-TITLE=3980 Bill Robertson Lane:geo:-118.2900829,34.0121136
END:VEVENT
BEGIN:VEVENT
DTSTART;TZID=America/Los_Angeles:20161218T173000
DTEND;TZID=America/Los_Angeles:20161218T223000
DTSTAMP:20260422T154659
CREATED:20160822T181547Z
LAST-MODIFIED:20160822T183747Z
UID:10044418-1482082200-1482100200@expositionpark.ca.gov
SUMMARY:San Pedro Soccer League
DESCRIPTION:
URL:https://expositionpark.ca.gov/event/san-pedro-sports-club/2016-12-18/
LOCATION:EXPO Center\, 3980 Bill Robertson Lane\, Los Angeles\, CA\, 90037\, United States
ORGANIZER;CN="Special Events":MAILTO:specialevents@nhm.org
GEO:34.0121136;-118.2900829
X-APPLE-STRUCTURED-LOCATION;VALUE=URI;X-ADDRESS=EXPO Center 3980 Bill Robertson Lane Los Angeles CA 90037 United States;X-APPLE-RADIUS=500;X-TITLE=3980 Bill Robertson Lane:geo:-118.2900829,34.0121136
END:VEVENT
BEGIN:VEVENT
DTSTART;TZID=America/Los_Angeles:20161217T130000
DTEND;TZID=America/Los_Angeles:20161217T210000
DTSTAMP:20260422T154659
CREATED:20160822T175704Z
LAST-MODIFIED:20160822T175704Z
UID:10044366-1481979600-1482008400@expositionpark.ca.gov
SUMMARY:Vermont Sports Club
DESCRIPTION:
URL:https://expositionpark.ca.gov/event/vermont-sports-club-3/
LOCATION:EXPO Center\, 3980 Bill Robertson Lane\, Los Angeles\, CA\, 90037\, United States
ORGANIZER;CN="Special Events":MAILTO:specialevents@nhm.org
GEO:34.0121136;-118.2900829
X-APPLE-STRUCTURED-LOCATION;VALUE=URI;X-ADDRESS=EXPO Center 3980 Bill Robertson Lane Los Angeles CA 90037 United States;X-APPLE-RADIUS=500;X-TITLE=3980 Bill Robertson Lane:geo:-118.2900829,34.0121136
END:VEVENT
BEGIN:VEVENT
DTSTART;TZID=America/Los_Angeles:20161217T100000
DTEND;TZID=America/Los_Angeles:20161217T170000
DTSTAMP:20260422T154659
CREATED:20160718T172029Z
LAST-MODIFIED:20160718T172043Z
UID:10044197-1481968800-1481994000@expositionpark.ca.gov
SUMMARY:Winter Holiday Festival
DESCRIPTION:
URL:https://expositionpark.ca.gov/event/winter-holiday-festival-2/
LOCATION:EXPO Center/ John C Argue Swim Stadium\, 3980 Bill Robertson Lane\, Los Angeles\, CA\, 90037\, United States
ORGANIZER;CN="Special Events":MAILTO:specialevents@nhm.org
GEO:34.0121136;-118.2900829
X-APPLE-STRUCTURED-LOCATION;VALUE=URI;X-ADDRESS=EXPO Center/ John C Argue Swim Stadium 3980 Bill Robertson Lane Los Angeles CA 90037 United States;X-APPLE-RADIUS=500;X-TITLE=3980 Bill Robertson Lane:geo:-118.2900829,34.0121136
END:VEVENT
BEGIN:VEVENT
DTSTART;TZID=America/Los_Angeles:20161215T180000
DTEND;TZID=America/Los_Angeles:20161215T210000
DTSTAMP:20260422T154659
CREATED:20160822T174752Z
LAST-MODIFIED:20160822T174752Z
UID:10044346-1481824800-1481835600@expositionpark.ca.gov
SUMMARY:Vermont Sports Club
DESCRIPTION:
URL:https://expositionpark.ca.gov/event/vermont-sports-club/2016-12-15/
LOCATION:EXPO Center\, 3980 Bill Robertson Lane\, Los Angeles\, CA\, 90037\, United States
ORGANIZER;CN="Special Events":MAILTO:specialevents@nhm.org
GEO:34.0121136;-118.2900829
X-APPLE-STRUCTURED-LOCATION;VALUE=URI;X-ADDRESS=EXPO Center 3980 Bill Robertson Lane Los Angeles CA 90037 United States;X-APPLE-RADIUS=500;X-TITLE=3980 Bill Robertson Lane:geo:-118.2900829,34.0121136
END:VEVENT
BEGIN:VEVENT
DTSTART;TZID=America/Los_Angeles:20161213T180000
DTEND;TZID=America/Los_Angeles:20161213T210000
DTSTAMP:20260422T154659
CREATED:20160822T175333Z
LAST-MODIFIED:20160822T184252Z
UID:10044364-1481652000-1481662800@expositionpark.ca.gov
SUMMARY:Vermont Sports Club
DESCRIPTION:
URL:https://expositionpark.ca.gov/event/vermont-sports-club-2/2016-12-13/
LOCATION:EXPO Center\, 3980 Bill Robertson Lane\, Los Angeles\, CA\, 90037\, United States
ORGANIZER;CN="Special Events":MAILTO:specialevents@nhm.org
GEO:34.0121136;-118.2900829
X-APPLE-STRUCTURED-LOCATION;VALUE=URI;X-ADDRESS=EXPO Center 3980 Bill Robertson Lane Los Angeles CA 90037 United States;X-APPLE-RADIUS=500;X-TITLE=3980 Bill Robertson Lane:geo:-118.2900829,34.0121136
END:VEVENT
BEGIN:VEVENT
DTSTART;TZID=America/Los_Angeles:20161112T140000
DTEND;TZID=America/Los_Angeles:20161112T170000
DTSTAMP:20260422T154659
CREATED:20160509T181013Z
LAST-MODIFIED:20160509T181013Z
UID:10043942-1478959200-1478970000@expositionpark.ca.gov
SUMMARY:Wedding
DESCRIPTION:
URL:https://expositionpark.ca.gov/event/wedding-33/
LOCATION:Rose Garden\, 701 State Drive\, Los Angeles\, CA\, 90037\, United States
ORGANIZER;CN="Special Events":MAILTO:specialevents@nhm.org
GEO:34.0165246;-118.2843696
X-APPLE-STRUCTURED-LOCATION;VALUE=URI;X-ADDRESS=Rose Garden 701 State Drive Los Angeles CA 90037 United States;X-APPLE-RADIUS=500;X-TITLE=701 State Drive:geo:-118.2843696,34.0165246
END:VEVENT
BEGIN:VEVENT
DTSTART;TZID=America/Los_Angeles:20161028T160000
DTEND;TZID=America/Los_Angeles:20161028T210000
DTSTAMP:20260422T154659
CREATED:20160718T172109Z
LAST-MODIFIED:20160718T172109Z
UID:10044199-1477670400-1477688400@expositionpark.ca.gov
SUMMARY:Halloween Fun Fest
DESCRIPTION:
URL:https://expositionpark.ca.gov/event/halloween-fun-fest/
LOCATION:EXPO Center/ John C Argue Swim Stadium\, 3980 Bill Robertson Lane\, Los Angeles\, CA\, 90037\, United States
ORGANIZER;CN="Special Events":MAILTO:specialevents@nhm.org
GEO:34.0121136;-118.2900829
X-APPLE-STRUCTURED-LOCATION;VALUE=URI;X-ADDRESS=EXPO Center/ John C Argue Swim Stadium 3980 Bill Robertson Lane Los Angeles CA 90037 United States;X-APPLE-RADIUS=500;X-TITLE=3980 Bill Robertson Lane:geo:-118.2900829,34.0121136
END:VEVENT
BEGIN:VEVENT
DTSTART;TZID=America/Los_Angeles:20161022T130000
DTEND;TZID=America/Los_Angeles:20161022T160000
DTSTAMP:20260422T154659
CREATED:20160509T181011Z
LAST-MODIFIED:20160509T181011Z
UID:10043941-1477141200-1477152000@expositionpark.ca.gov
SUMMARY:Wedding
DESCRIPTION:
URL:https://expositionpark.ca.gov/event/wedding-32/
LOCATION:Rose Garden\, 701 State Drive\, Los Angeles\, CA\, 90037\, United States
ORGANIZER;CN="Special Events":MAILTO:specialevents@nhm.org
GEO:34.0165246;-118.2843696
X-APPLE-STRUCTURED-LOCATION;VALUE=URI;X-ADDRESS=Rose Garden 701 State Drive Los Angeles CA 90037 United States;X-APPLE-RADIUS=500;X-TITLE=701 State Drive:geo:-118.2843696,34.0165246
END:VEVENT
BEGIN:VEVENT
DTSTART;TZID=America/Los_Angeles:20160925T050000
DTEND;TZID=America/Los_Angeles:20160925T230000
DTSTAMP:20260422T154659
CREATED:20160201T230143Z
LAST-MODIFIED:20181016T205756Z
UID:10043634-1474779600-1474844400@expositionpark.ca.gov
SUMMARY:Dino Fest
DESCRIPTION:
URL:https://expositionpark.ca.gov/event/dino-fest-3/
LOCATION:Natural History Museum\, 900 Exposition Blvd\, Los Angeles\, CA\, 90037\, United States
ORGANIZER;CN="Special Events":MAILTO:specialevents@nhm.org
GEO:34.0170769;-118.2886818
X-APPLE-STRUCTURED-LOCATION;VALUE=URI;X-ADDRESS=Natural History Museum 900 Exposition Blvd Los Angeles CA 90037 United States;X-APPLE-RADIUS=500;X-TITLE=900 Exposition Blvd:geo:-118.2886818,34.0170769
END:VEVENT
BEGIN:VEVENT
DTSTART;TZID=America/Los_Angeles:20160917T140000
DTEND;TZID=America/Los_Angeles:20160917T160000
DTSTAMP:20260422T154659
CREATED:20160509T181009Z
LAST-MODIFIED:20160509T181009Z
UID:10043940-1474120800-1474128000@expositionpark.ca.gov
SUMMARY:Wedding
DESCRIPTION:
URL:https://expositionpark.ca.gov/event/wedding-31/
LOCATION:Rose Garden\, 701 State Drive\, Los Angeles\, CA\, 90037\, United States
ORGANIZER;CN="Special Events":MAILTO:specialevents@nhm.org
GEO:34.0165246;-118.2843696
X-APPLE-STRUCTURED-LOCATION;VALUE=URI;X-ADDRESS=Rose Garden 701 State Drive Los Angeles CA 90037 United States;X-APPLE-RADIUS=500;X-TITLE=701 State Drive:geo:-118.2843696,34.0165246
END:VEVENT
BEGIN:VEVENT
DTSTART;TZID=America/Los_Angeles:20160911T150000
DTEND;TZID=America/Los_Angeles:20160911T180000
DTSTAMP:20260422T154659
CREATED:20160509T171741Z
LAST-MODIFIED:20160509T171741Z
UID:10043938-1473606000-1473616800@expositionpark.ca.gov
SUMMARY:Wedding
DESCRIPTION:
URL:https://expositionpark.ca.gov/event/wedding-30/
LOCATION:Rose Garden\, 701 State Drive\, Los Angeles\, CA\, 90037\, United States
ORGANIZER;CN="Special Events":MAILTO:specialevents@nhm.org
GEO:34.0165246;-118.2843696
X-APPLE-STRUCTURED-LOCATION;VALUE=URI;X-ADDRESS=Rose Garden 701 State Drive Los Angeles CA 90037 United States;X-APPLE-RADIUS=500;X-TITLE=701 State Drive:geo:-118.2843696,34.0165246
END:VEVENT
BEGIN:VEVENT
DTSTART;TZID=America/Los_Angeles:20160831T153000
DTEND;TZID=America/Los_Angeles:20160831T170000
DTSTAMP:20260422T154659
CREATED:20160804T211949Z
LAST-MODIFIED:20160804T211949Z
UID:10044268-1472657400-1472662800@expositionpark.ca.gov
SUMMARY:Soccer For Success
DESCRIPTION:
URL:https://expositionpark.ca.gov/event/soccer-for-success/
LOCATION:EXPO Center\, 3980 Bill Robertson Lane\, Los Angeles\, CA\, 90037\, United States
ORGANIZER;CN="Special Events":MAILTO:specialevents@nhm.org
GEO:34.0121136;-118.2900829
X-APPLE-STRUCTURED-LOCATION;VALUE=URI;X-ADDRESS=EXPO Center 3980 Bill Robertson Lane Los Angeles CA 90037 United States;X-APPLE-RADIUS=500;X-TITLE=3980 Bill Robertson Lane:geo:-118.2900829,34.0121136
END:VEVENT
BEGIN:VEVENT
DTSTART;TZID=America/Los_Angeles:20160830T190000
DTEND;TZID=America/Los_Angeles:20160830T210000
DTSTAMP:20260422T154659
CREATED:20160822T171328Z
LAST-MODIFIED:20160822T175029Z
UID:10044320-1472583600-1472590800@expositionpark.ca.gov
SUMMARY:Vermont Sports Club
DESCRIPTION:
URL:https://expositionpark.ca.gov/event/vermont-sports-club-test/2016-08-30/
LOCATION:EXPO Center\, 3980 Bill Robertson Lane\, Los Angeles\, CA\, 90037\, United States
ORGANIZER;CN="Special Events":MAILTO:specialevents@nhm.org
GEO:34.0121136;-118.2900829
X-APPLE-STRUCTURED-LOCATION;VALUE=URI;X-ADDRESS=EXPO Center 3980 Bill Robertson Lane Los Angeles CA 90037 United States;X-APPLE-RADIUS=500;X-TITLE=3980 Bill Robertson Lane:geo:-118.2900829,34.0121136
END:VEVENT
BEGIN:VEVENT
DTSTART;TZID=America/Los_Angeles:20160825T190000
DTEND;TZID=America/Los_Angeles:20160825T210000
DTSTAMP:20260422T154659
CREATED:20160822T172357Z
LAST-MODIFIED:20160822T174505Z
UID:10044329-1472151600-1472158800@expositionpark.ca.gov
SUMMARY:Vermont Sports Club
DESCRIPTION:
URL:https://expositionpark.ca.gov/event/vermont-sports-club-test-2/2016-08-25/
LOCATION:EXPO Center\, 3980 Bill Robertson Lane\, Los Angeles\, CA\, 90037\, United States
ORGANIZER;CN="Special Events":MAILTO:specialevents@nhm.org
GEO:34.0121136;-118.2900829
X-APPLE-STRUCTURED-LOCATION;VALUE=URI;X-ADDRESS=EXPO Center 3980 Bill Robertson Lane Los Angeles CA 90037 United States;X-APPLE-RADIUS=500;X-TITLE=3980 Bill Robertson Lane:geo:-118.2900829,34.0121136
END:VEVENT
BEGIN:VEVENT
DTSTART;TZID=America/Los_Angeles:20160821T080000
DTEND;TZID=America/Los_Angeles:20160821T180000
DTSTAMP:20260422T154659
CREATED:20160804T211932Z
LAST-MODIFIED:20160804T211932Z
UID:10044243-1471766400-1471802400@expositionpark.ca.gov
SUMMARY:All Sports Health & Fitness Expo
DESCRIPTION:
URL:https://expositionpark.ca.gov/event/all-sports-health-fitness-expo/
LOCATION:EXPO Center/ John C Argue Swim Stadium\, 3980 Bill Robertson Lane\, Los Angeles\, CA\, 90037\, United States
ORGANIZER;CN="Special Events":MAILTO:specialevents@nhm.org
GEO:34.0121136;-118.2900829
X-APPLE-STRUCTURED-LOCATION;VALUE=URI;X-ADDRESS=EXPO Center/ John C Argue Swim Stadium 3980 Bill Robertson Lane Los Angeles CA 90037 United States;X-APPLE-RADIUS=500;X-TITLE=3980 Bill Robertson Lane:geo:-118.2900829,34.0121136
END:VEVENT
BEGIN:VEVENT
DTSTART;TZID=America/Los_Angeles:20160820T120000
DTEND;TZID=America/Los_Angeles:20160820T150000
DTSTAMP:20260422T154659
CREATED:20160509T171740Z
LAST-MODIFIED:20160509T171740Z
UID:10043937-1471694400-1471705200@expositionpark.ca.gov
SUMMARY:Wedding
DESCRIPTION:
URL:https://expositionpark.ca.gov/event/wedding-29/
LOCATION:Rose Garden\, 701 State Drive\, Los Angeles\, CA\, 90037\, United States
ORGANIZER;CN="Special Events":MAILTO:specialevents@nhm.org
GEO:34.0165246;-118.2843696
X-APPLE-STRUCTURED-LOCATION;VALUE=URI;X-ADDRESS=Rose Garden 701 State Drive Los Angeles CA 90037 United States;X-APPLE-RADIUS=500;X-TITLE=701 State Drive:geo:-118.2843696,34.0165246
END:VEVENT
BEGIN:VEVENT
DTSTART;TZID=America/Los_Angeles:20160819T170000
DTEND;TZID=America/Los_Angeles:20160819T200000
DTSTAMP:20260422T154659
CREATED:20160509T171738Z
LAST-MODIFIED:20160509T171738Z
UID:10043936-1471626000-1471636800@expositionpark.ca.gov
SUMMARY:Wedding
DESCRIPTION:
URL:https://expositionpark.ca.gov/event/wedding-28/
LOCATION:Rose Garden\, 701 State Drive\, Los Angeles\, CA\, 90037\, United States
ORGANIZER;CN="Special Events":MAILTO:specialevents@nhm.org
GEO:34.0165246;-118.2843696
X-APPLE-STRUCTURED-LOCATION;VALUE=URI;X-ADDRESS=Rose Garden 701 State Drive Los Angeles CA 90037 United States;X-APPLE-RADIUS=500;X-TITLE=701 State Drive:geo:-118.2843696,34.0165246
END:VEVENT
BEGIN:VEVENT
DTSTART;TZID=America/Los_Angeles:20160806T140000
DTEND;TZID=America/Los_Angeles:20160806T170000
DTSTAMP:20260422T154659
CREATED:20160509T181209Z
LAST-MODIFIED:20160509T181209Z
UID:10043946-1470492000-1470502800@expositionpark.ca.gov
SUMMARY:Wedding
DESCRIPTION:
URL:https://expositionpark.ca.gov/event/wedding-36/
LOCATION:Rose Garden\, 701 State Drive\, Los Angeles\, CA\, 90037\, United States
ORGANIZER;CN="Special Events":MAILTO:specialevents@nhm.org
GEO:34.0165246;-118.2843696
X-APPLE-STRUCTURED-LOCATION;VALUE=URI;X-ADDRESS=Rose Garden 701 State Drive Los Angeles CA 90037 United States;X-APPLE-RADIUS=500;X-TITLE=701 State Drive:geo:-118.2843696,34.0165246
END:VEVENT
BEGIN:VEVENT
DTSTART;TZID=America/Los_Angeles:20160723T153000
DTEND;TZID=America/Los_Angeles:20160723T183000
DTSTAMP:20260422T154659
CREATED:20160701T185813Z
LAST-MODIFIED:20160701T185813Z
UID:10043998-1469287800-1469298600@expositionpark.ca.gov
SUMMARY:Wedding Ceremony
DESCRIPTION:
URL:https://expositionpark.ca.gov/event/wedding-ceremony/
LOCATION:Rose Garden\, 701 State Drive\, Los Angeles\, CA\, 90037\, United States
ORGANIZER;CN="Special Events":MAILTO:specialevents@nhm.org
GEO:34.0165246;-118.2843696
X-APPLE-STRUCTURED-LOCATION;VALUE=URI;X-ADDRESS=Rose Garden 701 State Drive Los Angeles CA 90037 United States;X-APPLE-RADIUS=500;X-TITLE=701 State Drive:geo:-118.2843696,34.0165246
END:VEVENT
BEGIN:VEVENT
DTSTART;TZID=America/Los_Angeles:20160723T153000
DTEND;TZID=America/Los_Angeles:20160723T183000
DTSTAMP:20260422T154659
CREATED:20160509T171736Z
LAST-MODIFIED:20160509T171736Z
UID:10043935-1469287800-1469298600@expositionpark.ca.gov
SUMMARY:Wedding
DESCRIPTION:
URL:https://expositionpark.ca.gov/event/wedding-27/
LOCATION:Rose Garden\, 701 State Drive\, Los Angeles\, CA\, 90037\, United States
ORGANIZER;CN="Special Events":MAILTO:specialevents@nhm.org
GEO:34.0165246;-118.2843696
X-APPLE-STRUCTURED-LOCATION;VALUE=URI;X-ADDRESS=Rose Garden 701 State Drive Los Angeles CA 90037 United States;X-APPLE-RADIUS=500;X-TITLE=701 State Drive:geo:-118.2843696,34.0165246
END:VEVENT
BEGIN:VEVENT
DTSTART;TZID=America/Los_Angeles:20160723T140000
DTEND;TZID=America/Los_Angeles:20160723T180000
DTSTAMP:20260422T154659
CREATED:20160509T171733Z
LAST-MODIFIED:20160509T171733Z
UID:10043934-1469282400-1469296800@expositionpark.ca.gov
SUMMARY:Wedding
DESCRIPTION:
URL:https://expositionpark.ca.gov/event/wedding-26/
LOCATION:Rose Garden\, 701 State Drive\, Los Angeles\, CA\, 90037\, United States
ORGANIZER;CN="Special Events":MAILTO:specialevents@nhm.org
GEO:34.0165246;-118.2843696
X-APPLE-STRUCTURED-LOCATION;VALUE=URI;X-ADDRESS=Rose Garden 701 State Drive Los Angeles CA 90037 United States;X-APPLE-RADIUS=500;X-TITLE=701 State Drive:geo:-118.2843696,34.0165246
END:VEVENT
BEGIN:VEVENT
DTSTART;TZID=America/Los_Angeles:20160722T160000
DTEND;TZID=America/Los_Angeles:20160722T200000
DTSTAMP:20260422T154659
CREATED:20160509T171731Z
LAST-MODIFIED:20160509T171731Z
UID:10043933-1469203200-1469217600@expositionpark.ca.gov
SUMMARY:Wedding
DESCRIPTION:
URL:https://expositionpark.ca.gov/event/wedding-25/
LOCATION:Rose Garden\, 701 State Drive\, Los Angeles\, CA\, 90037\, United States
ORGANIZER;CN="Special Events":MAILTO:specialevents@nhm.org
GEO:34.0165246;-118.2843696
X-APPLE-STRUCTURED-LOCATION;VALUE=URI;X-ADDRESS=Rose Garden 701 State Drive Los Angeles CA 90037 United States;X-APPLE-RADIUS=500;X-TITLE=701 State Drive:geo:-118.2843696,34.0165246
END:VEVENT
BEGIN:VEVENT
DTSTART;TZID=America/Los_Angeles:20160709T090000
DTEND;TZID=America/Los_Angeles:20160709T220000
DTSTAMP:20260422T154659
CREATED:20160701T185852Z
LAST-MODIFIED:20160701T211023Z
UID:10043999-1468054800-1468101600@expositionpark.ca.gov
SUMMARY:L.A. Food Festival
DESCRIPTION:
URL:https://expositionpark.ca.gov/event/l-a-food-festival-2/
LOCATION:Rose Garden\, 701 State Drive\, Los Angeles\, CA\, 90037\, United States
ORGANIZER;CN="Special Events":MAILTO:specialevents@nhm.org
GEO:34.0165246;-118.2843696
X-APPLE-STRUCTURED-LOCATION;VALUE=URI;X-ADDRESS=Rose Garden 701 State Drive Los Angeles CA 90037 United States;X-APPLE-RADIUS=500;X-TITLE=701 State Drive:geo:-118.2843696,34.0165246
END:VEVENT
BEGIN:VEVENT
DTSTART;TZID=America/Los_Angeles:20160707T090000
DTEND;TZID=America/Los_Angeles:20160710T220000
DTSTAMP:20260422T154659
CREATED:20160509T171729Z
LAST-MODIFIED:20160701T211030Z
UID:10043932-1467882000-1468188000@expositionpark.ca.gov
SUMMARY:LA Food Fest
DESCRIPTION:
URL:https://expositionpark.ca.gov/event/la-food-fest-2/
LOCATION:Rose Garden\, 701 State Drive\, Los Angeles\, CA\, 90037\, United States
ORGANIZER;CN="Special Events":MAILTO:specialevents@nhm.org
GEO:34.0165246;-118.2843696
X-APPLE-STRUCTURED-LOCATION;VALUE=URI;X-ADDRESS=Rose Garden 701 State Drive Los Angeles CA 90037 United States;X-APPLE-RADIUS=500;X-TITLE=701 State Drive:geo:-118.2843696,34.0165246
END:VEVENT
BEGIN:VEVENT
DTSTART;TZID=America/Los_Angeles:20160707T090000
DTEND;TZID=America/Los_Angeles:20160707T220000
DTSTAMP:20260422T154659
CREATED:20160701T185809Z
LAST-MODIFIED:20160701T211037Z
UID:10043997-1467882000-1467928800@expositionpark.ca.gov
SUMMARY:L.A. Food Festival
DESCRIPTION:
URL:https://expositionpark.ca.gov/event/l-a-food-festival/
LOCATION:Rose Garden\, 701 State Drive\, Los Angeles\, CA\, 90037\, United States
ORGANIZER;CN="Special Events":MAILTO:specialevents@nhm.org
GEO:34.0165246;-118.2843696
X-APPLE-STRUCTURED-LOCATION;VALUE=URI;X-ADDRESS=Rose Garden 701 State Drive Los Angeles CA 90037 United States;X-APPLE-RADIUS=500;X-TITLE=701 State Drive:geo:-118.2843696,34.0165246
END:VEVENT
END:VCALENDAR