BEGIN:VCALENDAR
VERSION:2.0
PRODID:-//Exposition Park - ECPv6.15.20//NONSGML v1.0//EN
CALSCALE:GREGORIAN
METHOD:PUBLISH
X-ORIGINAL-URL:https://expositionpark.ca.gov
X-WR-CALDESC:Events for Exposition Park
REFRESH-INTERVAL;VALUE=DURATION:PT1H
X-Robots-Tag:noindex
X-PUBLISHED-TTL:PT1H
BEGIN:VTIMEZONE
TZID:America/Los_Angeles
BEGIN:DAYLIGHT
TZOFFSETFROM:-0800
TZOFFSETTO:-0700
TZNAME:PDT
DTSTART:20180311T100000
END:DAYLIGHT
BEGIN:STANDARD
TZOFFSETFROM:-0700
TZOFFSETTO:-0800
TZNAME:PST
DTSTART:20181104T090000
END:STANDARD
BEGIN:DAYLIGHT
TZOFFSETFROM:-0800
TZOFFSETTO:-0700
TZNAME:PDT
DTSTART:20190310T100000
END:DAYLIGHT
BEGIN:STANDARD
TZOFFSETFROM:-0700
TZOFFSETTO:-0800
TZNAME:PST
DTSTART:20191103T090000
END:STANDARD
BEGIN:DAYLIGHT
TZOFFSETFROM:-0800
TZOFFSETTO:-0700
TZNAME:PDT
DTSTART:20200308T100000
END:DAYLIGHT
BEGIN:STANDARD
TZOFFSETFROM:-0700
TZOFFSETTO:-0800
TZNAME:PST
DTSTART:20201101T090000
END:STANDARD
BEGIN:DAYLIGHT
TZOFFSETFROM:-0800
TZOFFSETTO:-0700
TZNAME:PDT
DTSTART:20210314T100000
END:DAYLIGHT
BEGIN:STANDARD
TZOFFSETFROM:-0700
TZOFFSETTO:-0800
TZNAME:PST
DTSTART:20211107T090000
END:STANDARD
BEGIN:DAYLIGHT
TZOFFSETFROM:-0800
TZOFFSETTO:-0700
TZNAME:PDT
DTSTART:20220313T100000
END:DAYLIGHT
BEGIN:STANDARD
TZOFFSETFROM:-0700
TZOFFSETTO:-0800
TZNAME:PST
DTSTART:20221106T090000
END:STANDARD
END:VTIMEZONE
BEGIN:VEVENT
DTSTART;TZID=America/Los_Angeles:20211016T083000
DTEND;TZID=America/Los_Angeles:20211016T113000
DTSTAMP:20260421T153955
CREATED:20210709T172746Z
LAST-MODIFIED:20210709T172746Z
UID:10052033-1634373000-1634383800@expositionpark.ca.gov
SUMMARY:Scuba Permit
DESCRIPTION:
URL:https://expositionpark.ca.gov/event/scuba-permit/2021-10-16/
LOCATION:EXPO Center / John C. Argue Swim Stadium\, CA\, United States
ORGANIZER;CN="Wendy Escobar":MAILTO:wendy.escobar@lacity.org
END:VEVENT
BEGIN:VEVENT
DTSTART;TZID=America/Los_Angeles:20211009T083000
DTEND;TZID=America/Los_Angeles:20211009T113000
DTSTAMP:20260421T153955
CREATED:20210709T172746Z
LAST-MODIFIED:20210709T172746Z
UID:10052032-1633768200-1633779000@expositionpark.ca.gov
SUMMARY:Scuba Permit
DESCRIPTION:
URL:https://expositionpark.ca.gov/event/scuba-permit/2021-10-09/
LOCATION:EXPO Center / John C. Argue Swim Stadium\, CA\, United States
ORGANIZER;CN="Wendy Escobar":MAILTO:wendy.escobar@lacity.org
END:VEVENT
BEGIN:VEVENT
DTSTART;TZID=America/Los_Angeles:20211002T083000
DTEND;TZID=America/Los_Angeles:20211002T113000
DTSTAMP:20260421T153955
CREATED:20210709T172746Z
LAST-MODIFIED:20210709T172746Z
UID:10052031-1633163400-1633174200@expositionpark.ca.gov
SUMMARY:Scuba Permit
DESCRIPTION:
URL:https://expositionpark.ca.gov/event/scuba-permit/2021-10-02/
LOCATION:EXPO Center / John C. Argue Swim Stadium\, CA\, United States
ORGANIZER;CN="Wendy Escobar":MAILTO:wendy.escobar@lacity.org
END:VEVENT
BEGIN:VEVENT
DTSTART;TZID=America/Los_Angeles:20210925T083000
DTEND;TZID=America/Los_Angeles:20210925T113000
DTSTAMP:20260421T153955
CREATED:20210709T172746Z
LAST-MODIFIED:20210709T172746Z
UID:10052030-1632558600-1632569400@expositionpark.ca.gov
SUMMARY:Scuba Permit
DESCRIPTION:
URL:https://expositionpark.ca.gov/event/scuba-permit/2021-09-25/
LOCATION:EXPO Center / John C. Argue Swim Stadium\, CA\, United States
ORGANIZER;CN="Wendy Escobar":MAILTO:wendy.escobar@lacity.org
END:VEVENT
BEGIN:VEVENT
DTSTART;TZID=America/Los_Angeles:20210918T093000
DTEND;TZID=America/Los_Angeles:20210918T133000
DTSTAMP:20260421T153955
CREATED:20210913T201341Z
LAST-MODIFIED:20210913T201341Z
UID:10053853-1631957400-1631971800@expositionpark.ca.gov
SUMMARY:EXPO Center Job Fair
DESCRIPTION:Los Angeles Class Parks and Universal Play hiring fair
URL:https://expositionpark.ca.gov/event/expo-center-job-fair/
ORGANIZER;CN="Wendy Escobar":MAILTO:wendy.escobar@lacity.org
END:VEVENT
BEGIN:VEVENT
DTSTART;TZID=America/Los_Angeles:20210918T083000
DTEND;TZID=America/Los_Angeles:20210918T113000
DTSTAMP:20260421T153955
CREATED:20210709T172746Z
LAST-MODIFIED:20210709T172746Z
UID:10052029-1631953800-1631964600@expositionpark.ca.gov
SUMMARY:Scuba Permit
DESCRIPTION:
URL:https://expositionpark.ca.gov/event/scuba-permit/2021-09-18/
LOCATION:EXPO Center / John C. Argue Swim Stadium\, CA\, United States
ORGANIZER;CN="Wendy Escobar":MAILTO:wendy.escobar@lacity.org
END:VEVENT
BEGIN:VEVENT
DTSTART;TZID=America/Los_Angeles:20210911T083000
DTEND;TZID=America/Los_Angeles:20210911T113000
DTSTAMP:20260421T153955
CREATED:20210709T172746Z
LAST-MODIFIED:20210709T172746Z
UID:10052028-1631349000-1631359800@expositionpark.ca.gov
SUMMARY:Scuba Permit
DESCRIPTION:
URL:https://expositionpark.ca.gov/event/scuba-permit/2021-09-11/
LOCATION:EXPO Center / John C. Argue Swim Stadium\, CA\, United States
ORGANIZER;CN="Wendy Escobar":MAILTO:wendy.escobar@lacity.org
END:VEVENT
BEGIN:VEVENT
DTSTART;TZID=America/Los_Angeles:20210904T083000
DTEND;TZID=America/Los_Angeles:20210904T113000
DTSTAMP:20260421T153955
CREATED:20210709T172746Z
LAST-MODIFIED:20210709T172746Z
UID:10052027-1630744200-1630755000@expositionpark.ca.gov
SUMMARY:Scuba Permit
DESCRIPTION:
URL:https://expositionpark.ca.gov/event/scuba-permit/2021-09-04/
LOCATION:EXPO Center / John C. Argue Swim Stadium\, CA\, United States
ORGANIZER;CN="Wendy Escobar":MAILTO:wendy.escobar@lacity.org
END:VEVENT
BEGIN:VEVENT
DTSTART;TZID=America/Los_Angeles:20210828T083000
DTEND;TZID=America/Los_Angeles:20210828T113000
DTSTAMP:20260421T153955
CREATED:20210709T172746Z
LAST-MODIFIED:20210709T172746Z
UID:10052026-1630139400-1630150200@expositionpark.ca.gov
SUMMARY:Scuba Permit
DESCRIPTION:
URL:https://expositionpark.ca.gov/event/scuba-permit/2021-08-28/
LOCATION:EXPO Center / John C. Argue Swim Stadium\, CA\, United States
ORGANIZER;CN="Wendy Escobar":MAILTO:wendy.escobar@lacity.org
END:VEVENT
BEGIN:VEVENT
DTSTART;TZID=America/Los_Angeles:20210821T083000
DTEND;TZID=America/Los_Angeles:20210821T113000
DTSTAMP:20260421T153955
CREATED:20210709T172746Z
LAST-MODIFIED:20210709T172746Z
UID:10052025-1629534600-1629545400@expositionpark.ca.gov
SUMMARY:Scuba Permit
DESCRIPTION:
URL:https://expositionpark.ca.gov/event/scuba-permit/2021-08-21/
LOCATION:EXPO Center / John C. Argue Swim Stadium\, CA\, United States
ORGANIZER;CN="Wendy Escobar":MAILTO:wendy.escobar@lacity.org
END:VEVENT
BEGIN:VEVENT
DTSTART;TZID=America/Los_Angeles:20210814T083000
DTEND;TZID=America/Los_Angeles:20210814T113000
DTSTAMP:20260421T153955
CREATED:20210709T172746Z
LAST-MODIFIED:20210709T172746Z
UID:10052024-1628929800-1628940600@expositionpark.ca.gov
SUMMARY:Scuba Permit
DESCRIPTION:
URL:https://expositionpark.ca.gov/event/scuba-permit/2021-08-14/
LOCATION:EXPO Center / John C. Argue Swim Stadium\, CA\, United States
ORGANIZER;CN="Wendy Escobar":MAILTO:wendy.escobar@lacity.org
END:VEVENT
BEGIN:VEVENT
DTSTART;TZID=America/Los_Angeles:20210807T083000
DTEND;TZID=America/Los_Angeles:20210807T113000
DTSTAMP:20260421T153955
CREATED:20210709T172746Z
LAST-MODIFIED:20210709T172746Z
UID:10052023-1628325000-1628335800@expositionpark.ca.gov
SUMMARY:Scuba Permit
DESCRIPTION:
URL:https://expositionpark.ca.gov/event/scuba-permit/2021-08-07/
LOCATION:EXPO Center / John C. Argue Swim Stadium\, CA\, United States
ORGANIZER;CN="Wendy Escobar":MAILTO:wendy.escobar@lacity.org
END:VEVENT
BEGIN:VEVENT
DTSTART;TZID=America/Los_Angeles:20210807T080000
DTEND;TZID=America/Los_Angeles:20210807T140000
DTSTAMP:20260421T153955
CREATED:20210804T063130Z
LAST-MODIFIED:20210804T063130Z
UID:10053824-1628323200-1628344800@expositionpark.ca.gov
SUMMARY:Lifeguard Test for new hires
DESCRIPTION:
URL:https://expositionpark.ca.gov/event/lifeguard-test-for-new-hires/
LOCATION:EXPO Center / John C. Argue Swim Stadium\, CA\, United States
ORGANIZER;CN="Wendy Escobar":MAILTO:wendy.escobar@lacity.org
END:VEVENT
BEGIN:VEVENT
DTSTART;TZID=America/Los_Angeles:20210731T083000
DTEND;TZID=America/Los_Angeles:20210731T113000
DTSTAMP:20260421T153955
CREATED:20210709T172746Z
LAST-MODIFIED:20210709T172746Z
UID:10052022-1627720200-1627731000@expositionpark.ca.gov
SUMMARY:Scuba Permit
DESCRIPTION:
URL:https://expositionpark.ca.gov/event/scuba-permit/2021-07-31/
LOCATION:EXPO Center / John C. Argue Swim Stadium\, CA\, United States
ORGANIZER;CN="Wendy Escobar":MAILTO:wendy.escobar@lacity.org
END:VEVENT
BEGIN:VEVENT
DTSTART;TZID=America/Los_Angeles:20210724T083000
DTEND;TZID=America/Los_Angeles:20210724T113000
DTSTAMP:20260421T153955
CREATED:20210709T172746Z
LAST-MODIFIED:20210709T172746Z
UID:10052021-1627115400-1627126200@expositionpark.ca.gov
SUMMARY:Scuba Permit
DESCRIPTION:
URL:https://expositionpark.ca.gov/event/scuba-permit/2021-07-24/
LOCATION:EXPO Center / John C. Argue Swim Stadium\, CA\, United States
ORGANIZER;CN="Wendy Escobar":MAILTO:wendy.escobar@lacity.org
END:VEVENT
BEGIN:VEVENT
DTSTART;TZID=America/Los_Angeles:20210717T083000
DTEND;TZID=America/Los_Angeles:20210717T113000
DTSTAMP:20260421T153955
CREATED:20210709T172746Z
LAST-MODIFIED:20210709T172746Z
UID:10052020-1626510600-1626521400@expositionpark.ca.gov
SUMMARY:Scuba Permit
DESCRIPTION:
URL:https://expositionpark.ca.gov/event/scuba-permit/2021-07-17/
LOCATION:EXPO Center / John C. Argue Swim Stadium\, CA\, United States
ORGANIZER;CN="Wendy Escobar":MAILTO:wendy.escobar@lacity.org
END:VEVENT
BEGIN:VEVENT
DTSTART;TZID=America/Los_Angeles:20210715T090000
DTEND;TZID=America/Los_Angeles:20210715T110000
DTSTAMP:20260421T153955
CREATED:20210715T173214Z
LAST-MODIFIED:20210715T173214Z
UID:10053789-1626339600-1626346800@expositionpark.ca.gov
SUMMARY:Lifeguard Swim rechecks
DESCRIPTION:
URL:https://expositionpark.ca.gov/event/lifeguard-swim-rechecks/
LOCATION:EXPO Center / John C. Argue Swim Stadium\, CA\, United States
ORGANIZER;CN="Wendy Escobar":MAILTO:wendy.escobar@lacity.org
END:VEVENT
BEGIN:VEVENT
DTSTART;TZID=America/Los_Angeles:20210711T070000
DTEND;TZID=America/Los_Angeles:20210711T130000
DTSTAMP:20260421T153955
CREATED:20210630T214709Z
LAST-MODIFIED:20210630T214709Z
UID:10052011-1625986800-1626008400@expositionpark.ca.gov
SUMMARY:CWA Summer coaches training
DESCRIPTION:Coaches training will be conducted in all swim tanks
URL:https://expositionpark.ca.gov/event/cwa-summer-coaches-training/
LOCATION:EXPO Center / John C. Argue Swim Stadium\, CA\, United States
ORGANIZER;CN="Wendy Escobar":MAILTO:wendy.escobar@lacity.org
END:VEVENT
BEGIN:VEVENT
DTSTART;TZID=America/Los_Angeles:20210710T083000
DTEND;TZID=America/Los_Angeles:20210710T113000
DTSTAMP:20260421T153955
CREATED:20210709T172746Z
LAST-MODIFIED:20210709T172746Z
UID:10052019-1625905800-1625916600@expositionpark.ca.gov
SUMMARY:Scuba Permit
DESCRIPTION:
URL:https://expositionpark.ca.gov/event/scuba-permit/2021-07-10/
LOCATION:EXPO Center / John C. Argue Swim Stadium\, CA\, United States
ORGANIZER;CN="Wendy Escobar":MAILTO:wendy.escobar@lacity.org
END:VEVENT
BEGIN:VEVENT
DTSTART;TZID=America/Los_Angeles:20191116T070000
DTEND;TZID=America/Los_Angeles:20191116T140000
DTSTAMP:20260421T153955
CREATED:20191112T184127Z
LAST-MODIFIED:20191112T184127Z
UID:10053286-1573887600-1573912800@expositionpark.ca.gov
SUMMARY:Team Swim La Swim Meet
DESCRIPTION:City of Los Angeles Novice Swim Meet
URL:https://expositionpark.ca.gov/event/team-swim-la-swim-meet/
LOCATION:EXPO Center / John C. Argue Swim Stadium\, CA\, United States
ORGANIZER;CN="Wendy Escobar":MAILTO:wendy.escobar@lacity.org
END:VEVENT
BEGIN:VEVENT
DTSTART;TZID=America/Los_Angeles:20191006T090000
DTEND;TZID=America/Los_Angeles:20191006T133000
DTSTAMP:20260421T153955
CREATED:20191004T160524Z
LAST-MODIFIED:20191004T160524Z
UID:10051542-1570352400-1570368600@expositionpark.ca.gov
SUMMARY:New Lifeguard Testing
DESCRIPTION:
URL:https://expositionpark.ca.gov/event/new-lifeguard-testing/
LOCATION:EXPO Center / John C. Argue Swim Stadium\, CA\, United States
ORGANIZER;CN="Wendy Escobar":MAILTO:wendy.escobar@lacity.org
END:VEVENT
BEGIN:VEVENT
DTSTART;TZID=America/Los_Angeles:20190512T073000
DTEND;TZID=America/Los_Angeles:20190512T143000
DTSTAMP:20260421T153955
CREATED:20190117T010937Z
LAST-MODIFIED:20190117T010937Z
UID:10052582-1557646200-1557671400@expositionpark.ca.gov
SUMMARY:Aquatics New Pool Clerk Training
DESCRIPTION:Aquatics New Pool Clerk Training
URL:https://expositionpark.ca.gov/event/aquatics-new-pool-clerk-training-2/
LOCATION:EXPO Center / Community (Comrie) Hall\, 3980 Bill Robertson Lane - 2nd Floor\, Los Angeles\, CA\, 90037\, United States
ORGANIZER;CN="Wendy Escobar":MAILTO:wendy.escobar@lacity.org
END:VEVENT
BEGIN:VEVENT
DTSTART;TZID=America/Los_Angeles:20190511T080000
DTEND;TZID=America/Los_Angeles:20190511T170000
DTSTAMP:20260421T153955
CREATED:20190409T182501Z
LAST-MODIFIED:20190409T182501Z
UID:10051278-1557561600-1557594000@expositionpark.ca.gov
SUMMARY:Lifeguard Academy #2 Graduation
DESCRIPTION:Lifeguard Training Academy
URL:https://expositionpark.ca.gov/event/lifeguard-academy-2-graduation/
LOCATION:EXPO Center / John C. Argue Swim Stadium\, CA\, United States
ORGANIZER;CN="Wendy Escobar":MAILTO:wendy.escobar@lacity.org
END:VEVENT
BEGIN:VEVENT
DTSTART;TZID=America/Los_Angeles:20190505T080000
DTEND;TZID=America/Los_Angeles:20190505T180000
DTSTAMP:20260421T153955
CREATED:20190408T230845Z
LAST-MODIFIED:20190408T230845Z
UID:10052847-1557043200-1557079200@expositionpark.ca.gov
SUMMARY:La City Water Polo Championships
DESCRIPTION:La City Wide Aquatics Water polo champs
URL:https://expositionpark.ca.gov/event/la-city-water-polo-championships/
LOCATION:EXPO Center / John C. Argue Swim Stadium\, CA\, United States
ORGANIZER;CN="Wendy Escobar":MAILTO:wendy.escobar@lacity.org
END:VEVENT
BEGIN:VEVENT
DTSTART;TZID=America/Los_Angeles:20190504T090000
DTEND;TZID=America/Los_Angeles:20190504T160000
DTSTAMP:20260421T153955
CREATED:20190408T230829Z
LAST-MODIFIED:20190408T230829Z
UID:10052843-1556960400-1556985600@expositionpark.ca.gov
SUMMARY:City Wide Aquatics Artistic Swimming Championships
DESCRIPTION:La City Novice Synchronize Swimming Championship
URL:https://expositionpark.ca.gov/event/city-wide-aquatics-artistic-swimming-championships/
LOCATION:EXPO Center / John C. Argue Swim Stadium\, CA\, United States
ORGANIZER;CN="Wendy Escobar":MAILTO:wendy.escobar@lacity.org
END:VEVENT
BEGIN:VEVENT
DTSTART;TZID=America/Los_Angeles:20190504T073000
DTEND;TZID=America/Los_Angeles:20190504T173000
DTSTAMP:20260421T153955
CREATED:20190408T230859Z
LAST-MODIFIED:20190408T230859Z
UID:10051276-1556955000-1556991000@expositionpark.ca.gov
SUMMARY:Lifeguard Academy #2
DESCRIPTION:Lifeguard Academy Training
URL:https://expositionpark.ca.gov/event/lifeguard-academy-2-9/
LOCATION:EXPO Center / John C. Argue Swim Stadium\, CA\, United States
ORGANIZER;CN="Wendy Escobar":MAILTO:wendy.escobar@lacity.org
END:VEVENT
BEGIN:VEVENT
DTSTART;TZID=America/Los_Angeles:20190503T120000
DTEND;TZID=America/Los_Angeles:20190503T180000
DTSTAMP:20260421T153955
CREATED:20190408T154340Z
LAST-MODIFIED:20190408T154340Z
UID:10052835-1556884800-1556906400@expositionpark.ca.gov
SUMMARY:CIF La City Section Swim Meet
DESCRIPTION:CIF La City Section  High School Swim Meet
URL:https://expositionpark.ca.gov/event/cif-la-city-section-swim-meet-2/
LOCATION:EXPO Center / John C. Argue Swim Stadium\, CA\, United States
ORGANIZER;CN="Wendy Escobar":MAILTO:wendy.escobar@lacity.org
END:VEVENT
BEGIN:VEVENT
DTSTART;TZID=America/Los_Angeles:20190501T120000
DTEND;TZID=America/Los_Angeles:20190501T180000
DTSTAMP:20260421T153955
CREATED:20190408T154328Z
LAST-MODIFIED:20190408T154328Z
UID:10052834-1556712000-1556733600@expositionpark.ca.gov
SUMMARY:CIF La City Section Swim Meet
DESCRIPTION:La City Section High School Swim Meet
URL:https://expositionpark.ca.gov/event/cif-la-city-section-swim-meet/
LOCATION:EXPO Center / John C. Argue Swim Stadium\, CA\, United States
ORGANIZER;CN="Wendy Escobar":MAILTO:wendy.escobar@lacity.org
END:VEVENT
BEGIN:VEVENT
DTSTART;TZID=America/Los_Angeles:20190428T073000
DTEND;TZID=America/Los_Angeles:20190428T173000
DTSTAMP:20260421T153955
CREATED:20190408T154221Z
LAST-MODIFIED:20190408T154221Z
UID:10052833-1556436600-1556472600@expositionpark.ca.gov
SUMMARY:Lifeguard Academy #2
DESCRIPTION:Lifeguard Academy Training
URL:https://expositionpark.ca.gov/event/lifeguard-academy-2-8/
LOCATION:EXPO Center / John C. Argue Swim Stadium\, CA\, United States
ORGANIZER;CN="Wendy Escobar":MAILTO:wendy.escobar@lacity.org
END:VEVENT
BEGIN:VEVENT
DTSTART;TZID=America/Los_Angeles:20190428T073000
DTEND;TZID=America/Los_Angeles:20190428T143000
DTSTAMP:20260421T153955
CREATED:20190117T011016Z
LAST-MODIFIED:20190117T011016Z
UID:10052584-1556436600-1556461800@expositionpark.ca.gov
SUMMARY:Aquatics New Pool Clerks Training
DESCRIPTION:Aquatics New Pool Clerks Training
URL:https://expositionpark.ca.gov/event/aquatics-new-pool-clerks-training/
LOCATION:EXPO Center / Community (Comrie) Hall\, 3980 Bill Robertson Lane - 2nd Floor\, Los Angeles\, CA\, 90037\, United States
ORGANIZER;CN="Wendy Escobar":MAILTO:wendy.escobar@lacity.org
END:VEVENT
END:VCALENDAR