BEGIN:VCALENDAR
VERSION:2.0
PRODID:-//Exposition Park - ECPv6.15.20//NONSGML v1.0//EN
CALSCALE:GREGORIAN
METHOD:PUBLISH
X-WR-CALNAME:Exposition Park
X-ORIGINAL-URL:https://expositionpark.ca.gov
X-WR-CALDESC:Events for Exposition Park
REFRESH-INTERVAL;VALUE=DURATION:PT1H
X-Robots-Tag:noindex
X-PUBLISHED-TTL:PT1H
BEGIN:VTIMEZONE
TZID:America/Los_Angeles
BEGIN:DAYLIGHT
TZOFFSETFROM:-0800
TZOFFSETTO:-0700
TZNAME:PDT
DTSTART:20180311T100000
END:DAYLIGHT
BEGIN:STANDARD
TZOFFSETFROM:-0700
TZOFFSETTO:-0800
TZNAME:PST
DTSTART:20181104T090000
END:STANDARD
BEGIN:DAYLIGHT
TZOFFSETFROM:-0800
TZOFFSETTO:-0700
TZNAME:PDT
DTSTART:20190310T100000
END:DAYLIGHT
BEGIN:STANDARD
TZOFFSETFROM:-0700
TZOFFSETTO:-0800
TZNAME:PST
DTSTART:20191103T090000
END:STANDARD
BEGIN:DAYLIGHT
TZOFFSETFROM:-0800
TZOFFSETTO:-0700
TZNAME:PDT
DTSTART:20200308T100000
END:DAYLIGHT
BEGIN:STANDARD
TZOFFSETFROM:-0700
TZOFFSETTO:-0800
TZNAME:PST
DTSTART:20201101T090000
END:STANDARD
END:VTIMEZONE
BEGIN:VEVENT
DTSTART;TZID=America/Los_Angeles:20190621T080000
DTEND;TZID=America/Los_Angeles:20190621T170000
DTSTAMP:20260423T141735
CREATED:20190614T222840Z
LAST-MODIFIED:20190614T222840Z
UID:10053076-1561104000-1561136400@expositionpark.ca.gov
SUMMARY:NHM Summer Camp - Adventures in Nature (AIN)
DESCRIPTION:Week #1 \nChildren in grades K through 8 have the opportunity to explore a wide variety of museum topics—Earth’s features\, creatures\, and cultures from around the globe. Enroll your children in our hands-on\, interactive classes and they will learn about fascinating topics through active encounters that spark children’s natural curiosity and creativity. \nRegistration is open for Summer 2019!
URL:https://expositionpark.ca.gov/event/nhm-summer-camp-adventures-in-nature-ain/2019-06-21/
LOCATION:CA\, United States
ORGANIZER;CN="Christina Kastely":MAILTO:ckastely@nhm.org
END:VEVENT
BEGIN:VEVENT
DTSTART;TZID=America/Los_Angeles:20190620T080000
DTEND;TZID=America/Los_Angeles:20190620T170000
DTSTAMP:20260423T141735
CREATED:20190614T222840Z
LAST-MODIFIED:20190614T222840Z
UID:10053075-1561017600-1561050000@expositionpark.ca.gov
SUMMARY:NHM Summer Camp - Adventures in Nature (AIN)
DESCRIPTION:Week #1 \nChildren in grades K through 8 have the opportunity to explore a wide variety of museum topics—Earth’s features\, creatures\, and cultures from around the globe. Enroll your children in our hands-on\, interactive classes and they will learn about fascinating topics through active encounters that spark children’s natural curiosity and creativity. \nRegistration is open for Summer 2019!
URL:https://expositionpark.ca.gov/event/nhm-summer-camp-adventures-in-nature-ain/2019-06-20/
LOCATION:CA\, United States
ORGANIZER;CN="Christina Kastely":MAILTO:ckastely@nhm.org
END:VEVENT
BEGIN:VEVENT
DTSTART;TZID=America/Los_Angeles:20190619T080000
DTEND;TZID=America/Los_Angeles:20190619T170000
DTSTAMP:20260423T141735
CREATED:20190614T222840Z
LAST-MODIFIED:20190614T222840Z
UID:10053074-1560931200-1560963600@expositionpark.ca.gov
SUMMARY:NHM Summer Camp - Adventures in Nature (AIN)
DESCRIPTION:Week #1 \nChildren in grades K through 8 have the opportunity to explore a wide variety of museum topics—Earth’s features\, creatures\, and cultures from around the globe. Enroll your children in our hands-on\, interactive classes and they will learn about fascinating topics through active encounters that spark children’s natural curiosity and creativity. \nRegistration is open for Summer 2019!
URL:https://expositionpark.ca.gov/event/nhm-summer-camp-adventures-in-nature-ain/2019-06-19/
LOCATION:CA\, United States
ORGANIZER;CN="Christina Kastely":MAILTO:ckastely@nhm.org
END:VEVENT
BEGIN:VEVENT
DTSTART;TZID=America/Los_Angeles:20190618T080000
DTEND;TZID=America/Los_Angeles:20190618T170000
DTSTAMP:20260423T141735
CREATED:20190614T222840Z
LAST-MODIFIED:20190614T222840Z
UID:10053073-1560844800-1560877200@expositionpark.ca.gov
SUMMARY:NHM Summer Camp - Adventures in Nature (AIN)
DESCRIPTION:Week #1 \nChildren in grades K through 8 have the opportunity to explore a wide variety of museum topics—Earth’s features\, creatures\, and cultures from around the globe. Enroll your children in our hands-on\, interactive classes and they will learn about fascinating topics through active encounters that spark children’s natural curiosity and creativity. \nRegistration is open for Summer 2019!
URL:https://expositionpark.ca.gov/event/nhm-summer-camp-adventures-in-nature-ain/2019-06-18/
LOCATION:CA\, United States
ORGANIZER;CN="Christina Kastely":MAILTO:ckastely@nhm.org
END:VEVENT
BEGIN:VEVENT
DTSTART;TZID=America/Los_Angeles:20190617T080000
DTEND;TZID=America/Los_Angeles:20190617T170000
DTSTAMP:20260423T141735
CREATED:20190614T222840Z
LAST-MODIFIED:20190614T222840Z
UID:10053072-1560758400-1560790800@expositionpark.ca.gov
SUMMARY:NHM Summer Camp - Adventures in Nature (AIN)
DESCRIPTION:Week #1 \nChildren in grades K through 8 have the opportunity to explore a wide variety of museum topics—Earth’s features\, creatures\, and cultures from around the globe. Enroll your children in our hands-on\, interactive classes and they will learn about fascinating topics through active encounters that spark children’s natural curiosity and creativity. \nRegistration is open for Summer 2019!
URL:https://expositionpark.ca.gov/event/nhm-summer-camp-adventures-in-nature-ain/2019-06-17/
LOCATION:CA\, United States
ORGANIZER;CN="Christina Kastely":MAILTO:ckastely@nhm.org
END:VEVENT
END:VCALENDAR