BEGIN:VCALENDAR
VERSION:2.0
PRODID:-//Exposition Park - ECPv6.15.20//NONSGML v1.0//EN
CALSCALE:GREGORIAN
METHOD:PUBLISH
X-ORIGINAL-URL:https://expositionpark.ca.gov
X-WR-CALDESC:Events for Exposition Park
REFRESH-INTERVAL;VALUE=DURATION:PT1H
X-Robots-Tag:noindex
X-PUBLISHED-TTL:PT1H
BEGIN:VTIMEZONE
TZID:America/Los_Angeles
BEGIN:DAYLIGHT
TZOFFSETFROM:-0800
TZOFFSETTO:-0700
TZNAME:PDT
DTSTART:20190310T100000
END:DAYLIGHT
BEGIN:STANDARD
TZOFFSETFROM:-0700
TZOFFSETTO:-0800
TZNAME:PST
DTSTART:20191103T090000
END:STANDARD
BEGIN:DAYLIGHT
TZOFFSETFROM:-0800
TZOFFSETTO:-0700
TZNAME:PDT
DTSTART:20200308T100000
END:DAYLIGHT
BEGIN:STANDARD
TZOFFSETFROM:-0700
TZOFFSETTO:-0800
TZNAME:PST
DTSTART:20201101T090000
END:STANDARD
BEGIN:DAYLIGHT
TZOFFSETFROM:-0800
TZOFFSETTO:-0700
TZNAME:PDT
DTSTART:20210314T100000
END:DAYLIGHT
BEGIN:STANDARD
TZOFFSETFROM:-0700
TZOFFSETTO:-0800
TZNAME:PST
DTSTART:20211107T090000
END:STANDARD
END:VTIMEZONE
BEGIN:VEVENT
DTSTART;TZID=America/Los_Angeles:20200222T140000
DTEND;TZID=America/Los_Angeles:20200222T160000
DTSTAMP:20260422T224234
CREATED:20200107T185139Z
LAST-MODIFIED:20200107T185139Z
UID:10051602-1582380000-1582387200@expositionpark.ca.gov
SUMMARY:CAAM: Zines workshop
DESCRIPTION:In Timothy Washington: Citizen/Ship\, the artist’s wall-length collage represents people\, places\, and events that he’s taking on an interstellar journey. Using the art form of zines and collage\, join Able ARTS Work—a nonprofit offering opportunities in the creative arts for people of all abilities—to make a statement about someone or\nsomething you feel strongly about and would like to share with worlds beyond. Ages 6\nand up.
URL:https://expositionpark.ca.gov/event/caam-zines-workshop/
LOCATION:CA\, United States
END:VEVENT
END:VCALENDAR