BEGIN:VCALENDAR
VERSION:2.0
PRODID:-//Exposition Park - ECPv6.15.20//NONSGML v1.0//EN
CALSCALE:GREGORIAN
METHOD:PUBLISH
X-ORIGINAL-URL:https://expositionpark.ca.gov
X-WR-CALDESC:Events for Exposition Park
REFRESH-INTERVAL;VALUE=DURATION:PT1H
X-Robots-Tag:noindex
X-PUBLISHED-TTL:PT1H
BEGIN:VTIMEZONE
TZID:America/Los_Angeles
BEGIN:DAYLIGHT
TZOFFSETFROM:-0800
TZOFFSETTO:-0700
TZNAME:PDT
DTSTART:20220313T100000
END:DAYLIGHT
BEGIN:STANDARD
TZOFFSETFROM:-0700
TZOFFSETTO:-0800
TZNAME:PST
DTSTART:20221106T090000
END:STANDARD
BEGIN:DAYLIGHT
TZOFFSETFROM:-0800
TZOFFSETTO:-0700
TZNAME:PDT
DTSTART:20230312T100000
END:DAYLIGHT
BEGIN:STANDARD
TZOFFSETFROM:-0700
TZOFFSETTO:-0800
TZNAME:PST
DTSTART:20231105T090000
END:STANDARD
BEGIN:DAYLIGHT
TZOFFSETFROM:-0800
TZOFFSETTO:-0700
TZNAME:PDT
DTSTART:20240310T100000
END:DAYLIGHT
BEGIN:STANDARD
TZOFFSETFROM:-0700
TZOFFSETTO:-0800
TZNAME:PST
DTSTART:20241103T090000
END:STANDARD
END:VTIMEZONE
BEGIN:VEVENT
DTSTART;VALUE=DATE:20230325
DTEND;VALUE=DATE:20230326
DTSTAMP:20260421T115310
CREATED:20230117T204906Z
LAST-MODIFIED:20230124T191645Z
UID:10054392-1679702400-1679788799@expositionpark.ca.gov
SUMMARY:LAFC vs FC Dallas
DESCRIPTION:This is an MLS regular season match. \nKO at 7:30 PM \nMore details HERE
URL:https://expositionpark.ca.gov/event/lafc-vs-fc-dallas-3/
LOCATION:BMO Stadium\, 3939 S Figueroa St\,\, Los Angeles\,\, CA\, 90037\, United States
END:VEVENT
BEGIN:VEVENT
DTSTART;TZID=America/Los_Angeles:20230322T200000
DTEND;TZID=America/Los_Angeles:20230322T223000
DTSTAMP:20260421T115310
CREATED:20230209T220443Z
LAST-MODIFIED:20230209T220443Z
UID:10054436-1679515200-1679524200@expositionpark.ca.gov
SUMMARY:El Salvador vs Honduras
DESCRIPTION:AGM Sport Inc presents the international friendly match El Salvador vs Honduras. \nKick Off at 8:00 PM \nMore details HERE
URL:https://expositionpark.ca.gov/event/el-salvador-vs-honduras/
LOCATION:BMO Stadium\, 3939 S Figueroa St\,\, Los Angeles\,\, CA\, 90037\, United States
END:VEVENT
BEGIN:VEVENT
DTSTART;VALUE=DATE:20230315
DTEND;VALUE=DATE:20230316
DTSTAMP:20260421T115310
CREATED:20230117T204828Z
LAST-MODIFIED:20230201T000901Z
UID:10054391-1678838400-1678924799@expositionpark.ca.gov
SUMMARY:LAFC vs L.D. Alajuelense
DESCRIPTION:This is a CONCACAF Champions League match. \nKO at 7:30 PM \nMore details HERE
URL:https://expositionpark.ca.gov/event/lafc-vs-l-d-alajuelense/
LOCATION:BMO Stadium\, 3939 S Figueroa St\,\, Los Angeles\,\, CA\, 90037\, United States
END:VEVENT
BEGIN:VEVENT
DTSTART;VALUE=DATE:20230312
DTEND;VALUE=DATE:20230313
DTSTAMP:20260421T115310
CREATED:20230117T204704Z
LAST-MODIFIED:20230124T191425Z
UID:10054390-1678579200-1678665599@expositionpark.ca.gov
SUMMARY:LAFC vs New England Revolution
DESCRIPTION:This is an MLS regular season match. \nKO at 7:30 PM \nMore details HERE
URL:https://expositionpark.ca.gov/event/lafc-vs-new-england-revolution-2/
LOCATION:BMO Stadium\, 3939 S Figueroa St\,\, Los Angeles\,\, CA\, 90037\, United States
END:VEVENT
BEGIN:VEVENT
DTSTART;TZID=America/Los_Angeles:20230308T193000
DTEND;TZID=America/Los_Angeles:20230308T213000
DTSTAMP:20260421T115310
CREATED:20230222T204136Z
LAST-MODIFIED:20230222T204136Z
UID:10054457-1678303800-1678311000@expositionpark.ca.gov
SUMMARY:Angel City FC vs. Club América
DESCRIPTION:This is a pre-season international friendly match between Angel City FC and Club América. \nKick Off at 7:30PM \n 
URL:https://expositionpark.ca.gov/event/angel-city-fc-vs-club-america/
LOCATION:BMO Stadium\, 3939 S Figueroa St\,\, Los Angeles\,\, CA\, 90037\, United States
END:VEVENT
BEGIN:VEVENT
DTSTART;VALUE=DATE:20230304
DTEND;VALUE=DATE:20230305
DTSTAMP:20260421T115310
CREATED:20230117T204636Z
LAST-MODIFIED:20230124T191322Z
UID:10054389-1677888000-1677974399@expositionpark.ca.gov
SUMMARY:LAFC vs Portland Timbers
DESCRIPTION:This is an MLS Regular Season game. \nKO at 1:30 PM \nMore details HERE \n 
URL:https://expositionpark.ca.gov/event/lafc-vs-portland-timbers-6/
LOCATION:BMO Stadium\, 3939 S Figueroa St\,\, Los Angeles\,\, CA\, 90037\, United States
END:VEVENT
BEGIN:VEVENT
DTSTART;TZID=America/Los_Angeles:20230218T170000
DTEND;TZID=America/Los_Angeles:20230218T190000
DTSTAMP:20260421T115310
CREATED:20230216T215739Z
LAST-MODIFIED:20230216T215739Z
UID:10052754-1676739600-1676746800@expositionpark.ca.gov
SUMMARY:LAFC vs. San Diego Loyal SC
DESCRIPTION:This is a MLS Preseason match. \nKick Off at 5:00 PM
URL:https://expositionpark.ca.gov/event/lafc-vs-san-diego-loyal-sc/
LOCATION:BMO Stadium\, 3939 S Figueroa St\,\, Los Angeles\,\, CA\, 90037\, United States
END:VEVENT
BEGIN:VEVENT
DTSTART;VALUE=DATE:20230125
DTEND;VALUE=DATE:20230126
DTSTAMP:20260421T115310
CREATED:20221104T172302Z
LAST-MODIFIED:20230124T190757Z
UID:10052659-1674604800-1674691199@expositionpark.ca.gov
SUMMARY:USMNT vs Serbia
DESCRIPTION:Doors: TBD \nKickoff: TBD
URL:https://expositionpark.ca.gov/event/usmnt-vs-serbia/
LOCATION:BMO Stadium\, 3939 S Figueroa St\,\, Los Angeles\,\, CA\, 90037\, United States
END:VEVENT
END:VCALENDAR