BEGIN:VCALENDAR
VERSION:2.0
PRODID:-//Exposition Park - ECPv6.15.20//NONSGML v1.0//EN
CALSCALE:GREGORIAN
METHOD:PUBLISH
X-WR-CALNAME:Exposition Park
X-ORIGINAL-URL:https://expositionpark.ca.gov
X-WR-CALDESC:Events for Exposition Park
REFRESH-INTERVAL;VALUE=DURATION:PT1H
X-Robots-Tag:noindex
X-PUBLISHED-TTL:PT1H
BEGIN:VTIMEZONE
TZID:America/Los_Angeles
BEGIN:DAYLIGHT
TZOFFSETFROM:-0800
TZOFFSETTO:-0700
TZNAME:PDT
DTSTART:20150308T100000
END:DAYLIGHT
BEGIN:STANDARD
TZOFFSETFROM:-0700
TZOFFSETTO:-0800
TZNAME:PST
DTSTART:20151101T090000
END:STANDARD
BEGIN:DAYLIGHT
TZOFFSETFROM:-0800
TZOFFSETTO:-0700
TZNAME:PDT
DTSTART:20160313T100000
END:DAYLIGHT
BEGIN:STANDARD
TZOFFSETFROM:-0700
TZOFFSETTO:-0800
TZNAME:PST
DTSTART:20161106T090000
END:STANDARD
BEGIN:DAYLIGHT
TZOFFSETFROM:-0800
TZOFFSETTO:-0700
TZNAME:PDT
DTSTART:20170312T100000
END:DAYLIGHT
BEGIN:STANDARD
TZOFFSETFROM:-0700
TZOFFSETTO:-0800
TZNAME:PST
DTSTART:20171105T090000
END:STANDARD
BEGIN:DAYLIGHT
TZOFFSETFROM:-0800
TZOFFSETTO:-0700
TZNAME:PDT
DTSTART:20180311T100000
END:DAYLIGHT
BEGIN:STANDARD
TZOFFSETFROM:-0700
TZOFFSETTO:-0800
TZNAME:PST
DTSTART:20181104T090000
END:STANDARD
END:VTIMEZONE
BEGIN:VEVENT
DTSTART;TZID=America/Los_Angeles:20170506T193000
DTEND;TZID=America/Los_Angeles:20170506T233000
DTSTAMP:20260423T060124
CREATED:20160211T214015Z
LAST-MODIFIED:20160211T214015Z
UID:10043744-1494099000-1494113400@expositionpark.ca.gov
SUMMARY:Prom
DESCRIPTION:Attendees: 700 \nVenue: Ahmanson Building
URL:https://expositionpark.ca.gov/event/prom-32/
LOCATION:California Science Center\, 700 Exposition Park Drive\, Los Angeles\, CA\, 90037\, United States
ORGANIZER;CN="Kari Mendez":MAILTO:kmendez@cscmail.org
GEO:34.0157877;-118.2862095
X-APPLE-STRUCTURED-LOCATION;VALUE=URI;X-ADDRESS=California Science Center 700 Exposition Park Drive Los Angeles CA 90037 United States;X-APPLE-RADIUS=500;X-TITLE=700 Exposition Park Drive:geo:-118.2862095,34.0157877
END:VEVENT
BEGIN:VEVENT
DTSTART;TZID=America/Los_Angeles:20170506T190000
DTEND;TZID=America/Los_Angeles:20170506T230000
DTSTAMP:20260423T060124
CREATED:20160211T214008Z
LAST-MODIFIED:20160211T214008Z
UID:10043743-1494097200-1494111600@expositionpark.ca.gov
SUMMARY:Prom
DESCRIPTION:Venue: Wallis Annenberg Building
URL:https://expositionpark.ca.gov/event/prom-31/
LOCATION:California Science Center\, 700 Exposition Park Drive\, Los Angeles\, CA\, 90037\, United States
ORGANIZER;CN="Kari Mendez":MAILTO:kmendez@cscmail.org
GEO:34.0157877;-118.2862095
X-APPLE-STRUCTURED-LOCATION;VALUE=URI;X-ADDRESS=California Science Center 700 Exposition Park Drive Los Angeles CA 90037 United States;X-APPLE-RADIUS=500;X-TITLE=700 Exposition Park Drive:geo:-118.2862095,34.0157877
END:VEVENT
BEGIN:VEVENT
DTSTART;TZID=America/Los_Angeles:20170429T200000
DTEND;TZID=America/Los_Angeles:20170430T000000
DTSTAMP:20260423T060124
CREATED:20160329T223357Z
LAST-MODIFIED:20160329T223357Z
UID:10043879-1493496000-1493510400@expositionpark.ca.gov
SUMMARY:Prom
DESCRIPTION:Venue: Samuel Oschin Pavilion \nAttendees: 450
URL:https://expositionpark.ca.gov/event/prom-38/
LOCATION:California Science Center\, 700 Exposition Park Drive\, Los Angeles\, CA\, 90037\, United States
GEO:34.0157877;-118.2862095
X-APPLE-STRUCTURED-LOCATION;VALUE=URI;X-ADDRESS=California Science Center 700 Exposition Park Drive Los Angeles CA 90037 United States;X-APPLE-RADIUS=500;X-TITLE=700 Exposition Park Drive:geo:-118.2862095,34.0157877
END:VEVENT
BEGIN:VEVENT
DTSTART;TZID=America/Los_Angeles:20170429T200000
DTEND;TZID=America/Los_Angeles:20170430T000000
DTSTAMP:20260423T060124
CREATED:20160211T214004Z
LAST-MODIFIED:20160211T214004Z
UID:10043742-1493496000-1493510400@expositionpark.ca.gov
SUMMARY:Prom
DESCRIPTION:Attendees: 600 \nVenue: Ahmanson Building
URL:https://expositionpark.ca.gov/event/prom-30/
LOCATION:California Science Center\, 700 Exposition Park Drive\, Los Angeles\, CA\, 90037\, United States
ORGANIZER;CN="Kari Mendez":MAILTO:kmendez@cscmail.org
GEO:34.0157877;-118.2862095
X-APPLE-STRUCTURED-LOCATION;VALUE=URI;X-ADDRESS=California Science Center 700 Exposition Park Drive Los Angeles CA 90037 United States;X-APPLE-RADIUS=500;X-TITLE=700 Exposition Park Drive:geo:-118.2862095,34.0157877
END:VEVENT
BEGIN:VEVENT
DTSTART;TZID=America/Los_Angeles:20170429T190000
DTEND;TZID=America/Los_Angeles:20170430T000000
DTSTAMP:20260423T060124
CREATED:20160211T213957Z
LAST-MODIFIED:20160211T213957Z
UID:10043741-1493492400-1493510400@expositionpark.ca.gov
SUMMARY:Prom
DESCRIPTION:Venue: Wallis Annenberg Building
URL:https://expositionpark.ca.gov/event/prom-29/
LOCATION:California Science Center\, 700 Exposition Park Drive\, Los Angeles\, CA\, 90037\, United States
ORGANIZER;CN="Kari Mendez":MAILTO:kmendez@cscmail.org
GEO:34.0157877;-118.2862095
X-APPLE-STRUCTURED-LOCATION;VALUE=URI;X-ADDRESS=California Science Center 700 Exposition Park Drive Los Angeles CA 90037 United States;X-APPLE-RADIUS=500;X-TITLE=700 Exposition Park Drive:geo:-118.2862095,34.0157877
END:VEVENT
BEGIN:VEVENT
DTSTART;TZID=America/Los_Angeles:20170422T200000
DTEND;TZID=America/Los_Angeles:20170423T000000
DTSTAMP:20260423T060124
CREATED:20160211T213951Z
LAST-MODIFIED:20160211T213951Z
UID:10043740-1492891200-1492905600@expositionpark.ca.gov
SUMMARY:Prom
DESCRIPTION:Attendees: 600 \nVenue: Ahmanson Building
URL:https://expositionpark.ca.gov/event/prom-28/
LOCATION:California Science Center\, 700 Exposition Park Drive\, Los Angeles\, CA\, 90037\, United States
ORGANIZER;CN="Kari Mendez":MAILTO:kmendez@cscmail.org
GEO:34.0157877;-118.2862095
X-APPLE-STRUCTURED-LOCATION;VALUE=URI;X-ADDRESS=California Science Center 700 Exposition Park Drive Los Angeles CA 90037 United States;X-APPLE-RADIUS=500;X-TITLE=700 Exposition Park Drive:geo:-118.2862095,34.0157877
END:VEVENT
BEGIN:VEVENT
DTSTART;TZID=America/Los_Angeles:20170422T190000
DTEND;TZID=America/Los_Angeles:20170423T000000
DTSTAMP:20260423T060124
CREATED:20160211T213938Z
LAST-MODIFIED:20160211T213938Z
UID:10043739-1492887600-1492905600@expositionpark.ca.gov
SUMMARY:Prom
DESCRIPTION:Venue: Wallis Annenberg Building
URL:https://expositionpark.ca.gov/event/prom-27/
LOCATION:California Science Center\, 700 Exposition Park Drive\, Los Angeles\, CA\, 90037\, United States
ORGANIZER;CN="Kari Mendez":MAILTO:kmendez@cscmail.org
GEO:34.0157877;-118.2862095
X-APPLE-STRUCTURED-LOCATION;VALUE=URI;X-ADDRESS=California Science Center 700 Exposition Park Drive Los Angeles CA 90037 United States;X-APPLE-RADIUS=500;X-TITLE=700 Exposition Park Drive:geo:-118.2862095,34.0157877
END:VEVENT
BEGIN:VEVENT
DTSTART;TZID=America/Los_Angeles:20170422T190000
DTEND;TZID=America/Los_Angeles:20170422T230000
DTSTAMP:20260423T060124
CREATED:20160329T223355Z
LAST-MODIFIED:20160329T223355Z
UID:10043878-1492887600-1492902000@expositionpark.ca.gov
SUMMARY:Social Event
DESCRIPTION:Venue: Samuel Oschin Pavilion
URL:https://expositionpark.ca.gov/event/social-event-25/
LOCATION:California Science Center\, 700 Exposition Park Drive\, Los Angeles\, CA\, 90037\, United States
GEO:34.0157877;-118.2862095
X-APPLE-STRUCTURED-LOCATION;VALUE=URI;X-ADDRESS=California Science Center 700 Exposition Park Drive Los Angeles CA 90037 United States;X-APPLE-RADIUS=500;X-TITLE=700 Exposition Park Drive:geo:-118.2862095,34.0157877
END:VEVENT
BEGIN:VEVENT
DTSTART;TZID=America/Los_Angeles:20170304T190000
DTEND;TZID=America/Los_Angeles:20170305T000000
DTSTAMP:20260423T060124
CREATED:20160211T213906Z
LAST-MODIFIED:20160211T213906Z
UID:10043737-1488654000-1488672000@expositionpark.ca.gov
SUMMARY:Social Event
DESCRIPTION:Attendees: 400 \nVenue: Disney Court and Samuel Oschin Pavilion
URL:https://expositionpark.ca.gov/event/social-event-14/
LOCATION:California Science Center\, 700 Exposition Park Drive\, Los Angeles\, CA\, 90037\, United States
ORGANIZER;CN="Kari Mendez":MAILTO:kmendez@cscmail.org
GEO:34.0157877;-118.2862095
X-APPLE-STRUCTURED-LOCATION;VALUE=URI;X-ADDRESS=California Science Center 700 Exposition Park Drive Los Angeles CA 90037 United States;X-APPLE-RADIUS=500;X-TITLE=700 Exposition Park Drive:geo:-118.2862095,34.0157877
END:VEVENT
BEGIN:VEVENT
DTSTART;TZID=America/Los_Angeles:20170218T190000
DTEND;TZID=America/Los_Angeles:20170218T220000
DTSTAMP:20260423T060124
CREATED:20160211T213923Z
LAST-MODIFIED:20160211T213923Z
UID:10043738-1487444400-1487455200@expositionpark.ca.gov
SUMMARY:Corporate Event
DESCRIPTION:
URL:https://expositionpark.ca.gov/event/corporate-event-52/
LOCATION:California Science Center\, 700 Exposition Park Drive\, Los Angeles\, CA\, 90037\, United States
ORGANIZER;CN="Kari Mendez":MAILTO:kmendez@cscmail.org
GEO:34.0157877;-118.2862095
X-APPLE-STRUCTURED-LOCATION;VALUE=URI;X-ADDRESS=California Science Center 700 Exposition Park Drive Los Angeles CA 90037 United States;X-APPLE-RADIUS=500;X-TITLE=700 Exposition Park Drive:geo:-118.2862095,34.0157877
END:VEVENT
BEGIN:VEVENT
DTSTART;TZID=America/Los_Angeles:20170128T200000
DTEND;TZID=America/Los_Angeles:20170128T235500
DTSTAMP:20260423T060124
CREATED:20160302T170723Z
LAST-MODIFIED:20160302T170723Z
UID:10043785-1485633600-1485647700@expositionpark.ca.gov
SUMMARY:Winter Formal
DESCRIPTION:Venue: Ahmanson
URL:https://expositionpark.ca.gov/event/winter-formal/
LOCATION:California Science Center\, 700 Exposition Park Drive\, Los Angeles\, CA\, 90037\, United States
ORGANIZER;CN="Kari Mendez":MAILTO:kmendez@cscmail.org
GEO:34.0157877;-118.2862095
X-APPLE-STRUCTURED-LOCATION;VALUE=URI;X-ADDRESS=California Science Center 700 Exposition Park Drive Los Angeles CA 90037 United States;X-APPLE-RADIUS=500;X-TITLE=700 Exposition Park Drive:geo:-118.2862095,34.0157877
END:VEVENT
BEGIN:VEVENT
DTSTART;TZID=America/Los_Angeles:20170120T190000
DTEND;TZID=America/Los_Angeles:20170120T220000
DTSTAMP:20260423T060124
CREATED:20160211T212637Z
LAST-MODIFIED:20160211T212637Z
UID:10043735-1484938800-1484949600@expositionpark.ca.gov
SUMMARY:Corporate Event
DESCRIPTION:Attendees: 400 \nVenue: Samuel Oschin Pavilion
URL:https://expositionpark.ca.gov/event/corporate-event-50/
LOCATION:California Science Center\, 700 Exposition Park Drive\, Los Angeles\, CA\, 90037\, United States
ORGANIZER;CN="Kari Mendez":MAILTO:kmendez@cscmail.org
GEO:34.0157877;-118.2862095
X-APPLE-STRUCTURED-LOCATION;VALUE=URI;X-ADDRESS=California Science Center 700 Exposition Park Drive Los Angeles CA 90037 United States;X-APPLE-RADIUS=500;X-TITLE=700 Exposition Park Drive:geo:-118.2862095,34.0157877
END:VEVENT
BEGIN:VEVENT
DTSTART;TZID=America/Los_Angeles:20161217T190000
DTEND;TZID=America/Los_Angeles:20161217T220000
DTSTAMP:20260423T060124
CREATED:20160329T223347Z
LAST-MODIFIED:20160329T223347Z
UID:10043877-1482001200-1482012000@expositionpark.ca.gov
SUMMARY:Social Event
DESCRIPTION:Venue: Samuel Oschin Pavilion \nAttendees: 350
URL:https://expositionpark.ca.gov/event/social-event-23/
LOCATION:California Science Center\, 700 Exposition Park Drive\, Los Angeles\, CA\, 90037\, United States
GEO:34.0157877;-118.2862095
X-APPLE-STRUCTURED-LOCATION;VALUE=URI;X-ADDRESS=California Science Center 700 Exposition Park Drive Los Angeles CA 90037 United States;X-APPLE-RADIUS=500;X-TITLE=700 Exposition Park Drive:geo:-118.2862095,34.0157877
END:VEVENT
BEGIN:VEVENT
DTSTART;TZID=America/Los_Angeles:20161216T090000
DTEND;TZID=America/Los_Angeles:20161216T170000
DTSTAMP:20260423T060124
CREATED:20160209T171633Z
LAST-MODIFIED:20160209T171633Z
UID:10043686-1481878800-1481907600@expositionpark.ca.gov
SUMMARY:Holiday Event
DESCRIPTION:Attendees: 250 \nVenue: Loker Conference Center
URL:https://expositionpark.ca.gov/event/holiday-event-3/
LOCATION:California Science Center\, 700 Exposition Park Drive\, Los Angeles\, CA\, 90037\, United States
ORGANIZER;CN="Kari Mendez":MAILTO:kmendez@cscmail.org
GEO:34.0157877;-118.2862095
X-APPLE-STRUCTURED-LOCATION;VALUE=URI;X-ADDRESS=California Science Center 700 Exposition Park Drive Los Angeles CA 90037 United States;X-APPLE-RADIUS=500;X-TITLE=700 Exposition Park Drive:geo:-118.2862095,34.0157877
END:VEVENT
BEGIN:VEVENT
DTSTART;TZID=America/Los_Angeles:20161210T190000
DTEND;TZID=America/Los_Angeles:20161210T220000
DTSTAMP:20260423T060124
CREATED:20160209T171635Z
LAST-MODIFIED:20160209T171635Z
UID:10043687-1481396400-1481407200@expositionpark.ca.gov
SUMMARY:Holiday Event
DESCRIPTION:Attendees: 800 \nVenue: Disney Court and Samuel Oschin Pavilion
URL:https://expositionpark.ca.gov/event/holiday-event-4/
LOCATION:California Science Center\, 700 Exposition Park Drive\, Los Angeles\, CA\, 90037\, United States
ORGANIZER;CN="Kari Mendez":MAILTO:kmendez@cscmail.org
GEO:34.0157877;-118.2862095
X-APPLE-STRUCTURED-LOCATION;VALUE=URI;X-ADDRESS=California Science Center 700 Exposition Park Drive Los Angeles CA 90037 United States;X-APPLE-RADIUS=500;X-TITLE=700 Exposition Park Drive:geo:-118.2862095,34.0157877
END:VEVENT
BEGIN:VEVENT
DTSTART;TZID=America/Los_Angeles:20161203T190000
DTEND;TZID=America/Los_Angeles:20161203T230000
DTSTAMP:20260423T060124
CREATED:20160209T171637Z
LAST-MODIFIED:20160209T171637Z
UID:10043688-1480791600-1480806000@expositionpark.ca.gov
SUMMARY:Holiday Event
DESCRIPTION:Attendees: 300 \nVenue: Samuel Oschin Pavilion
URL:https://expositionpark.ca.gov/event/holiday-event-5/
LOCATION:California Science Center\, 700 Exposition Park Drive\, Los Angeles\, CA\, 90037\, United States
ORGANIZER;CN="Kari Mendez":MAILTO:kmendez@cscmail.org
GEO:34.0157877;-118.2862095
X-APPLE-STRUCTURED-LOCATION;VALUE=URI;X-ADDRESS=California Science Center 700 Exposition Park Drive Los Angeles CA 90037 United States;X-APPLE-RADIUS=500;X-TITLE=700 Exposition Park Drive:geo:-118.2862095,34.0157877
END:VEVENT
BEGIN:VEVENT
DTSTART;TZID=America/Los_Angeles:20161119T190000
DTEND;TZID=America/Los_Angeles:20161119T230000
DTSTAMP:20260423T060124
CREATED:20160209T171638Z
LAST-MODIFIED:20160209T171638Z
UID:10043689-1479582000-1479596400@expositionpark.ca.gov
SUMMARY:Corporate Event
DESCRIPTION:Attendees: 700 \nVenue: Disney Court and Samuel Oschin Pavilion
URL:https://expositionpark.ca.gov/event/corporate-event-41/
LOCATION:California Science Center\, 700 Exposition Park Drive\, Los Angeles\, CA\, 90037\, United States
ORGANIZER;CN="Kari Mendez":MAILTO:kmendez@cscmail.org
GEO:34.0157877;-118.2862095
X-APPLE-STRUCTURED-LOCATION;VALUE=URI;X-ADDRESS=California Science Center 700 Exposition Park Drive Los Angeles CA 90037 United States;X-APPLE-RADIUS=500;X-TITLE=700 Exposition Park Drive:geo:-118.2862095,34.0157877
END:VEVENT
BEGIN:VEVENT
DTSTART;TZID=America/Los_Angeles:20161117T190000
DTEND;TZID=America/Los_Angeles:20161117T213000
DTSTAMP:20260423T060124
CREATED:20160209T171640Z
LAST-MODIFIED:20160209T171640Z
UID:10043690-1479409200-1479418200@expositionpark.ca.gov
SUMMARY:Corporate Event
DESCRIPTION:Attendees: 600 \nVenue: Disney Court and Samuel Oschin Pavilion
URL:https://expositionpark.ca.gov/event/corporate-event-42/
LOCATION:California Science Center\, 700 Exposition Park Drive\, Los Angeles\, CA\, 90037\, United States
ORGANIZER;CN="Kari Mendez":MAILTO:kmendez@cscmail.org
GEO:34.0157877;-118.2862095
X-APPLE-STRUCTURED-LOCATION;VALUE=URI;X-ADDRESS=California Science Center 700 Exposition Park Drive Los Angeles CA 90037 United States;X-APPLE-RADIUS=500;X-TITLE=700 Exposition Park Drive:geo:-118.2862095,34.0157877
END:VEVENT
BEGIN:VEVENT
DTSTART;TZID=America/Los_Angeles:20161115T180000
DTEND;TZID=America/Los_Angeles:20161115T210000
DTSTAMP:20260423T060124
CREATED:20160329T223344Z
LAST-MODIFIED:20160329T223344Z
UID:10043876-1479232800-1479243600@expositionpark.ca.gov
SUMMARY:Social Event
DESCRIPTION:Venue: Ecosystems \nAttendees: 75
URL:https://expositionpark.ca.gov/event/social-event-22/
LOCATION:California Science Center\, 700 Exposition Park Drive\, Los Angeles\, CA\, 90037\, United States
GEO:34.0157877;-118.2862095
X-APPLE-STRUCTURED-LOCATION;VALUE=URI;X-ADDRESS=California Science Center 700 Exposition Park Drive Los Angeles CA 90037 United States;X-APPLE-RADIUS=500;X-TITLE=700 Exposition Park Drive:geo:-118.2862095,34.0157877
END:VEVENT
BEGIN:VEVENT
DTSTART;TZID=America/Los_Angeles:20161110T190000
DTEND;TZID=America/Los_Angeles:20161110T220000
DTSTAMP:20260423T060124
CREATED:20160209T171642Z
LAST-MODIFIED:20160209T171642Z
UID:10043691-1478804400-1478815200@expositionpark.ca.gov
SUMMARY:Corporate Event
DESCRIPTION:Attendees: 800 \nVenue: Disney Court and Samuel Oschin Pavilion
URL:https://expositionpark.ca.gov/event/corporate-event-43/
LOCATION:California Science Center\, 700 Exposition Park Drive\, Los Angeles\, CA\, 90037\, United States
ORGANIZER;CN="Kari Mendez":MAILTO:kmendez@cscmail.org
GEO:34.0157877;-118.2862095
X-APPLE-STRUCTURED-LOCATION;VALUE=URI;X-ADDRESS=California Science Center 700 Exposition Park Drive Los Angeles CA 90037 United States;X-APPLE-RADIUS=500;X-TITLE=700 Exposition Park Drive:geo:-118.2862095,34.0157877
END:VEVENT
BEGIN:VEVENT
DTSTART;TZID=America/Los_Angeles:20161105T200000
DTEND;TZID=America/Los_Angeles:20161106T000000
DTSTAMP:20260423T060124
CREATED:20160329T223342Z
LAST-MODIFIED:20160329T223342Z
UID:10043875-1478376000-1478390400@expositionpark.ca.gov
SUMMARY:Social Event
DESCRIPTION:Venue: California Science Center Main Building and Wallis Annenberg Building \nAttendees: 600
URL:https://expositionpark.ca.gov/event/social-event-21/
LOCATION:California Science Center\, 700 Exposition Park Drive\, Los Angeles\, CA\, 90037\, United States
GEO:34.0157877;-118.2862095
X-APPLE-STRUCTURED-LOCATION;VALUE=URI;X-ADDRESS=California Science Center 700 Exposition Park Drive Los Angeles CA 90037 United States;X-APPLE-RADIUS=500;X-TITLE=700 Exposition Park Drive:geo:-118.2862095,34.0157877
END:VEVENT
BEGIN:VEVENT
DTSTART;TZID=America/Los_Angeles:20161029T190000
DTEND;TZID=America/Los_Angeles:20161029T220000
DTSTAMP:20260423T060124
CREATED:20160209T171646Z
LAST-MODIFIED:20160209T171646Z
UID:10043693-1477767600-1477778400@expositionpark.ca.gov
SUMMARY:Corporate Event
DESCRIPTION:Attendees: 800 \nVenue: Disney Court and Samuel Oschin Pavilion
URL:https://expositionpark.ca.gov/event/corporate-event-45/
LOCATION:California Science Center\, 700 Exposition Park Drive\, Los Angeles\, CA\, 90037\, United States
ORGANIZER;CN="Kari Mendez":MAILTO:kmendez@cscmail.org
GEO:34.0157877;-118.2862095
X-APPLE-STRUCTURED-LOCATION;VALUE=URI;X-ADDRESS=California Science Center 700 Exposition Park Drive Los Angeles CA 90037 United States;X-APPLE-RADIUS=500;X-TITLE=700 Exposition Park Drive:geo:-118.2862095,34.0157877
END:VEVENT
BEGIN:VEVENT
DTSTART;TZID=America/Los_Angeles:20161029T083000
DTEND;TZID=America/Los_Angeles:20161029T173000
DTSTAMP:20260423T060124
CREATED:20160209T171644Z
LAST-MODIFIED:20160209T171644Z
UID:10043692-1477729800-1477762200@expositionpark.ca.gov
SUMMARY:Corporate Event
DESCRIPTION:Attendees: 500 \nVenue: Loker Conference Center
URL:https://expositionpark.ca.gov/event/corporate-event-44/
LOCATION:California Science Center\, 700 Exposition Park Drive\, Los Angeles\, CA\, 90037\, United States
ORGANIZER;CN="Kari Mendez":MAILTO:kmendez@cscmail.org
GEO:34.0157877;-118.2862095
X-APPLE-STRUCTURED-LOCATION;VALUE=URI;X-ADDRESS=California Science Center 700 Exposition Park Drive Los Angeles CA 90037 United States;X-APPLE-RADIUS=500;X-TITLE=700 Exposition Park Drive:geo:-118.2862095,34.0157877
END:VEVENT
BEGIN:VEVENT
DTSTART;TZID=America/Los_Angeles:20161028T190000
DTEND;TZID=America/Los_Angeles:20161028T220000
DTSTAMP:20260423T060124
CREATED:20160329T223340Z
LAST-MODIFIED:20160329T223340Z
UID:10043874-1477681200-1477692000@expositionpark.ca.gov
SUMMARY:Social Event
DESCRIPTION:Venue: TBD \nAttendees: 1500
URL:https://expositionpark.ca.gov/event/social-event-20/
LOCATION:California Science Center\, 700 Exposition Park Drive\, Los Angeles\, CA\, 90037\, United States
GEO:34.0157877;-118.2862095
X-APPLE-STRUCTURED-LOCATION;VALUE=URI;X-ADDRESS=California Science Center 700 Exposition Park Drive Los Angeles CA 90037 United States;X-APPLE-RADIUS=500;X-TITLE=700 Exposition Park Drive:geo:-118.2862095,34.0157877
END:VEVENT
BEGIN:VEVENT
DTSTART;TZID=America/Los_Angeles:20161025T190000
DTEND;TZID=America/Los_Angeles:20161025T220000
DTSTAMP:20260423T060124
CREATED:20160329T223338Z
LAST-MODIFIED:20160329T223338Z
UID:10043873-1477422000-1477432800@expositionpark.ca.gov
SUMMARY:Social Event
DESCRIPTION:Venue: Edgerton Court and Disney Court \nAttendees: 1500
URL:https://expositionpark.ca.gov/event/social-event-19/
LOCATION:California Science Center\, 700 Exposition Park Drive\, Los Angeles\, CA\, 90037\, United States
GEO:34.0157877;-118.2862095
X-APPLE-STRUCTURED-LOCATION;VALUE=URI;X-ADDRESS=California Science Center 700 Exposition Park Drive Los Angeles CA 90037 United States;X-APPLE-RADIUS=500;X-TITLE=700 Exposition Park Drive:geo:-118.2862095,34.0157877
END:VEVENT
BEGIN:VEVENT
DTSTART;TZID=America/Los_Angeles:20161023T190000
DTEND;TZID=America/Los_Angeles:20161023T220000
DTSTAMP:20260423T060124
CREATED:20160329T223406Z
LAST-MODIFIED:20160329T223406Z
UID:10043883-1477249200-1477260000@expositionpark.ca.gov
SUMMARY:Corporate Event
DESCRIPTION:Venue: TBD
URL:https://expositionpark.ca.gov/event/corporate-event-84/
LOCATION:California Science Center\, 700 Exposition Park Drive\, Los Angeles\, CA\, 90037\, United States
GEO:34.0157877;-118.2862095
X-APPLE-STRUCTURED-LOCATION;VALUE=URI;X-ADDRESS=California Science Center 700 Exposition Park Drive Los Angeles CA 90037 United States;X-APPLE-RADIUS=500;X-TITLE=700 Exposition Park Drive:geo:-118.2862095,34.0157877
END:VEVENT
BEGIN:VEVENT
DTSTART;TZID=America/Los_Angeles:20161022T180000
DTEND;TZID=America/Los_Angeles:20161022T220000
DTSTAMP:20260423T060124
CREATED:20160209T171648Z
LAST-MODIFIED:20160209T171648Z
UID:10043694-1477159200-1477173600@expositionpark.ca.gov
SUMMARY:Corporate Event
DESCRIPTION:Attendees: 800 \nVenue: Disney Court and Samuel Oschin Pavilion
URL:https://expositionpark.ca.gov/event/corporate-event-46/
LOCATION:California Science Center\, 700 Exposition Park Drive\, Los Angeles\, CA\, 90037\, United States
ORGANIZER;CN="Kari Mendez":MAILTO:kmendez@cscmail.org
GEO:34.0157877;-118.2862095
X-APPLE-STRUCTURED-LOCATION;VALUE=URI;X-ADDRESS=California Science Center 700 Exposition Park Drive Los Angeles CA 90037 United States;X-APPLE-RADIUS=500;X-TITLE=700 Exposition Park Drive:geo:-118.2862095,34.0157877
END:VEVENT
BEGIN:VEVENT
DTSTART;TZID=America/Los_Angeles:20161020T190000
DTEND;TZID=America/Los_Angeles:20161020T220000
DTSTAMP:20260423T060124
CREATED:20160329T223334Z
LAST-MODIFIED:20160329T223334Z
UID:10043872-1476990000-1477000800@expositionpark.ca.gov
SUMMARY:Social Event
DESCRIPTION:Venue: Edgerton Court and Disney Court \nAttendees: 1400
URL:https://expositionpark.ca.gov/event/social-event-18/
LOCATION:California Science Center\, 700 Exposition Park Drive\, Los Angeles\, CA\, 90037\, United States
GEO:34.0157877;-118.2862095
X-APPLE-STRUCTURED-LOCATION;VALUE=URI;X-ADDRESS=California Science Center 700 Exposition Park Drive Los Angeles CA 90037 United States;X-APPLE-RADIUS=500;X-TITLE=700 Exposition Park Drive:geo:-118.2862095,34.0157877
END:VEVENT
BEGIN:VEVENT
DTSTART;TZID=America/Los_Angeles:20161020T180000
DTEND;TZID=America/Los_Angeles:20161020T210000
DTSTAMP:20260423T060124
CREATED:20160329T223403Z
LAST-MODIFIED:20160329T223403Z
UID:10043881-1476986400-1476997200@expositionpark.ca.gov
SUMMARY:Corporate Event
DESCRIPTION:Venue: Ecosystems \nAttendees: 120
URL:https://expositionpark.ca.gov/event/corporate-event-83/
LOCATION:California Science Center\, 700 Exposition Park Drive\, Los Angeles\, CA\, 90037\, United States
GEO:34.0157877;-118.2862095
X-APPLE-STRUCTURED-LOCATION;VALUE=URI;X-ADDRESS=California Science Center 700 Exposition Park Drive Los Angeles CA 90037 United States;X-APPLE-RADIUS=500;X-TITLE=700 Exposition Park Drive:geo:-118.2862095,34.0157877
END:VEVENT
BEGIN:VEVENT
DTSTART;TZID=America/Los_Angeles:20161016T183000
DTEND;TZID=America/Los_Angeles:20161016T223000
DTSTAMP:20260423T060124
CREATED:20160209T171650Z
LAST-MODIFIED:20160209T171650Z
UID:10043695-1476642600-1476657000@expositionpark.ca.gov
SUMMARY:Corporate Event
DESCRIPTION:Attendees: 800 \nVenue: Disney Court and Samuel Oschin Pavilion
URL:https://expositionpark.ca.gov/event/corporate-event-47/
LOCATION:California Science Center\, 700 Exposition Park Drive\, Los Angeles\, CA\, 90037\, United States
ORGANIZER;CN="Kari Mendez":MAILTO:kmendez@cscmail.org
GEO:34.0157877;-118.2862095
X-APPLE-STRUCTURED-LOCATION;VALUE=URI;X-ADDRESS=California Science Center 700 Exposition Park Drive Los Angeles CA 90037 United States;X-APPLE-RADIUS=500;X-TITLE=700 Exposition Park Drive:geo:-118.2862095,34.0157877
END:VEVENT
END:VCALENDAR