BEGIN:VCALENDAR
VERSION:2.0
PRODID:-//Exposition Park - ECPv6.15.20//NONSGML v1.0//EN
CALSCALE:GREGORIAN
METHOD:PUBLISH
X-ORIGINAL-URL:https://expositionpark.ca.gov
X-WR-CALDESC:Events for Exposition Park
REFRESH-INTERVAL;VALUE=DURATION:PT1H
X-Robots-Tag:noindex
X-PUBLISHED-TTL:PT1H
BEGIN:VTIMEZONE
TZID:America/Los_Angeles
BEGIN:DAYLIGHT
TZOFFSETFROM:-0800
TZOFFSETTO:-0700
TZNAME:PDT
DTSTART:20160313T100000
END:DAYLIGHT
BEGIN:STANDARD
TZOFFSETFROM:-0700
TZOFFSETTO:-0800
TZNAME:PST
DTSTART:20161106T090000
END:STANDARD
BEGIN:DAYLIGHT
TZOFFSETFROM:-0800
TZOFFSETTO:-0700
TZNAME:PDT
DTSTART:20170312T100000
END:DAYLIGHT
BEGIN:STANDARD
TZOFFSETFROM:-0700
TZOFFSETTO:-0800
TZNAME:PST
DTSTART:20171105T090000
END:STANDARD
BEGIN:DAYLIGHT
TZOFFSETFROM:-0800
TZOFFSETTO:-0700
TZNAME:PDT
DTSTART:20180311T100000
END:DAYLIGHT
BEGIN:STANDARD
TZOFFSETFROM:-0700
TZOFFSETTO:-0800
TZNAME:PST
DTSTART:20181104T090000
END:STANDARD
BEGIN:DAYLIGHT
TZOFFSETFROM:-0800
TZOFFSETTO:-0700
TZNAME:PDT
DTSTART:20190310T100000
END:DAYLIGHT
BEGIN:STANDARD
TZOFFSETFROM:-0700
TZOFFSETTO:-0800
TZNAME:PST
DTSTART:20191103T090000
END:STANDARD
END:VTIMEZONE
BEGIN:VEVENT
DTSTART;TZID=America/Los_Angeles:20180621T180000
DTEND;TZID=America/Los_Angeles:20180621T223000
DTSTAMP:20260421T185456
CREATED:20171005T001833Z
LAST-MODIFIED:20171005T001833Z
UID:10051439-1529604000-1529620200@expositionpark.ca.gov
SUMMARY:Corporate Event
DESCRIPTION:Venue: Ecosystems & Samuel Oschin Pavilion
URL:https://expositionpark.ca.gov/event/corporate-event-134/
LOCATION:CSC – Samuel Oschin Pavilion
END:VEVENT
BEGIN:VEVENT
DTSTART;TZID=America/Los_Angeles:20180616T190000
DTEND;TZID=America/Los_Angeles:20180616T220000
DTSTAMP:20260421T185456
CREATED:20180604T231229Z
LAST-MODIFIED:20180604T231229Z
UID:10050765-1529175600-1529186400@expositionpark.ca.gov
SUMMARY:Non-profit Dinner
DESCRIPTION:
URL:https://expositionpark.ca.gov/event/non-profit-dinner/
LOCATION:CSC – Samuel Oschin Pavilion
END:VEVENT
BEGIN:VEVENT
DTSTART;TZID=America/Los_Angeles:20180609T190000
DTEND;TZID=America/Los_Angeles:20180609T230000
DTSTAMP:20260421T185456
CREATED:20180615T171713Z
LAST-MODIFIED:20180615T171713Z
UID:10052138-1528570800-1528585200@expositionpark.ca.gov
SUMMARY:Prom
DESCRIPTION:
URL:https://expositionpark.ca.gov/event/prom-59/
LOCATION:CSC – Samuel Oschin Pavilion
ORGANIZER;CN="Special Events":MAILTO:specialevents@nhm.org
END:VEVENT
BEGIN:VEVENT
DTSTART;TZID=America/Los_Angeles:20180505T173000
DTEND;TZID=America/Los_Angeles:20180505T233000
DTSTAMP:20260421T185456
CREATED:20171004T225235Z
LAST-MODIFIED:20171004T225252Z
UID:10051427-1525541400-1525563000@expositionpark.ca.gov
SUMMARY:Social Event
DESCRIPTION:Venue: Disney\, Ecosystems\, and Oschin Pavilion
URL:https://expositionpark.ca.gov/event/social-event-116/
LOCATION:CSC – Samuel Oschin Pavilion
END:VEVENT
BEGIN:VEVENT
DTSTART;TZID=America/Los_Angeles:20180428T183000
DTEND;TZID=America/Los_Angeles:20180428T223000
DTSTAMP:20260421T185456
CREATED:20171005T163236Z
LAST-MODIFIED:20171005T163236Z
UID:10047799-1524940200-1524954600@expositionpark.ca.gov
SUMMARY:Prom
DESCRIPTION:Venue: Ecosystems & Samuel Oschin Pavilion
URL:https://expositionpark.ca.gov/event/prom-53/
LOCATION:CSC – Samuel Oschin Pavilion
END:VEVENT
BEGIN:VEVENT
DTSTART;TZID=America/Los_Angeles:20180413T180000
DTEND;TZID=America/Los_Angeles:20180413T230000
DTSTAMP:20260421T185456
CREATED:20171003T220749Z
LAST-MODIFIED:20171003T220749Z
UID:10051419-1523642400-1523660400@expositionpark.ca.gov
SUMMARY:Social Event
DESCRIPTION:Venue: Ecosystems & Samuel Oschin Pavilion
URL:https://expositionpark.ca.gov/event/social-event-115/
LOCATION:CSC – Samuel Oschin Pavilion
END:VEVENT
BEGIN:VEVENT
DTSTART;TZID=America/Los_Angeles:20180311T180000
DTEND;TZID=America/Los_Angeles:20180311T210000
DTSTAMP:20260421T185456
CREATED:20180108T164601Z
LAST-MODIFIED:20180108T164601Z
UID:10051612-1520791200-1520802000@expositionpark.ca.gov
SUMMARY:CSC - Private Event
DESCRIPTION:
URL:https://expositionpark.ca.gov/event/csc-private-event-4/
LOCATION:CSC – Samuel Oschin Pavilion
ORGANIZER;CN="Derek Krull":MAILTO:Dkrull@cscmail.org
END:VEVENT
BEGIN:VEVENT
DTSTART;TZID=America/Los_Angeles:20180224T190000
DTEND;TZID=America/Los_Angeles:20180224T220000
DTSTAMP:20260421T185456
CREATED:20180108T164832Z
LAST-MODIFIED:20180108T164832Z
UID:10051620-1519498800-1519509600@expositionpark.ca.gov
SUMMARY:CSC - Private Event
DESCRIPTION:
URL:https://expositionpark.ca.gov/event/csc-private-event-5/
LOCATION:CSC – Samuel Oschin Pavilion
END:VEVENT
BEGIN:VEVENT
DTSTART;TZID=America/Los_Angeles:20180213T180000
DTEND;TZID=America/Los_Angeles:20180213T210000
DTSTAMP:20260421T185456
CREATED:20180108T164448Z
LAST-MODIFIED:20180108T164448Z
UID:10051610-1518544800-1518555600@expositionpark.ca.gov
SUMMARY:CSC - Private Event
DESCRIPTION:
URL:https://expositionpark.ca.gov/event/csc-private-event-3/
LOCATION:CSC – Samuel Oschin Pavilion
ORGANIZER;CN="Derek Krull":MAILTO:Dkrull@cscmail.org
END:VEVENT
BEGIN:VEVENT
DTSTART;TZID=America/Los_Angeles:20180209T190000
DTEND;TZID=America/Los_Angeles:20180209T220000
DTSTAMP:20260421T185456
CREATED:20180108T164258Z
LAST-MODIFIED:20180108T164258Z
UID:10051606-1518202800-1518213600@expositionpark.ca.gov
SUMMARY:CSC - Private Event
DESCRIPTION:
URL:https://expositionpark.ca.gov/event/csc-private-event/
LOCATION:CSC – Samuel Oschin Pavilion
ORGANIZER;CN="Derek Krull":MAILTO:Dkrull@cscmail.org
END:VEVENT
BEGIN:VEVENT
DTSTART;TZID=America/Los_Angeles:20171117T190000
DTEND;TZID=America/Los_Angeles:20171117T220000
DTSTAMP:20260421T185456
CREATED:20171024T164618Z
LAST-MODIFIED:20171024T164618Z
UID:10051458-1510945200-1510956000@expositionpark.ca.gov
SUMMARY:CSC - Private Event (150)
DESCRIPTION:
URL:https://expositionpark.ca.gov/event/csc-private-event-150/
LOCATION:CSC – Samuel Oschin Pavilion
ORGANIZER;CN="Derek Krull":MAILTO:Dkrull@cscmail.org
END:VEVENT
BEGIN:VEVENT
DTSTART;TZID=America/Los_Angeles:20171116T183000
DTEND;TZID=America/Los_Angeles:20171116T213000
DTSTAMP:20260421T185456
CREATED:20171024T164656Z
LAST-MODIFIED:20171024T164656Z
UID:10051459-1510857000-1510867800@expositionpark.ca.gov
SUMMARY:CSC - Private Event (70)
DESCRIPTION:
URL:https://expositionpark.ca.gov/event/csc-private-event-70/
LOCATION:CSC – Samuel Oschin Pavilion
ORGANIZER;CN="Derek Krull":MAILTO:Dkrull@cscmail.org
END:VEVENT
BEGIN:VEVENT
DTSTART;TZID=America/Los_Angeles:20170925T190000
DTEND;TZID=America/Los_Angeles:20170925T220000
DTSTAMP:20260421T185456
CREATED:20170221T221253Z
LAST-MODIFIED:20170221T221253Z
UID:10047473-1506366000-1506376800@expositionpark.ca.gov
SUMMARY:Corporate Event
DESCRIPTION:Venue: Samuel Oschin Pavilion
URL:https://expositionpark.ca.gov/event/corporate-event-136/
LOCATION:CSC – Samuel Oschin Pavilion
END:VEVENT
BEGIN:VEVENT
DTSTART;TZID=America/Los_Angeles:20170729T190000
DTEND;TZID=America/Los_Angeles:20170729T220000
DTSTAMP:20260421T185456
CREATED:20170221T203817Z
LAST-MODIFIED:20170221T203817Z
UID:10050599-1501354800-1501365600@expositionpark.ca.gov
SUMMARY:Social Event
DESCRIPTION:Venue: Samuel Oschin Pavilion
URL:https://expositionpark.ca.gov/event/social-event-93/
LOCATION:CSC – Samuel Oschin Pavilion
END:VEVENT
BEGIN:VEVENT
DTSTART;TZID=America/Los_Angeles:20170608T190000
DTEND;TZID=America/Los_Angeles:20170608T230000
DTSTAMP:20260421T185456
CREATED:20161130T204942Z
LAST-MODIFIED:20161130T204942Z
UID:10047634-1496948400-1496962800@expositionpark.ca.gov
SUMMARY:Corporate Event
DESCRIPTION:Samuel Oschin Pavilion \napprox. 700 guests \n7pm-10pm \n 
URL:https://expositionpark.ca.gov/event/corporate-event-125/
LOCATION:CSC – Samuel Oschin Pavilion
END:VEVENT
BEGIN:VEVENT
DTSTART;TZID=America/Los_Angeles:20170507T180000
DTEND;TZID=America/Los_Angeles:20170507T210000
DTSTAMP:20260421T185456
CREATED:20170221T203144Z
LAST-MODIFIED:20170221T203144Z
UID:10050595-1494180000-1494190800@expositionpark.ca.gov
SUMMARY:Social Event
DESCRIPTION:Venue: Samuel Oschin Pavilion
URL:https://expositionpark.ca.gov/event/social-event-90/
LOCATION:CSC – Samuel Oschin Pavilion
END:VEVENT
BEGIN:VEVENT
DTSTART;TZID=America/Los_Angeles:20170505T180000
DTEND;TZID=America/Los_Angeles:20170505T220000
DTSTAMP:20260421T185456
CREATED:20170221T203047Z
LAST-MODIFIED:20170221T203047Z
UID:10050594-1494007200-1494021600@expositionpark.ca.gov
SUMMARY:Social Event
DESCRIPTION:Venue: Samuel Oschin Pavilion
URL:https://expositionpark.ca.gov/event/social-event-89/
LOCATION:CSC – Samuel Oschin Pavilion
END:VEVENT
BEGIN:VEVENT
DTSTART;TZID=America/Los_Angeles:20170430T190000
DTEND;TZID=America/Los_Angeles:20170430T220000
DTSTAMP:20260421T185456
CREATED:20170221T203008Z
LAST-MODIFIED:20170221T203008Z
UID:10050593-1493578800-1493589600@expositionpark.ca.gov
SUMMARY:Social Event
DESCRIPTION:Venue: Samuel Oschin Pavilion
URL:https://expositionpark.ca.gov/event/social-event-88/
LOCATION:CSC – Samuel Oschin Pavilion
END:VEVENT
BEGIN:VEVENT
DTSTART;TZID=America/Los_Angeles:20170427T190000
DTEND;TZID=America/Los_Angeles:20170427T220000
DTSTAMP:20260421T185456
CREATED:20170221T202255Z
LAST-MODIFIED:20170221T202255Z
UID:10050589-1493319600-1493330400@expositionpark.ca.gov
SUMMARY:Private Event
DESCRIPTION:Venue: Samuel Oschin Pavilion
URL:https://expositionpark.ca.gov/event/private-event-56/
LOCATION:CSC – Samuel Oschin Pavilion
END:VEVENT
BEGIN:VEVENT
DTSTART;TZID=America/Los_Angeles:20170413T190000
DTEND;TZID=America/Los_Angeles:20170413T220000
DTSTAMP:20260421T185456
CREATED:20170221T201936Z
LAST-MODIFIED:20170221T201936Z
UID:10050583-1492110000-1492120800@expositionpark.ca.gov
SUMMARY:Corporate Event
DESCRIPTION:Venue: Samuel Oschin Pavilion
URL:https://expositionpark.ca.gov/event/corporate-event-130/
LOCATION:CSC – Samuel Oschin Pavilion
END:VEVENT
BEGIN:VEVENT
DTSTART;TZID=America/Los_Angeles:20170314T083000
DTEND;TZID=America/Los_Angeles:20170314T213000
DTSTAMP:20260421T185456
CREATED:20170224T212747Z
LAST-MODIFIED:20170224T212747Z
UID:10050630-1489480200-1489527000@expositionpark.ca.gov
SUMMARY:Corporate Event
DESCRIPTION:Venue: Loker Conference Center and Samuel Oschin Pavilion
URL:https://expositionpark.ca.gov/event/corporate-event-141/
LOCATION:CSC – Samuel Oschin Pavilion
END:VEVENT
BEGIN:VEVENT
DTSTART;TZID=America/Los_Angeles:20170211T190000
DTEND;TZID=America/Los_Angeles:20170211T190000
DTSTAMP:20260421T185456
CREATED:20170123T193923Z
LAST-MODIFIED:20170123T193923Z
UID:10047711-1486839600-1486839600@expositionpark.ca.gov
SUMMARY:Social Event
DESCRIPTION:Venue: Samuel Oschin Pavilion
URL:https://expositionpark.ca.gov/event/social-event-79/
LOCATION:CSC – Samuel Oschin Pavilion
ORGANIZER;CN="Kari Mendez":MAILTO:kmendez@cscmail.org
END:VEVENT
END:VCALENDAR