BEGIN:VCALENDAR
VERSION:2.0
PRODID:-//Exposition Park - ECPv6.15.20//NONSGML v1.0//EN
CALSCALE:GREGORIAN
METHOD:PUBLISH
X-ORIGINAL-URL:https://expositionpark.ca.gov
X-WR-CALDESC:Events for Exposition Park
REFRESH-INTERVAL;VALUE=DURATION:PT1H
X-Robots-Tag:noindex
X-PUBLISHED-TTL:PT1H
BEGIN:VTIMEZONE
TZID:America/Los_Angeles
BEGIN:DAYLIGHT
TZOFFSETFROM:-0800
TZOFFSETTO:-0700
TZNAME:PDT
DTSTART:20240310T100000
END:DAYLIGHT
BEGIN:STANDARD
TZOFFSETFROM:-0700
TZOFFSETTO:-0800
TZNAME:PST
DTSTART:20241103T090000
END:STANDARD
BEGIN:DAYLIGHT
TZOFFSETFROM:-0800
TZOFFSETTO:-0700
TZNAME:PDT
DTSTART:20250309T100000
END:DAYLIGHT
BEGIN:STANDARD
TZOFFSETFROM:-0700
TZOFFSETTO:-0800
TZNAME:PST
DTSTART:20251102T090000
END:STANDARD
BEGIN:DAYLIGHT
TZOFFSETFROM:-0800
TZOFFSETTO:-0700
TZNAME:PDT
DTSTART:20260308T100000
END:DAYLIGHT
BEGIN:STANDARD
TZOFFSETFROM:-0700
TZOFFSETTO:-0800
TZNAME:PST
DTSTART:20261101T090000
END:STANDARD
END:VTIMEZONE
BEGIN:VEVENT
DTSTART;TZID=America/Los_Angeles:20250805T133000
DTEND;TZID=America/Los_Angeles:20250805T235900
DTSTAMP:20260422T025910
CREATED:20250718T195114Z
LAST-MODIFIED:20250722T001013Z
UID:10055613-1754400600-1754438340@expositionpark.ca.gov
SUMMARY:BMO League - LAFC vs. Tigres - Road Closure & Family Picnic
DESCRIPTION:CTL East – Family Picnic\nLoad-in: 1:30pm to 5:30pm\nEvent Hours: 5:30pm to 7:30pm\nLoad-out: 7:30pm to 11:59pm \nS. Coliseum Drive – Road Closure\nLoad-in: 2pm to 2:30pm\nClosure: 2:30pm to 11:30pm\nLoad-out: 11:30pm to 11:59pm
URL:https://expositionpark.ca.gov/event/bmo-league-lafc-vs-tigres/
LOCATION:CTL East & S. Coliseum Drive
END:VEVENT
BEGIN:VEVENT
DTSTART;TZID=America/Los_Angeles:20250801T133000
DTEND;TZID=America/Los_Angeles:20250801T235900
DTSTAMP:20260422T025910
CREATED:20250718T194807Z
LAST-MODIFIED:20250718T194807Z
UID:10055612-1754055000-1754092740@expositionpark.ca.gov
SUMMARY:BMO League Cup - LAFC vs. Pachuca - Family Picnic & Road Closure
DESCRIPTION:Friday\, August 1\, 2025 \nCTL East – Family Picnic\nLoad-in: 1:30pm to 5:30pm\nEvent Hours: 5:30pm to 7:30pm\nLoad-out: 7:30pm to 11:59pm \nS. Coliseum Drive – Road Closure\nLoad-in: 2pm to 2:30pm\nClosure: 2:30pm to 11:30pm\nLoad-out: 11:30pm to 11:59pm
URL:https://expositionpark.ca.gov/event/bmo-league-cup-lafc-vs-pachuca-family-picnic-road-closure/
LOCATION:CTL East & S. Coliseum Drive
END:VEVENT
BEGIN:VEVENT
DTSTART;TZID=America/Los_Angeles:20250729T133000
DTEND;TZID=America/Los_Angeles:20250729T235900
DTSTAMP:20260422T025910
CREATED:20250718T193809Z
LAST-MODIFIED:20250718T203605Z
UID:10055611-1753795800-1753833540@expositionpark.ca.gov
SUMMARY:BMO League Cup - LAFC vs. Mazatlan - Family Picnic & Road Closure
DESCRIPTION:CTL East – Family Picnic\nLoad-in: 1:30pm to 5:30pm\nEvent Hours: 5:30pm to 7:30pm\nLoad-out: 7:30pm to 11:59pm \nS. Coliseum Drive – Road Closure\nLoad-in: 2pm to 2:30pm\nClosure: 2:30pm to 11:30pm\nLoad-out: 11:30pm to 11:59pm
URL:https://expositionpark.ca.gov/event/bmo-league-cup-matches-family-picnic-road-closure/
LOCATION:CTL East & S. Coliseum Drive
END:VEVENT
BEGIN:VEVENT
DTSTART;VALUE=DATE:20250316
DTEND;VALUE=DATE:20250317
DTSTAMP:20260422T025910
CREATED:20250307T192247Z
LAST-MODIFIED:20250626T221949Z
UID:10055396-1742083200-1742169599@expositionpark.ca.gov
SUMMARY:ACFC vs. San Diego - Fan Fest & Road Closure
DESCRIPTION:Christmas Tree Lane East\nLoad-in: 4am to 12:30pm\nEvent Hours:  12:30pm to 3:00pm\nLoad-out: 3pm to 11:59pm \nSouth Coliseum Drive\nLoad-in: 6am to 8am\nRoad Closure: 8am to 11:00pm\nLoad-out: 11pm to 11:59pm
URL:https://expositionpark.ca.gov/event/acfc-vs-san-diego-fan-fest-road-closure/
LOCATION:CTL East & S. Coliseum Drive
CATEGORIES:ACFC Fan Fest,Fan Fest,Road Closure,S Coliseum Dr Road Closure
END:VEVENT
END:VCALENDAR