BEGIN:VCALENDAR
VERSION:2.0
PRODID:-//Exposition Park - ECPv6.15.20//NONSGML v1.0//EN
CALSCALE:GREGORIAN
METHOD:PUBLISH
X-ORIGINAL-URL:https://expositionpark.ca.gov
X-WR-CALDESC:Events for Exposition Park
REFRESH-INTERVAL;VALUE=DURATION:PT1H
X-Robots-Tag:noindex
X-PUBLISHED-TTL:PT1H
BEGIN:VTIMEZONE
TZID:America/Los_Angeles
BEGIN:DAYLIGHT
TZOFFSETFROM:-0800
TZOFFSETTO:-0700
TZNAME:PDT
DTSTART:20180311T100000
END:DAYLIGHT
BEGIN:STANDARD
TZOFFSETFROM:-0700
TZOFFSETTO:-0800
TZNAME:PST
DTSTART:20181104T090000
END:STANDARD
BEGIN:DAYLIGHT
TZOFFSETFROM:-0800
TZOFFSETTO:-0700
TZNAME:PDT
DTSTART:20190310T100000
END:DAYLIGHT
BEGIN:STANDARD
TZOFFSETFROM:-0700
TZOFFSETTO:-0800
TZNAME:PST
DTSTART:20191103T090000
END:STANDARD
BEGIN:DAYLIGHT
TZOFFSETFROM:-0800
TZOFFSETTO:-0700
TZNAME:PDT
DTSTART:20200308T100000
END:DAYLIGHT
BEGIN:STANDARD
TZOFFSETFROM:-0700
TZOFFSETTO:-0800
TZNAME:PST
DTSTART:20201101T090000
END:STANDARD
BEGIN:DAYLIGHT
TZOFFSETFROM:-0800
TZOFFSETTO:-0700
TZNAME:PDT
DTSTART:20210314T100000
END:DAYLIGHT
BEGIN:STANDARD
TZOFFSETFROM:-0700
TZOFFSETTO:-0800
TZNAME:PST
DTSTART:20211107T090000
END:STANDARD
END:VTIMEZONE
BEGIN:VEVENT
DTSTART;TZID=America/Los_Angeles:20200204T070000
DTEND;TZID=America/Los_Angeles:20200204T220000
DTSTAMP:20260424T045119
CREATED:20200127T183735Z
LAST-MODIFIED:20200128T203819Z
UID:10053362-1580799600-1580853600@expositionpark.ca.gov
SUMMARY:Superprime
DESCRIPTION:Private Event \nFilming at Banc of CA Stadium
URL:https://expositionpark.ca.gov/event/superprime/
LOCATION:Lot 6 East Portion\, CA\, United States
END:VEVENT
BEGIN:VEVENT
DTSTART;TZID=America/Los_Angeles:20200203T030000
DTEND;TZID=America/Los_Angeles:20200203T220000
DTSTAMP:20260424T045119
CREATED:20200128T204058Z
LAST-MODIFIED:20200128T204058Z
UID:10053365-1580698800-1580767200@expositionpark.ca.gov
SUMMARY:Pacific 2.1 Entertainment Group
DESCRIPTION:Private Event
URL:https://expositionpark.ca.gov/event/pacific-2-1-entertainment-group/
LOCATION:Lot 6 East Portion\, CA\, United States
END:VEVENT
BEGIN:VEVENT
DTSTART;TZID=America/Los_Angeles:20200122T180000
DTEND;TZID=America/Los_Angeles:20200125T060000
DTSTAMP:20260424T045119
CREATED:20200121T201731Z
LAST-MODIFIED:20200121T233631Z
UID:10051643-1579716000-1579932000@expositionpark.ca.gov
SUMMARY:Netflix Productions\, LLC
DESCRIPTION:Private Event
URL:https://expositionpark.ca.gov/event/netflix-productions-llc/
LOCATION:Lot 6 East Portion\, CA\, United States
END:VEVENT
BEGIN:VEVENT
DTSTART;TZID=America/Los_Angeles:20200114T050000
DTEND;TZID=America/Los_Angeles:20200114T170000
DTSTAMP:20260424T045119
CREATED:20200103T191127Z
LAST-MODIFIED:20200103T191127Z
UID:10053318-1578978000-1579021200@expositionpark.ca.gov
SUMMARY:Prettybird Productions
DESCRIPTION:Basecamp & Crew Parking \nFilming at LA Memorial Coliseum
URL:https://expositionpark.ca.gov/event/prettybird-productions/
LOCATION:Lot 6 East Portion\, CA\, United States
END:VEVENT
BEGIN:VEVENT
DTSTART;TZID=America/Los_Angeles:20191022T170000
DTEND;TZID=America/Los_Angeles:20191023T235900
DTSTAMP:20260424T045119
CREATED:20191008T232000Z
LAST-MODIFIED:20191008T232000Z
UID:10053276-1571763600-1571875140@expositionpark.ca.gov
SUMMARY:Netflix Television\, LLC
DESCRIPTION:Basecamp and Crew Parking
URL:https://expositionpark.ca.gov/event/netflix-television-llc/
LOCATION:Lot 6 East Portion\, CA\, United States
END:VEVENT
BEGIN:VEVENT
DTSTART;TZID=America/Los_Angeles:20190912T080000
DTEND;TZID=America/Los_Angeles:20190913T230000
DTSTAMP:20260424T045119
CREATED:20190906T181841Z
LAST-MODIFIED:20190906T181841Z
UID:10053234-1568275200-1568415600@expositionpark.ca.gov
SUMMARY:Freeman
DESCRIPTION:Truck Marshalling
URL:https://expositionpark.ca.gov/event/freeman-6/
LOCATION:Lot 6 East Portion\, CA\, United States
END:VEVENT
BEGIN:VEVENT
DTSTART;TZID=America/Los_Angeles:20190903T070000
DTEND;TZID=America/Los_Angeles:20190904T235900
DTSTAMP:20260424T045119
CREATED:20190827T185743Z
LAST-MODIFIED:20190828T223107Z
UID:10053230-1567494000-1567641540@expositionpark.ca.gov
SUMMARY:CBS Television Studios
DESCRIPTION:Basecamp and Crew Parking Only
URL:https://expositionpark.ca.gov/event/cbs-television-studios-2/
LOCATION:Lot 6 East Portion\, CA\, United States
END:VEVENT
END:VCALENDAR