BEGIN:VCALENDAR
VERSION:2.0
PRODID:-//Exposition Park - ECPv6.15.20//NONSGML v1.0//EN
CALSCALE:GREGORIAN
METHOD:PUBLISH
X-ORIGINAL-URL:https://expositionpark.ca.gov
X-WR-CALDESC:Events for Exposition Park
REFRESH-INTERVAL;VALUE=DURATION:PT1H
X-Robots-Tag:noindex
X-PUBLISHED-TTL:PT1H
BEGIN:VTIMEZONE
TZID:America/Los_Angeles
BEGIN:DAYLIGHT
TZOFFSETFROM:-0800
TZOFFSETTO:-0700
TZNAME:PDT
DTSTART:20180311T100000
END:DAYLIGHT
BEGIN:STANDARD
TZOFFSETFROM:-0700
TZOFFSETTO:-0800
TZNAME:PST
DTSTART:20181104T090000
END:STANDARD
BEGIN:DAYLIGHT
TZOFFSETFROM:-0800
TZOFFSETTO:-0700
TZNAME:PDT
DTSTART:20190310T100000
END:DAYLIGHT
BEGIN:STANDARD
TZOFFSETFROM:-0700
TZOFFSETTO:-0800
TZNAME:PST
DTSTART:20191103T090000
END:STANDARD
BEGIN:DAYLIGHT
TZOFFSETFROM:-0800
TZOFFSETTO:-0700
TZNAME:PDT
DTSTART:20200308T100000
END:DAYLIGHT
BEGIN:STANDARD
TZOFFSETFROM:-0700
TZOFFSETTO:-0800
TZNAME:PST
DTSTART:20201101T090000
END:STANDARD
BEGIN:DAYLIGHT
TZOFFSETFROM:-0800
TZOFFSETTO:-0700
TZNAME:PDT
DTSTART:20210314T100000
END:DAYLIGHT
BEGIN:STANDARD
TZOFFSETFROM:-0700
TZOFFSETTO:-0800
TZNAME:PST
DTSTART:20211107T090000
END:STANDARD
BEGIN:DAYLIGHT
TZOFFSETFROM:-0800
TZOFFSETTO:-0700
TZNAME:PDT
DTSTART:20220313T100000
END:DAYLIGHT
BEGIN:STANDARD
TZOFFSETFROM:-0700
TZOFFSETTO:-0800
TZNAME:PST
DTSTART:20221106T090000
END:STANDARD
BEGIN:DAYLIGHT
TZOFFSETFROM:-0800
TZOFFSETTO:-0700
TZNAME:PDT
DTSTART:20230312T100000
END:DAYLIGHT
BEGIN:STANDARD
TZOFFSETFROM:-0700
TZOFFSETTO:-0800
TZNAME:PST
DTSTART:20231105T090000
END:STANDARD
BEGIN:DAYLIGHT
TZOFFSETFROM:-0800
TZOFFSETTO:-0700
TZNAME:PDT
DTSTART:20240310T100000
END:DAYLIGHT
BEGIN:STANDARD
TZOFFSETFROM:-0700
TZOFFSETTO:-0800
TZNAME:PST
DTSTART:20241103T090000
END:STANDARD
BEGIN:DAYLIGHT
TZOFFSETFROM:-0800
TZOFFSETTO:-0700
TZNAME:PDT
DTSTART:20250309T100000
END:DAYLIGHT
BEGIN:STANDARD
TZOFFSETFROM:-0700
TZOFFSETTO:-0800
TZNAME:PST
DTSTART:20251102T090000
END:STANDARD
BEGIN:DAYLIGHT
TZOFFSETFROM:-0800
TZOFFSETTO:-0700
TZNAME:PDT
DTSTART:20260308T100000
END:DAYLIGHT
BEGIN:STANDARD
TZOFFSETFROM:-0700
TZOFFSETTO:-0800
TZNAME:PST
DTSTART:20261101T090000
END:STANDARD
END:VTIMEZONE
BEGIN:VEVENT
DTSTART;TZID=America/Los_Angeles:20251010T103000
DTEND;TZID=America/Los_Angeles:20251010T143000
DTSTAMP:20260419T232403
CREATED:20250626T172303Z
LAST-MODIFIED:20250626T172303Z
UID:10055524-1760092200-1760106600@expositionpark.ca.gov
SUMMARY:Wedding Ceremony
DESCRIPTION:
URL:https://expositionpark.ca.gov/event/wedding-ceremony-20/
LOCATION:Rose Garden Gazebo (B)\, 701 State Dr.\, Los Angeles\, CA\, 90037\, United States
END:VEVENT
BEGIN:VEVENT
DTSTART;TZID=America/Los_Angeles:20190825T150000
DTEND;TZID=America/Los_Angeles:20190825T180000
DTSTAMP:20260419T232403
CREATED:20190718T162014Z
LAST-MODIFIED:20190718T162014Z
UID:10051472-1566745200-1566756000@expositionpark.ca.gov
SUMMARY:Wedding
DESCRIPTION:
URL:https://expositionpark.ca.gov/event/wedding-46/
LOCATION:Rose Garden Gazebo (B)\, 701 State Dr.\, Los Angeles\, CA\, 90037\, United States
ORGANIZER;CN="Exposition Center Special Events":MAILTO:Rap-expospecialevents@lacity.org
END:VEVENT
BEGIN:VEVENT
DTSTART;TZID=America/Los_Angeles:20190707T160000
DTEND;TZID=America/Los_Angeles:20190707T190000
DTSTAMP:20260419T232403
CREATED:20190326T231647Z
LAST-MODIFIED:20190326T231647Z
UID:10052761-1562515200-1562526000@expositionpark.ca.gov
SUMMARY:Expo Center- Wedding
DESCRIPTION:
URL:https://expositionpark.ca.gov/event/expo-center-wedding-5/
LOCATION:Rose Garden Gazebo (B)\, 701 State Dr.\, Los Angeles\, CA\, 90037\, United States
ORGANIZER;CN="Exposition Center Special Events":MAILTO:Rap-expospecialevents@lacity.org
END:VEVENT
BEGIN:VEVENT
DTSTART;TZID=America/Los_Angeles:20190616T140000
DTEND;TZID=America/Los_Angeles:20190616T170000
DTSTAMP:20260419T232403
CREATED:20190326T231438Z
LAST-MODIFIED:20190326T231438Z
UID:10051249-1560693600-1560704400@expositionpark.ca.gov
SUMMARY:Expo Center- Wedding
DESCRIPTION:
URL:https://expositionpark.ca.gov/event/expo-center-wedding-2/
LOCATION:Rose Garden Gazebo (B)\, 701 State Dr.\, Los Angeles\, CA\, 90037\, United States
ORGANIZER;CN="Exposition Center Special Events":MAILTO:Rap-expospecialevents@lacity.org
END:VEVENT
END:VCALENDAR