BEGIN:VCALENDAR
VERSION:2.0
PRODID:-//Exposition Park - ECPv6.15.20//NONSGML v1.0//EN
CALSCALE:GREGORIAN
METHOD:PUBLISH
X-WR-CALNAME:Exposition Park
X-ORIGINAL-URL:https://expositionpark.ca.gov
X-WR-CALDESC:Events for Exposition Park
REFRESH-INTERVAL;VALUE=DURATION:PT1H
X-Robots-Tag:noindex
X-PUBLISHED-TTL:PT1H
BEGIN:VTIMEZONE
TZID:America/Los_Angeles
BEGIN:DAYLIGHT
TZOFFSETFROM:-0800
TZOFFSETTO:-0700
TZNAME:PDT
DTSTART:20180311T100000
END:DAYLIGHT
BEGIN:STANDARD
TZOFFSETFROM:-0700
TZOFFSETTO:-0800
TZNAME:PST
DTSTART:20181104T090000
END:STANDARD
BEGIN:DAYLIGHT
TZOFFSETFROM:-0800
TZOFFSETTO:-0700
TZNAME:PDT
DTSTART:20190310T100000
END:DAYLIGHT
BEGIN:STANDARD
TZOFFSETFROM:-0700
TZOFFSETTO:-0800
TZNAME:PST
DTSTART:20191103T090000
END:STANDARD
BEGIN:DAYLIGHT
TZOFFSETFROM:-0800
TZOFFSETTO:-0700
TZNAME:PDT
DTSTART:20200308T100000
END:DAYLIGHT
BEGIN:STANDARD
TZOFFSETFROM:-0700
TZOFFSETTO:-0800
TZNAME:PST
DTSTART:20201101T090000
END:STANDARD
BEGIN:DAYLIGHT
TZOFFSETFROM:-0800
TZOFFSETTO:-0700
TZNAME:PDT
DTSTART:20210314T100000
END:DAYLIGHT
BEGIN:STANDARD
TZOFFSETFROM:-0700
TZOFFSETTO:-0800
TZNAME:PST
DTSTART:20211107T090000
END:STANDARD
BEGIN:DAYLIGHT
TZOFFSETFROM:-0800
TZOFFSETTO:-0700
TZNAME:PDT
DTSTART:20220313T100000
END:DAYLIGHT
BEGIN:STANDARD
TZOFFSETFROM:-0700
TZOFFSETTO:-0800
TZNAME:PST
DTSTART:20221106T090000
END:STANDARD
BEGIN:DAYLIGHT
TZOFFSETFROM:-0800
TZOFFSETTO:-0700
TZNAME:PDT
DTSTART:20230312T100000
END:DAYLIGHT
BEGIN:STANDARD
TZOFFSETFROM:-0700
TZOFFSETTO:-0800
TZNAME:PST
DTSTART:20231105T090000
END:STANDARD
BEGIN:DAYLIGHT
TZOFFSETFROM:-0800
TZOFFSETTO:-0700
TZNAME:PDT
DTSTART:20240310T100000
END:DAYLIGHT
BEGIN:STANDARD
TZOFFSETFROM:-0700
TZOFFSETTO:-0800
TZNAME:PST
DTSTART:20241103T090000
END:STANDARD
END:VTIMEZONE
BEGIN:VEVENT
DTSTART;TZID=America/Los_Angeles:20230325T140000
DTEND;TZID=America/Los_Angeles:20230326T000000
DTSTAMP:20260423T092723
CREATED:20230309T222026Z
LAST-MODIFIED:20230309T222026Z
UID:10054469-1679752800-1679788800@expositionpark.ca.gov
SUMMARY:Road Closure - S. Coliseum Dr.
DESCRIPTION:Pedestrian access to BMO Stadium
URL:https://expositionpark.ca.gov/event/road-closure-s-coliseum-dr-5/
LOCATION:S. Coliseum Drive
GEO:36.778261;-119.4179324
END:VEVENT
BEGIN:VEVENT
DTSTART;TZID=America/Los_Angeles:20230322T100000
DTEND;TZID=America/Los_Angeles:20230323T100000
DTSTAMP:20260423T092723
CREATED:20230321T001304Z
LAST-MODIFIED:20230321T001304Z
UID:10054495-1679479200-1679565600@expositionpark.ca.gov
SUMMARY:Road Closure - S. Coliseum Dr.
DESCRIPTION:Pedestrian access to BMO Stadium
URL:https://expositionpark.ca.gov/event/road-closure-s-coliseum-dr-34/
LOCATION:S. Coliseum Drive
GEO:36.778261;-119.4179324
END:VEVENT
BEGIN:VEVENT
DTSTART;TZID=America/Los_Angeles:20230312T080000
DTEND;TZID=America/Los_Angeles:20230313T000000
DTSTAMP:20260423T092723
CREATED:20230309T221629Z
LAST-MODIFIED:20230309T234541Z
UID:10054468-1678608000-1678665600@expositionpark.ca.gov
SUMMARY:Road Closure - S. Coliseum Dr.
DESCRIPTION:Pedestrian access to BMO Stadium
URL:https://expositionpark.ca.gov/event/road-closure-s-coliseum-dr-4/
LOCATION:S. Coliseum Drive
GEO:36.778261;-119.4179324
END:VEVENT
BEGIN:VEVENT
DTSTART;TZID=America/Los_Angeles:20230308T140000
DTEND;TZID=America/Los_Angeles:20230309T000000
DTSTAMP:20260423T092723
CREATED:20230227T231506Z
LAST-MODIFIED:20230227T231506Z
UID:10052770-1678284000-1678320000@expositionpark.ca.gov
SUMMARY:S. Coliseum Dr. (Road Closure)
DESCRIPTION:Road Closure for pedestrian traffic to BMO Stadium
URL:https://expositionpark.ca.gov/event/s-coliseum-dr-road-closure-4/
LOCATION:S. Coliseum Drive
GEO:36.778261;-119.4179324
END:VEVENT
BEGIN:VEVENT
DTSTART;TZID=America/Los_Angeles:20230304T080000
DTEND;TZID=America/Los_Angeles:20230304T180000
DTSTAMP:20260423T092723
CREATED:20230309T221301Z
LAST-MODIFIED:20230309T221301Z
UID:10054467-1677916800-1677952800@expositionpark.ca.gov
SUMMARY:Road Closure - S. Coliseum Dr.
DESCRIPTION:Pedestrian access to BMO Stadium
URL:https://expositionpark.ca.gov/event/road-closure-s-coliseum-dr-3/
LOCATION:S. Coliseum Drive
GEO:36.778261;-119.4179324
END:VEVENT
BEGIN:VEVENT
DTSTART;TZID=America/Los_Angeles:20211002T143000
DTEND;TZID=America/Los_Angeles:20211003T010000
DTSTAMP:20260423T092723
CREATED:20210930T002419Z
LAST-MODIFIED:20210930T002419Z
UID:10053874-1633185000-1633222800@expositionpark.ca.gov
SUMMARY:BOCS Road Closure
DESCRIPTION:Road closure of S Coliseum for ped safety into Maroon 5 show.
URL:https://expositionpark.ca.gov/event/bocs-road-closure-7/
LOCATION:S. Coliseum Drive
GEO:36.778261;-119.4179324
END:VEVENT
BEGIN:VEVENT
DTSTART;TZID=America/Los_Angeles:20210929T143000
DTEND;TZID=America/Los_Angeles:20210929T230000
DTSTAMP:20260423T092723
CREATED:20210927T230010Z
LAST-MODIFIED:20210927T230305Z
UID:10053872-1632925800-1632956400@expositionpark.ca.gov
SUMMARY:LAFC Road Closure
DESCRIPTION:
URL:https://expositionpark.ca.gov/event/lafc-road-closure-21/
LOCATION:S. Coliseum Drive
GEO:36.778261;-119.4179324
END:VEVENT
BEGIN:VEVENT
DTSTART;TZID=America/Los_Angeles:20201215T080000
DTEND;TZID=America/Los_Angeles:20201215T110000
DTSTAMP:20260423T092723
CREATED:20201212T040100Z
LAST-MODIFIED:20201212T040100Z
UID:10053526-1608019200-1608030000@expositionpark.ca.gov
SUMMARY:Toy and Food Drive
DESCRIPTION:1200 Preregistered guests will be invited to pick up food and toys for the holidays. Not open to general public.
URL:https://expositionpark.ca.gov/event/toy-and-food-drive/
LOCATION:S. Coliseum Drive
GEO:36.778261;-119.4179324
END:VEVENT
BEGIN:VEVENT
DTSTART;TZID=America/Los_Angeles:20201118T090000
DTEND;TZID=America/Los_Angeles:20201118T120000
DTSTAMP:20260423T092723
CREATED:20201110T230559Z
LAST-MODIFIED:20201110T230559Z
UID:10053516-1605690000-1605700800@expositionpark.ca.gov
SUMMARY:LAFC Thanksgiving Box Donation
DESCRIPTION:Drive through event on South Coliseum Drive.
URL:https://expositionpark.ca.gov/event/lafc-thanksgiving-box-donation/
LOCATION:S. Coliseum Drive
GEO:36.778261;-119.4179324
END:VEVENT
BEGIN:VEVENT
DTSTART;TZID=America/Los_Angeles:20201004T120000
DTEND;TZID=America/Los_Angeles:20201004T150000
DTSTAMP:20260423T092723
CREATED:20201003T012902Z
LAST-MODIFIED:20201003T012902Z
UID:10051734-1601812800-1601823600@expositionpark.ca.gov
SUMMARY:LAFC Member Care Package Event
DESCRIPTION:Private event – Not Open to the Public
URL:https://expositionpark.ca.gov/event/lafc-member-care-package-event-2/
LOCATION:S. Coliseum Drive
GEO:36.778261;-119.4179324
END:VEVENT
BEGIN:VEVENT
DTSTART;TZID=America/Los_Angeles:20200718T100000
DTEND;TZID=America/Los_Angeles:20200718T160000
DTSTAMP:20260423T092723
CREATED:20200714T222346Z
LAST-MODIFIED:20200714T222346Z
UID:10053489-1595066400-1595088000@expositionpark.ca.gov
SUMMARY:LAFC Member Care Package Event
DESCRIPTION:Drive thru event. LAFC Member Care Package recipients will be driving in via 39th and Figueroa and then circling Christmas Tree Lane onto S. Coliseum Drive. \n 
URL:https://expositionpark.ca.gov/event/lafc-member-care-package-event/
LOCATION:S. Coliseum Drive
GEO:36.778261;-119.4179324
END:VEVENT
BEGIN:VEVENT
DTSTART;TZID=America/Los_Angeles:20200514T090000
DTEND;TZID=America/Los_Angeles:20200514T140000
DTSTAMP:20260423T092723
CREATED:20200508T230003Z
LAST-MODIFIED:20200511T171912Z
UID:10053477-1589446800-1589464800@expositionpark.ca.gov
SUMMARY:The Salvation Army Food Distribution
DESCRIPTION:Please note\, the event is not open to the general public\, and recipients must have received an invitation to attend.
URL:https://expositionpark.ca.gov/event/the-salvation-army-food-distribution/
LOCATION:S. Coliseum Drive
GEO:36.778261;-119.4179324
END:VEVENT
BEGIN:VEVENT
DTSTART;TZID=America/Los_Angeles:20200312T150000
DTEND;TZID=America/Los_Angeles:20200312T235900
DTSTAMP:20260423T092723
CREATED:20200308T235340Z
LAST-MODIFIED:20200308T235340Z
UID:10053456-1584025200-1584057540@expositionpark.ca.gov
SUMMARY:LAFC Road Closure
DESCRIPTION:S. Coliseum Drive will be closed. \nLAFC vs Cruz Azul (7:30pm kickoff)
URL:https://expositionpark.ca.gov/event/lafc-road-closure-15/
LOCATION:S. Coliseum Drive
GEO:36.778261;-119.4179324
END:VEVENT
BEGIN:VEVENT
DTSTART;TZID=America/Los_Angeles:20200308T113000
DTEND;TZID=America/Los_Angeles:20200308T233000
DTSTAMP:20260423T092723
CREATED:20200305T015044Z
LAST-MODIFIED:20200305T015044Z
UID:10053453-1583667000-1583710200@expositionpark.ca.gov
SUMMARY:LAFC Road Closure
DESCRIPTION:S. Coliseum Drive will be closed. \nLAFC vs Philadelphia Union (7:30pm kickoff)
URL:https://expositionpark.ca.gov/event/lafc-road-closure-14/
LOCATION:S. Coliseum Drive
GEO:36.778261;-119.4179324
END:VEVENT
BEGIN:VEVENT
DTSTART;TZID=America/Los_Angeles:20200227T130000
DTEND;TZID=America/Los_Angeles:20200227T230000
DTSTAMP:20260423T092723
CREATED:20200218T231128Z
LAST-MODIFIED:20200218T231128Z
UID:10051660-1582808400-1582844400@expositionpark.ca.gov
SUMMARY:LAFC Road Closure
DESCRIPTION:S. Coliseum Drive will be closed. \nLAFC vs Club Leon (7:00pm kickoff)
URL:https://expositionpark.ca.gov/event/lafc-road-closure-13/
LOCATION:S. Coliseum Drive
GEO:36.778261;-119.4179324
END:VEVENT
BEGIN:VEVENT
DTSTART;TZID=America/Los_Angeles:20191029T140000
DTEND;TZID=America/Los_Angeles:20191029T235900
DTSTAMP:20260423T092723
CREATED:20191026T002824Z
LAST-MODIFIED:20191026T002824Z
UID:10051559-1572357600-1572393540@expositionpark.ca.gov
SUMMARY:LAFC Road Closure
DESCRIPTION:South Coliseum Drive road closure for pedestrian safety. \nLAFC vs Seattle Sounders Kickoff Time is 7:00pm
URL:https://expositionpark.ca.gov/event/lafc-road-closure-12/
LOCATION:S. Coliseum Drive
GEO:36.778261;-119.4179324
END:VEVENT
BEGIN:VEVENT
DTSTART;TZID=America/Los_Angeles:20190925T133000
DTEND;TZID=America/Los_Angeles:20190925T230000
DTSTAMP:20260423T092723
CREATED:20190918T173039Z
LAST-MODIFIED:20190918T173039Z
UID:10053247-1569418200-1569452400@expositionpark.ca.gov
SUMMARY:LAFC Road Closure
DESCRIPTION:South Coliseum Drive road closure for pedestrian safety. \nLAFC vs Houston Dynamo Kickoff Time is 7:30pm
URL:https://expositionpark.ca.gov/event/lafc-road-closure-11/
LOCATION:S. Coliseum Drive
GEO:36.778261;-119.4179324
END:VEVENT
BEGIN:VEVENT
DTSTART;TZID=America/Los_Angeles:20190921T133000
DTEND;TZID=America/Los_Angeles:20190921T230000
DTSTAMP:20260423T092723
CREATED:20190916T173102Z
LAST-MODIFIED:20190916T173102Z
UID:10053243-1569072600-1569106800@expositionpark.ca.gov
SUMMARY:LAFC Road Closure
DESCRIPTION:South Coliseum Drive road closure for pedestrian safety. \nLAFC vs Toronto FC Kickoff Time is 7:30pm
URL:https://expositionpark.ca.gov/event/lafc-road-closure-10/
LOCATION:S. Coliseum Drive
GEO:36.778261;-119.4179324
END:VEVENT
BEGIN:VEVENT
DTSTART;TZID=America/Los_Angeles:20190914T100000
DTEND;TZID=America/Los_Angeles:20190914T230000
DTSTAMP:20260423T092723
CREATED:20190904T154553Z
LAST-MODIFIED:20190904T154553Z
UID:10053233-1568455200-1568502000@expositionpark.ca.gov
SUMMARY:BOCS Road Closure
DESCRIPTION:South Coliseum Drive road closure for pedestrian safety on ingress leading up to the Iron Maiden concert being held at the Banc of California Stadium.
URL:https://expositionpark.ca.gov/event/bocs-road-closure-5/
LOCATION:S. Coliseum Drive
GEO:36.778261;-119.4179324
END:VEVENT
BEGIN:VEVENT
DTSTART;TZID=America/Los_Angeles:20190901T133000
DTEND;TZID=America/Los_Angeles:20190901T230000
DTSTAMP:20260423T092723
CREATED:20190826T181317Z
LAST-MODIFIED:20190826T181317Z
UID:10053224-1567344600-1567378800@expositionpark.ca.gov
SUMMARY:LAFC Road Closure
DESCRIPTION:South Coliseum Drive road closure for pedestrian safety. LAFC vs Minnesota United FC Kickoff Time is 7:30pm
URL:https://expositionpark.ca.gov/event/lafc-road-closure-9/
LOCATION:S. Coliseum Drive
GEO:36.778261;-119.4179324
END:VEVENT
BEGIN:VEVENT
DTSTART;TZID=America/Los_Angeles:20190821T133000
DTEND;TZID=America/Los_Angeles:20190821T230000
DTSTAMP:20260423T092723
CREATED:20190812T212238Z
LAST-MODIFIED:20190812T212238Z
UID:10051500-1566394200-1566428400@expositionpark.ca.gov
SUMMARY:LAFC Road Closure
DESCRIPTION:South Coliseum Drive road closure for pedestrian safety. \nLAFC vs San Jose Earthquakes Kickoff Time is 7:30pm
URL:https://expositionpark.ca.gov/event/lafc-road-closure-8/
LOCATION:S. Coliseum Drive
GEO:36.778261;-119.4179324
END:VEVENT
BEGIN:VEVENT
DTSTART;TZID=America/Los_Angeles:20190811T130000
DTEND;TZID=America/Los_Angeles:20190811T223000
DTSTAMP:20260423T092723
CREATED:20190805T171557Z
LAST-MODIFIED:20190805T171557Z
UID:10051493-1565528400-1565562600@expositionpark.ca.gov
SUMMARY:LAFC Road Closure
DESCRIPTION:South Coliseum Drive road closure for pedestrian safety. \nLAFC vs NY Red Bulls Kickoff Time is 7:00pm
URL:https://expositionpark.ca.gov/event/lafc-road-closure-7/
LOCATION:S. Coliseum Drive
GEO:36.778261;-119.4179324
END:VEVENT
BEGIN:VEVENT
DTSTART;TZID=America/Los_Angeles:20190803T100000
DTEND;TZID=America/Los_Angeles:20190803T235900
DTSTAMP:20260423T092723
CREATED:20190726T182724Z
LAST-MODIFIED:20190726T182724Z
UID:10051487-1564826400-1564876740@expositionpark.ca.gov
SUMMARY:BOCS Road Closure
DESCRIPTION:South Coliseum Drive road closure for pedestrian safety on ingress leading up to the Mumford and Sons concert being held at the Banc of California Stadium.
URL:https://expositionpark.ca.gov/event/bocs-road-closure-4/
LOCATION:S. Coliseum Drive
GEO:36.778261;-119.4179324
END:VEVENT
BEGIN:VEVENT
DTSTART;TZID=America/Los_Angeles:20190710T143000
DTEND;TZID=America/Los_Angeles:20190710T235900
DTSTAMP:20260423T092723
CREATED:20190708T225540Z
LAST-MODIFIED:20190708T225540Z
UID:10053150-1562769000-1562803140@expositionpark.ca.gov
SUMMARY:BOCS Road Closure
DESCRIPTION:South Coliseum Drive road closure for pedestrian safety on ingress of the U.S Open Cup match being held at the Banc of California Stadium. \nLAFC vs Portland Timbers Kickoff Time is 7:30pm
URL:https://expositionpark.ca.gov/event/bocs-road-closure-3/
LOCATION:S. Coliseum Drive
GEO:36.778261;-119.4179324
END:VEVENT
BEGIN:VEVENT
DTSTART;TZID=America/Los_Angeles:20190629T120000
DTEND;TZID=America/Los_Angeles:20190630T010000
DTSTAMP:20260423T092723
CREATED:20190625T213922Z
LAST-MODIFIED:20190625T213922Z
UID:10053122-1561809600-1561856400@expositionpark.ca.gov
SUMMARY:BOCS Road Closure
DESCRIPTION:South Coliseum Drive road closure for pedestrian safety on ingress leading up to the Misfits concert being held at the Banc of California Stadium.
URL:https://expositionpark.ca.gov/event/bocs-road-closure-2/
LOCATION:S. Coliseum Drive
GEO:36.778261;-119.4179324
END:VEVENT
BEGIN:VEVENT
DTSTART;TZID=America/Los_Angeles:20190625T120000
DTEND;TZID=America/Los_Angeles:20190625T230000
DTSTAMP:20260423T092723
CREATED:20190614T175840Z
LAST-MODIFIED:20190624T215405Z
UID:10053068-1561464000-1561503600@expositionpark.ca.gov
SUMMARY:BOCS Road Closure
DESCRIPTION:S. Coliseum Drive will be closed. \nJamaica vs Curacao (5:00pm kickoff)\nHonduras vs El Salvador \n 
URL:https://expositionpark.ca.gov/event/bocs-road-closure/
LOCATION:S. Coliseum Drive
GEO:36.778261;-119.4179324
END:VEVENT
BEGIN:VEVENT
DTSTART;TZID=America/Los_Angeles:20190524T133000
DTEND;TZID=America/Los_Angeles:20190524T230000
DTSTAMP:20260423T092723
CREATED:20190521T223603Z
LAST-MODIFIED:20190521T223610Z
UID:10051341-1558704600-1558738800@expositionpark.ca.gov
SUMMARY:LAFC Road Closure
DESCRIPTION:S. Coliseum Drive will be closed. \nLAFC vs Montreal Impact (7:30pm kickoff)
URL:https://expositionpark.ca.gov/event/lafc-road-closure-5/
LOCATION:S. Coliseum Drive
GEO:36.778261;-119.4179324
END:VEVENT
BEGIN:VEVENT
DTSTART;TZID=America/Los_Angeles:20190516T130000
DTEND;TZID=America/Los_Angeles:20190516T223000
DTSTAMP:20260423T092723
CREATED:20190506T185120Z
LAST-MODIFIED:20190506T185120Z
UID:10052950-1558011600-1558045800@expositionpark.ca.gov
SUMMARY:LAFC Road Closure
DESCRIPTION:S. Coliseum Drive will be closed. \nLAFC vs FC Dallas (7:00pm kickoff)
URL:https://expositionpark.ca.gov/event/lafc-road-closure-4/
LOCATION:S. Coliseum Drive
GEO:36.778261;-119.4179324
END:VEVENT
BEGIN:VEVENT
DTSTART;TZID=America/Los_Angeles:20190421T080000
DTEND;TZID=America/Los_Angeles:20190421T220000
DTSTAMP:20260423T092723
CREATED:20190416T180444Z
LAST-MODIFIED:20190416T180454Z
UID:10052860-1555833600-1555884000@expositionpark.ca.gov
SUMMARY:LAFC Road Closure
DESCRIPTION:S. Coliseum Drive will be closed. \nLAFC vs Seattle Sounders FC (4:00pm kickoff)
URL:https://expositionpark.ca.gov/event/lafc-road-closure-3/
LOCATION:S. Coliseum Drive
GEO:36.778261;-119.4179324
END:VEVENT
BEGIN:VEVENT
DTSTART;TZID=America/Los_Angeles:20190413T133000
DTEND;TZID=America/Los_Angeles:20190413T230000
DTSTAMP:20260423T092723
CREATED:20190408T164120Z
LAST-MODIFIED:20190408T164120Z
UID:10052839-1555162200-1555196400@expositionpark.ca.gov
SUMMARY:LAFC Road Closure
DESCRIPTION:S. Coliseum Drive will be closed. \nLAFC vs FC Cincinnati match (7:30pm kickoff)
URL:https://expositionpark.ca.gov/event/lafc-road-closure-2/
LOCATION:S. Coliseum Drive
GEO:36.778261;-119.4179324
END:VEVENT
END:VCALENDAR