BEGIN:VCALENDAR
VERSION:2.0
PRODID:-//Exposition Park - ECPv6.15.20//NONSGML v1.0//EN
CALSCALE:GREGORIAN
METHOD:PUBLISH
X-WR-CALNAME:Exposition Park
X-ORIGINAL-URL:https://expositionpark.ca.gov
X-WR-CALDESC:Events for Exposition Park
REFRESH-INTERVAL;VALUE=DURATION:PT1H
X-Robots-Tag:noindex
X-PUBLISHED-TTL:PT1H
BEGIN:VTIMEZONE
TZID:America/Los_Angeles
BEGIN:DAYLIGHT
TZOFFSETFROM:-0800
TZOFFSETTO:-0700
TZNAME:PDT
DTSTART:20200308T100000
END:DAYLIGHT
BEGIN:STANDARD
TZOFFSETFROM:-0700
TZOFFSETTO:-0800
TZNAME:PST
DTSTART:20201101T090000
END:STANDARD
BEGIN:DAYLIGHT
TZOFFSETFROM:-0800
TZOFFSETTO:-0700
TZNAME:PDT
DTSTART:20210314T100000
END:DAYLIGHT
BEGIN:STANDARD
TZOFFSETFROM:-0700
TZOFFSETTO:-0800
TZNAME:PST
DTSTART:20211107T090000
END:STANDARD
BEGIN:DAYLIGHT
TZOFFSETFROM:-0800
TZOFFSETTO:-0700
TZNAME:PDT
DTSTART:20220313T100000
END:DAYLIGHT
BEGIN:STANDARD
TZOFFSETFROM:-0700
TZOFFSETTO:-0800
TZNAME:PST
DTSTART:20221106T090000
END:STANDARD
END:VTIMEZONE
BEGIN:VEVENT
DTSTART;TZID=America/Los_Angeles:20210616T210000
DTEND;TZID=America/Los_Angeles:20210616T223000
DTSTAMP:20260423T094728
CREATED:20210511T165912Z
LAST-MODIFIED:20210511T165912Z
UID:10051823-1623877200-1623882600@expositionpark.ca.gov
SUMMARY:Tri Color Soccer League
DESCRIPTION:
URL:https://expositionpark.ca.gov/event/tri-color-soccer-league-3/2021-06-16/
LOCATION:Soboroff Playfield\, 3980 S. Bill Robertson Lane\, Los Angeles\, CA\, 90037\, United States
END:VEVENT
BEGIN:VEVENT
DTSTART;TZID=America/Los_Angeles:20210615T210000
DTEND;TZID=America/Los_Angeles:20210615T223000
DTSTAMP:20260423T094728
CREATED:20210511T165912Z
LAST-MODIFIED:20210511T165912Z
UID:10051822-1623790800-1623796200@expositionpark.ca.gov
SUMMARY:Tri Color Soccer League
DESCRIPTION:
URL:https://expositionpark.ca.gov/event/tri-color-soccer-league-3/2021-06-15/
LOCATION:Soboroff Playfield\, 3980 S. Bill Robertson Lane\, Los Angeles\, CA\, 90037\, United States
END:VEVENT
BEGIN:VEVENT
DTSTART;TZID=America/Los_Angeles:20210615T190000
DTEND;TZID=America/Los_Angeles:20210615T210000
DTSTAMP:20260423T094728
CREATED:20210511T170133Z
LAST-MODIFIED:20210511T170133Z
UID:10051847-1623783600-1623790800@expositionpark.ca.gov
SUMMARY:Vermont Sports/ South Bay Falcons Soccer League
DESCRIPTION:
URL:https://expositionpark.ca.gov/event/vermont-sports-south-bay-falcons-soccer-league/2021-06-15/
LOCATION:Soboroff Playfield\, 3980 S. Bill Robertson Lane\, Los Angeles\, CA\, 90037\, United States
END:VEVENT
BEGIN:VEVENT
DTSTART;TZID=America/Los_Angeles:20210614T210000
DTEND;TZID=America/Los_Angeles:20210614T223000
DTSTAMP:20260423T094728
CREATED:20210511T165912Z
LAST-MODIFIED:20210511T165912Z
UID:10051821-1623704400-1623709800@expositionpark.ca.gov
SUMMARY:Tri Color Soccer League
DESCRIPTION:
URL:https://expositionpark.ca.gov/event/tri-color-soccer-league-3/2021-06-14/
LOCATION:Soboroff Playfield\, 3980 S. Bill Robertson Lane\, Los Angeles\, CA\, 90037\, United States
END:VEVENT
BEGIN:VEVENT
DTSTART;TZID=America/Los_Angeles:20210613T080000
DTEND;TZID=America/Los_Angeles:20210613T170000
DTSTAMP:20260423T094728
CREATED:20250517T014230Z
LAST-MODIFIED:20250517T014230Z
UID:10051856-1623571200-1623603600@expositionpark.ca.gov
SUMMARY:Vermont Sports/ South Bay Falcons Soccer League
DESCRIPTION:
URL:https://expositionpark.ca.gov/event/vermont-sports-south-bay-falcons-soccer-league/2021-06-13/
LOCATION:Soboroff Playfield\, 3980 S. Bill Robertson Lane\, Los Angeles\, CA\, 90037\, United States
END:VEVENT
BEGIN:VEVENT
DTSTART;TZID=America/Los_Angeles:20210610T210000
DTEND;TZID=America/Los_Angeles:20210610T223000
DTSTAMP:20260423T094728
CREATED:20210511T165912Z
LAST-MODIFIED:20210511T165912Z
UID:10051820-1623358800-1623364200@expositionpark.ca.gov
SUMMARY:Tri Color Soccer League
DESCRIPTION:
URL:https://expositionpark.ca.gov/event/tri-color-soccer-league-3/2021-06-10/
LOCATION:Soboroff Playfield\, 3980 S. Bill Robertson Lane\, Los Angeles\, CA\, 90037\, United States
END:VEVENT
BEGIN:VEVENT
DTSTART;TZID=America/Los_Angeles:20210610T190000
DTEND;TZID=America/Los_Angeles:20210610T210000
DTSTAMP:20260423T094728
CREATED:20210511T170133Z
LAST-MODIFIED:20210511T170133Z
UID:10051846-1623351600-1623358800@expositionpark.ca.gov
SUMMARY:Vermont Sports/ South Bay Falcons Soccer League
DESCRIPTION:
URL:https://expositionpark.ca.gov/event/vermont-sports-south-bay-falcons-soccer-league/2021-06-10/
LOCATION:Soboroff Playfield\, 3980 S. Bill Robertson Lane\, Los Angeles\, CA\, 90037\, United States
END:VEVENT
BEGIN:VEVENT
DTSTART;TZID=America/Los_Angeles:20210609T210000
DTEND;TZID=America/Los_Angeles:20210609T223000
DTSTAMP:20260423T094728
CREATED:20210511T165912Z
LAST-MODIFIED:20210511T165912Z
UID:10051819-1623272400-1623277800@expositionpark.ca.gov
SUMMARY:Tri Color Soccer League
DESCRIPTION:
URL:https://expositionpark.ca.gov/event/tri-color-soccer-league-3/2021-06-09/
LOCATION:Soboroff Playfield\, 3980 S. Bill Robertson Lane\, Los Angeles\, CA\, 90037\, United States
END:VEVENT
BEGIN:VEVENT
DTSTART;TZID=America/Los_Angeles:20210608T210000
DTEND;TZID=America/Los_Angeles:20210608T223000
DTSTAMP:20260423T094728
CREATED:20210511T165912Z
LAST-MODIFIED:20210511T165912Z
UID:10051818-1623186000-1623191400@expositionpark.ca.gov
SUMMARY:Tri Color Soccer League
DESCRIPTION:
URL:https://expositionpark.ca.gov/event/tri-color-soccer-league-3/2021-06-08/
LOCATION:Soboroff Playfield\, 3980 S. Bill Robertson Lane\, Los Angeles\, CA\, 90037\, United States
END:VEVENT
BEGIN:VEVENT
DTSTART;TZID=America/Los_Angeles:20210608T190000
DTEND;TZID=America/Los_Angeles:20210608T210000
DTSTAMP:20260423T094728
CREATED:20210511T170133Z
LAST-MODIFIED:20210511T170133Z
UID:10051845-1623178800-1623186000@expositionpark.ca.gov
SUMMARY:Vermont Sports/ South Bay Falcons Soccer League
DESCRIPTION:
URL:https://expositionpark.ca.gov/event/vermont-sports-south-bay-falcons-soccer-league/2021-06-08/
LOCATION:Soboroff Playfield\, 3980 S. Bill Robertson Lane\, Los Angeles\, CA\, 90037\, United States
END:VEVENT
BEGIN:VEVENT
DTSTART;TZID=America/Los_Angeles:20210607T210000
DTEND;TZID=America/Los_Angeles:20210607T223000
DTSTAMP:20260423T094728
CREATED:20210511T165912Z
LAST-MODIFIED:20210511T165912Z
UID:10051817-1623099600-1623105000@expositionpark.ca.gov
SUMMARY:Tri Color Soccer League
DESCRIPTION:
URL:https://expositionpark.ca.gov/event/tri-color-soccer-league-3/2021-06-07/
LOCATION:Soboroff Playfield\, 3980 S. Bill Robertson Lane\, Los Angeles\, CA\, 90037\, United States
END:VEVENT
BEGIN:VEVENT
DTSTART;TZID=America/Los_Angeles:20210606T080000
DTEND;TZID=America/Los_Angeles:20210606T170000
DTSTAMP:20260423T094728
CREATED:20250517T014230Z
LAST-MODIFIED:20250517T014230Z
UID:10051855-1622966400-1622998800@expositionpark.ca.gov
SUMMARY:Vermont Sports/ South Bay Falcons Soccer League
DESCRIPTION:
URL:https://expositionpark.ca.gov/event/vermont-sports-south-bay-falcons-soccer-league/2021-06-06/
LOCATION:Soboroff Playfield\, 3980 S. Bill Robertson Lane\, Los Angeles\, CA\, 90037\, United States
END:VEVENT
BEGIN:VEVENT
DTSTART;TZID=America/Los_Angeles:20210603T210000
DTEND;TZID=America/Los_Angeles:20210603T223000
DTSTAMP:20260423T094728
CREATED:20210511T165912Z
LAST-MODIFIED:20210511T165912Z
UID:10051816-1622754000-1622759400@expositionpark.ca.gov
SUMMARY:Tri Color Soccer League
DESCRIPTION:
URL:https://expositionpark.ca.gov/event/tri-color-soccer-league-3/2021-06-03/
LOCATION:Soboroff Playfield\, 3980 S. Bill Robertson Lane\, Los Angeles\, CA\, 90037\, United States
END:VEVENT
BEGIN:VEVENT
DTSTART;TZID=America/Los_Angeles:20210603T190000
DTEND;TZID=America/Los_Angeles:20210603T210000
DTSTAMP:20260423T094728
CREATED:20210511T170133Z
LAST-MODIFIED:20210511T170133Z
UID:10051844-1622746800-1622754000@expositionpark.ca.gov
SUMMARY:Vermont Sports/ South Bay Falcons Soccer League
DESCRIPTION:
URL:https://expositionpark.ca.gov/event/vermont-sports-south-bay-falcons-soccer-league/2021-06-03/
LOCATION:Soboroff Playfield\, 3980 S. Bill Robertson Lane\, Los Angeles\, CA\, 90037\, United States
END:VEVENT
BEGIN:VEVENT
DTSTART;TZID=America/Los_Angeles:20210602T210000
DTEND;TZID=America/Los_Angeles:20210602T223000
DTSTAMP:20260423T094728
CREATED:20210511T165912Z
LAST-MODIFIED:20210511T165912Z
UID:10051815-1622667600-1622673000@expositionpark.ca.gov
SUMMARY:Tri Color Soccer League
DESCRIPTION:
URL:https://expositionpark.ca.gov/event/tri-color-soccer-league-3/2021-06-02/
LOCATION:Soboroff Playfield\, 3980 S. Bill Robertson Lane\, Los Angeles\, CA\, 90037\, United States
END:VEVENT
BEGIN:VEVENT
DTSTART;TZID=America/Los_Angeles:20210601T210000
DTEND;TZID=America/Los_Angeles:20210601T223000
DTSTAMP:20260423T094728
CREATED:20210511T165912Z
LAST-MODIFIED:20210511T165912Z
UID:10051814-1622581200-1622586600@expositionpark.ca.gov
SUMMARY:Tri Color Soccer League
DESCRIPTION:
URL:https://expositionpark.ca.gov/event/tri-color-soccer-league-3/2021-06-01/
LOCATION:Soboroff Playfield\, 3980 S. Bill Robertson Lane\, Los Angeles\, CA\, 90037\, United States
END:VEVENT
BEGIN:VEVENT
DTSTART;TZID=America/Los_Angeles:20210601T190000
DTEND;TZID=America/Los_Angeles:20210601T210000
DTSTAMP:20260423T094728
CREATED:20210511T170133Z
LAST-MODIFIED:20210511T170133Z
UID:10051843-1622574000-1622581200@expositionpark.ca.gov
SUMMARY:Vermont Sports/ South Bay Falcons Soccer League
DESCRIPTION:
URL:https://expositionpark.ca.gov/event/vermont-sports-south-bay-falcons-soccer-league/2021-06-01/
LOCATION:Soboroff Playfield\, 3980 S. Bill Robertson Lane\, Los Angeles\, CA\, 90037\, United States
END:VEVENT
BEGIN:VEVENT
DTSTART;TZID=America/Los_Angeles:20210531T210000
DTEND;TZID=America/Los_Angeles:20210531T223000
DTSTAMP:20260423T094728
CREATED:20210511T165912Z
LAST-MODIFIED:20210511T165912Z
UID:10051813-1622494800-1622500200@expositionpark.ca.gov
SUMMARY:Tri Color Soccer League
DESCRIPTION:
URL:https://expositionpark.ca.gov/event/tri-color-soccer-league-3/2021-05-31/
LOCATION:Soboroff Playfield\, 3980 S. Bill Robertson Lane\, Los Angeles\, CA\, 90037\, United States
END:VEVENT
BEGIN:VEVENT
DTSTART;TZID=America/Los_Angeles:20210530T080000
DTEND;TZID=America/Los_Angeles:20210530T170000
DTSTAMP:20260423T094728
CREATED:20250517T014230Z
LAST-MODIFIED:20250517T014230Z
UID:10051854-1622361600-1622394000@expositionpark.ca.gov
SUMMARY:Vermont Sports/ South Bay Falcons Soccer League
DESCRIPTION:
URL:https://expositionpark.ca.gov/event/vermont-sports-south-bay-falcons-soccer-league/2021-05-30/
LOCATION:Soboroff Playfield\, 3980 S. Bill Robertson Lane\, Los Angeles\, CA\, 90037\, United States
END:VEVENT
BEGIN:VEVENT
DTSTART;TZID=America/Los_Angeles:20210527T210000
DTEND;TZID=America/Los_Angeles:20210527T223000
DTSTAMP:20260423T094728
CREATED:20210511T165912Z
LAST-MODIFIED:20210511T165912Z
UID:10051812-1622149200-1622154600@expositionpark.ca.gov
SUMMARY:Tri Color Soccer League
DESCRIPTION:
URL:https://expositionpark.ca.gov/event/tri-color-soccer-league-3/2021-05-27/
LOCATION:Soboroff Playfield\, 3980 S. Bill Robertson Lane\, Los Angeles\, CA\, 90037\, United States
END:VEVENT
BEGIN:VEVENT
DTSTART;TZID=America/Los_Angeles:20210527T190000
DTEND;TZID=America/Los_Angeles:20210527T210000
DTSTAMP:20260423T094728
CREATED:20210511T170133Z
LAST-MODIFIED:20210511T170133Z
UID:10051842-1622142000-1622149200@expositionpark.ca.gov
SUMMARY:Vermont Sports/ South Bay Falcons Soccer League
DESCRIPTION:
URL:https://expositionpark.ca.gov/event/vermont-sports-south-bay-falcons-soccer-league/2021-05-27/
LOCATION:Soboroff Playfield\, 3980 S. Bill Robertson Lane\, Los Angeles\, CA\, 90037\, United States
END:VEVENT
BEGIN:VEVENT
DTSTART;TZID=America/Los_Angeles:20210526T210000
DTEND;TZID=America/Los_Angeles:20210526T223000
DTSTAMP:20260423T094728
CREATED:20210511T165912Z
LAST-MODIFIED:20210511T165912Z
UID:10051811-1622062800-1622068200@expositionpark.ca.gov
SUMMARY:Tri Color Soccer League
DESCRIPTION:
URL:https://expositionpark.ca.gov/event/tri-color-soccer-league-3/2021-05-26/
LOCATION:Soboroff Playfield\, 3980 S. Bill Robertson Lane\, Los Angeles\, CA\, 90037\, United States
END:VEVENT
BEGIN:VEVENT
DTSTART;TZID=America/Los_Angeles:20210525T210000
DTEND;TZID=America/Los_Angeles:20210525T223000
DTSTAMP:20260423T094728
CREATED:20210511T165912Z
LAST-MODIFIED:20210511T165912Z
UID:10051810-1621976400-1621981800@expositionpark.ca.gov
SUMMARY:Tri Color Soccer League
DESCRIPTION:
URL:https://expositionpark.ca.gov/event/tri-color-soccer-league-3/2021-05-25/
LOCATION:Soboroff Playfield\, 3980 S. Bill Robertson Lane\, Los Angeles\, CA\, 90037\, United States
END:VEVENT
BEGIN:VEVENT
DTSTART;TZID=America/Los_Angeles:20210525T190000
DTEND;TZID=America/Los_Angeles:20210525T210000
DTSTAMP:20260423T094728
CREATED:20210511T170133Z
LAST-MODIFIED:20210511T170133Z
UID:10051841-1621969200-1621976400@expositionpark.ca.gov
SUMMARY:Vermont Sports/ South Bay Falcons Soccer League
DESCRIPTION:
URL:https://expositionpark.ca.gov/event/vermont-sports-south-bay-falcons-soccer-league/2021-05-25/
LOCATION:Soboroff Playfield\, 3980 S. Bill Robertson Lane\, Los Angeles\, CA\, 90037\, United States
END:VEVENT
BEGIN:VEVENT
DTSTART;TZID=America/Los_Angeles:20210524T210000
DTEND;TZID=America/Los_Angeles:20210524T223000
DTSTAMP:20260423T094728
CREATED:20210511T165912Z
LAST-MODIFIED:20210511T165912Z
UID:10051809-1621890000-1621895400@expositionpark.ca.gov
SUMMARY:Tri Color Soccer League
DESCRIPTION:
URL:https://expositionpark.ca.gov/event/tri-color-soccer-league-3/2021-05-24/
LOCATION:Soboroff Playfield\, 3980 S. Bill Robertson Lane\, Los Angeles\, CA\, 90037\, United States
END:VEVENT
BEGIN:VEVENT
DTSTART;TZID=America/Los_Angeles:20210523T080000
DTEND;TZID=America/Los_Angeles:20210523T170000
DTSTAMP:20260423T094728
CREATED:20250517T014230Z
LAST-MODIFIED:20250517T014230Z
UID:10051853-1621756800-1621789200@expositionpark.ca.gov
SUMMARY:Vermont Sports/ South Bay Falcons Soccer League
DESCRIPTION:
URL:https://expositionpark.ca.gov/event/vermont-sports-south-bay-falcons-soccer-league/2021-05-23/
LOCATION:Soboroff Playfield\, 3980 S. Bill Robertson Lane\, Los Angeles\, CA\, 90037\, United States
END:VEVENT
BEGIN:VEVENT
DTSTART;TZID=America/Los_Angeles:20210520T210000
DTEND;TZID=America/Los_Angeles:20210520T223000
DTSTAMP:20260423T094728
CREATED:20210511T165912Z
LAST-MODIFIED:20210511T165912Z
UID:10051808-1621544400-1621549800@expositionpark.ca.gov
SUMMARY:Tri Color Soccer League
DESCRIPTION:
URL:https://expositionpark.ca.gov/event/tri-color-soccer-league-3/2021-05-20/
LOCATION:Soboroff Playfield\, 3980 S. Bill Robertson Lane\, Los Angeles\, CA\, 90037\, United States
END:VEVENT
BEGIN:VEVENT
DTSTART;TZID=America/Los_Angeles:20210520T190000
DTEND;TZID=America/Los_Angeles:20210520T210000
DTSTAMP:20260423T094728
CREATED:20210511T170133Z
LAST-MODIFIED:20210511T170133Z
UID:10051840-1621537200-1621544400@expositionpark.ca.gov
SUMMARY:Vermont Sports/ South Bay Falcons Soccer League
DESCRIPTION:
URL:https://expositionpark.ca.gov/event/vermont-sports-south-bay-falcons-soccer-league/2021-05-20/
LOCATION:Soboroff Playfield\, 3980 S. Bill Robertson Lane\, Los Angeles\, CA\, 90037\, United States
END:VEVENT
BEGIN:VEVENT
DTSTART;TZID=America/Los_Angeles:20210519T210000
DTEND;TZID=America/Los_Angeles:20210519T223000
DTSTAMP:20260423T094728
CREATED:20210511T165912Z
LAST-MODIFIED:20210511T165912Z
UID:10051807-1621458000-1621463400@expositionpark.ca.gov
SUMMARY:Tri Color Soccer League
DESCRIPTION:
URL:https://expositionpark.ca.gov/event/tri-color-soccer-league-3/2021-05-19/
LOCATION:Soboroff Playfield\, 3980 S. Bill Robertson Lane\, Los Angeles\, CA\, 90037\, United States
END:VEVENT
BEGIN:VEVENT
DTSTART;TZID=America/Los_Angeles:20210518T210000
DTEND;TZID=America/Los_Angeles:20210518T223000
DTSTAMP:20260423T094728
CREATED:20210511T165912Z
LAST-MODIFIED:20210511T165912Z
UID:10051806-1621371600-1621377000@expositionpark.ca.gov
SUMMARY:Tri Color Soccer League
DESCRIPTION:
URL:https://expositionpark.ca.gov/event/tri-color-soccer-league-3/2021-05-18/
LOCATION:Soboroff Playfield\, 3980 S. Bill Robertson Lane\, Los Angeles\, CA\, 90037\, United States
END:VEVENT
END:VCALENDAR